BEGIN:VCALENDAR
VERSION:2.0
PRODID:-// - ECPv6.15.20//NONSGML v1.0//EN
CALSCALE:GREGORIAN
METHOD:PUBLISH
X-ORIGINAL-URL:https://speakofthedevillorain.com
X-WR-CALDESC:Events for 
REFRESH-INTERVAL;VALUE=DURATION:PT1H
X-Robots-Tag:noindex
X-PUBLISHED-TTL:PT1H
BEGIN:VTIMEZONE
TZID:America/New_York
BEGIN:DAYLIGHT
TZOFFSETFROM:-0500
TZOFFSETTO:-0400
TZNAME:EDT
DTSTART:20250309T070000
END:DAYLIGHT
BEGIN:STANDARD
TZOFFSETFROM:-0400
TZOFFSETTO:-0500
TZNAME:EST
DTSTART:20251102T060000
END:STANDARD
BEGIN:DAYLIGHT
TZOFFSETFROM:-0500
TZOFFSETTO:-0400
TZNAME:EDT
DTSTART:20260308T070000
END:DAYLIGHT
BEGIN:STANDARD
TZOFFSETFROM:-0400
TZOFFSETTO:-0500
TZNAME:EST
DTSTART:20261101T060000
END:STANDARD
BEGIN:DAYLIGHT
TZOFFSETFROM:-0500
TZOFFSETTO:-0400
TZNAME:EDT
DTSTART:20270314T070000
END:DAYLIGHT
BEGIN:STANDARD
TZOFFSETFROM:-0400
TZOFFSETTO:-0500
TZNAME:EST
DTSTART:20271107T060000
END:STANDARD
END:VTIMEZONE
BEGIN:VEVENT
DTSTART;TZID=America/New_York:20260128T070000
DTEND;TZID=America/New_York:20260128T220000
DTSTAMP:20260420T154100
CREATED:20251230T222921Z
LAST-MODIFIED:20251230T222921Z
UID:2912-1769583600-1769637600@speakofthedevillorain.com
SUMMARY:AMARO SCHOOL
DESCRIPTION:Join us at Speak of the Devil for Amaro School\, an engaging tasting experience exploring the history\, tradition\, and flavor of one of Italy’s most beloved (and misunderstood) spirits: amaro.\nFrom alpine herbs to sun-soaked citrus peels\, amari are deeply rooted in regional culture\, family recipes\, and centuries of medicinal tradition. During this guided session\, we’ll break down what amaro is\, how it’s made\, why there are so many styles\, and how it found its way from after-dinner digestif to modern cocktail staple.\nYou’ll taste a curated selection of amari spanning different regions and profiles — bitter\, sweet\, herbal\, floral\, smoky — while learning how to approach them with confidence\, whether neat\, on ice\, or in cocktails.\nThis class is perfect for the curious drinker\, cocktail enthusiasts\, and anyone who’s ever said\, “I don’t know if I like amaro… but I want to.”\n$20 gets you a seat in school\, a welcome cocktail and:• Guided tasting of multiple amari• History\, production methods\, and regional styles• How to drink and use amaro today• Plenty of time for questions and conversation\nCome ready to sip\, learn\, and maybe discover a new favorite.\nINBOX US on Facebook\, Instagram or speakofthedevilcocktails@gmail.com for you RSVP today!
URL:https://speakofthedevillorain.com/event/amaro-school/
LOCATION:Speak of the Devil\, 201 W 5th St\, Lorain\, OH\, 44052\, United States
ATTACH;FMTTYPE=image/jpeg:https://speakofthedevillorain.com/wp-content/uploads/2025/12/Happy-Fathers-Day2.jpg
END:VEVENT
END:VCALENDAR