BEGIN:VCALENDAR
VERSION:2.0
PRODID:-// - ECPv6.15.20//NONSGML v1.0//EN
CALSCALE:GREGORIAN
METHOD:PUBLISH
X-ORIGINAL-URL:https://speakofthedevillorain.com
X-WR-CALDESC:Events for 
REFRESH-INTERVAL;VALUE=DURATION:PT1H
X-Robots-Tag:noindex
X-PUBLISHED-TTL:PT1H
BEGIN:VTIMEZONE
TZID:America/New_York
BEGIN:DAYLIGHT
TZOFFSETFROM:-0500
TZOFFSETTO:-0400
TZNAME:EDT
DTSTART:20250309T070000
END:DAYLIGHT
BEGIN:STANDARD
TZOFFSETFROM:-0400
TZOFFSETTO:-0500
TZNAME:EST
DTSTART:20251102T060000
END:STANDARD
BEGIN:DAYLIGHT
TZOFFSETFROM:-0500
TZOFFSETTO:-0400
TZNAME:EDT
DTSTART:20260308T070000
END:DAYLIGHT
BEGIN:STANDARD
TZOFFSETFROM:-0400
TZOFFSETTO:-0500
TZNAME:EST
DTSTART:20261101T060000
END:STANDARD
BEGIN:DAYLIGHT
TZOFFSETFROM:-0500
TZOFFSETTO:-0400
TZNAME:EDT
DTSTART:20270314T070000
END:DAYLIGHT
BEGIN:STANDARD
TZOFFSETFROM:-0400
TZOFFSETTO:-0500
TZNAME:EST
DTSTART:20271107T060000
END:STANDARD
END:VTIMEZONE
BEGIN:VEVENT
DTSTART;TZID=America/New_York:20260204T170000
DTEND;TZID=America/New_York:20260204T220000
DTSTAMP:20260420T141511
CREATED:20251230T224536Z
LAST-MODIFIED:20251230T224536Z
UID:2934-1770224400-1770242400@speakofthedevillorain.com
SUMMARY:TIKI TAKEOVER: PEARL DIVER (NASHVILLE\, TN)
DESCRIPTION:TIKI WEEK BAR TAKEOVER at SPEAK OF THE DEVIL\nIt’s back — and this year we’re turning the volume all the way up.\nOur annual Tiki Week bar takeover returns to Speak of the Devil\, and we’re beyond excited to welcome the legendary Pearl Diver straight out of Nashville\, Tennessee behind our bar for one unforgettable night.\nFor this special takeover\, the Pearl Diver crew will be taking over our bar and slinging Pearl Diver cocktails all night long — bold\, tropical\, expertly balanced drinks that have made their bar a destination for tiki lovers nationwide. Expect rum-forward classics\, vibrant flavors\, and serious island escapism served with skill and swagger.\nThis is a rare chance to experience one of the country’s most respected tiki bars without leaving town — right here in the DownLo.\n\nPearl Diver behind the bar\, all night – Tiki cocktails done right – One-night-only menu – Laid-back island vibes in the heart of winter\nBONUS: Tiki vinyl spun by DJ Amy Asterisk!\nCome early\, stay late\, and let us transport you somewhere warm.Tiki Week is here — and this one’s going to be special.
URL:https://speakofthedevillorain.com/event/tiki-takeover-pearl-diver-nashville-tn/
LOCATION:Speak of the Devil\, 201 W 5th St\, Lorain\, OH\, 44052\, United States
ATTACH;FMTTYPE=image/jpeg:https://speakofthedevillorain.com/wp-content/uploads/2025/12/Merry-Christmas1.jpg
END:VEVENT
END:VCALENDAR