BEGIN:VCALENDAR
VERSION:2.0
PRODID:-// - ECPv6.15.20//NONSGML v1.0//EN
CALSCALE:GREGORIAN
METHOD:PUBLISH
X-ORIGINAL-URL:https://speakofthedevillorain.com
X-WR-CALDESC:Events for 
REFRESH-INTERVAL;VALUE=DURATION:PT1H
X-Robots-Tag:noindex
X-PUBLISHED-TTL:PT1H
BEGIN:VTIMEZONE
TZID:America/New_York
BEGIN:DAYLIGHT
TZOFFSETFROM:-0500
TZOFFSETTO:-0400
TZNAME:EDT
DTSTART:20250309T070000
END:DAYLIGHT
BEGIN:STANDARD
TZOFFSETFROM:-0400
TZOFFSETTO:-0500
TZNAME:EST
DTSTART:20251102T060000
END:STANDARD
BEGIN:DAYLIGHT
TZOFFSETFROM:-0500
TZOFFSETTO:-0400
TZNAME:EDT
DTSTART:20260308T070000
END:DAYLIGHT
BEGIN:STANDARD
TZOFFSETFROM:-0400
TZOFFSETTO:-0500
TZNAME:EST
DTSTART:20261101T060000
END:STANDARD
BEGIN:DAYLIGHT
TZOFFSETFROM:-0500
TZOFFSETTO:-0400
TZNAME:EDT
DTSTART:20270314T070000
END:DAYLIGHT
BEGIN:STANDARD
TZOFFSETFROM:-0400
TZOFFSETTO:-0500
TZNAME:EST
DTSTART:20271107T060000
END:STANDARD
END:VTIMEZONE
BEGIN:VEVENT
DTSTART;TZID=America/New_York:20260214T193000
DTEND;TZID=America/New_York:20260214T223000
DTSTAMP:20260420T143223
CREATED:20251230T224942Z
LAST-MODIFIED:20251230T232113Z
UID:2942-1771097400-1771108200@speakofthedevillorain.com
SUMMARY:THE MARTIN KENT JAZZ TRIO
DESCRIPTION:Spend Valentine’s Day wrapped in velvet sound and lovely\, lights low jazz.\nJoin us at Speak of the Devil as we welcome the Martin Kent Jazz Trio for a special Valentine’s Day performance.\nThe Martin Kent Jazz Trio brings classic\, soulful jazz—cool standards\, romantic melodies\, and just enough swing to keep your cocktails moving and the conversation lingering. It’s the kind of music that pairs perfectly with dim lights\, great drinks\, and someone you love (or someone you’re hoping to).\nWhether you’re celebrating a longtime romance\, a first date\, or simply your love of live jazz and expertly crafted cocktails\, this is Valentine’s Day done right—intimate\, timeless\, and a little bit devilish
URL:https://speakofthedevillorain.com/event/the-martin-kent-jazz-trio-2/
LOCATION:Speak of the Devil\, 201 W 5th St\, Lorain\, OH\, 44052\, United States
ATTACH;FMTTYPE=image/jpeg:https://speakofthedevillorain.com/wp-content/uploads/2025/12/jazz1.jpg
END:VEVENT
END:VCALENDAR