BEGIN:VCALENDAR
VERSION:2.0
PRODID:-// - ECPv6.15.20//NONSGML v1.0//EN
CALSCALE:GREGORIAN
METHOD:PUBLISH
X-ORIGINAL-URL:https://speakofthedevillorain.com
X-WR-CALDESC:Events for 
REFRESH-INTERVAL;VALUE=DURATION:PT1H
X-Robots-Tag:noindex
X-PUBLISHED-TTL:PT1H
BEGIN:VTIMEZONE
TZID:America/New_York
BEGIN:DAYLIGHT
TZOFFSETFROM:-0500
TZOFFSETTO:-0400
TZNAME:EDT
DTSTART:20250309T070000
END:DAYLIGHT
BEGIN:STANDARD
TZOFFSETFROM:-0400
TZOFFSETTO:-0500
TZNAME:EST
DTSTART:20251102T060000
END:STANDARD
BEGIN:DAYLIGHT
TZOFFSETFROM:-0500
TZOFFSETTO:-0400
TZNAME:EDT
DTSTART:20260308T070000
END:DAYLIGHT
BEGIN:STANDARD
TZOFFSETFROM:-0400
TZOFFSETTO:-0500
TZNAME:EST
DTSTART:20261101T060000
END:STANDARD
BEGIN:DAYLIGHT
TZOFFSETFROM:-0500
TZOFFSETTO:-0400
TZNAME:EDT
DTSTART:20270314T070000
END:DAYLIGHT
BEGIN:STANDARD
TZOFFSETFROM:-0400
TZOFFSETTO:-0500
TZNAME:EST
DTSTART:20271107T060000
END:STANDARD
END:VTIMEZONE
BEGIN:VEVENT
DTSTART;TZID=America/New_York:20260228T193000
DTEND;TZID=America/New_York:20260228T223000
DTSTAMP:20260420T141613
CREATED:20251230T230209Z
LAST-MODIFIED:20251230T230209Z
UID:2953-1772307000-1772317800@speakofthedevillorain.com
SUMMARY:ANTHONY SCROFANO
DESCRIPTION:Join us at Speak of the Devil as we welcome Anthony Scrofano back to the stage for an evening of beautiful originals\, alt rock covers\, and beautifully worn-in melodies.\nAnthony’s performances are equal parts heartfelt and effortless—songs that feel lived-in\, delivered with warmth\, wit\, and just enough edge to keep you leaning in. It’s the perfect pairing for dim lights\, a well-made cocktail\, and a night spent in good company.\nCome early\, grab a seat\, and let the night unfold
URL:https://speakofthedevillorain.com/event/anthony-scrofano-16/
LOCATION:Speak of the Devil\, 201 W 5th St\, Lorain\, OH\, 44052\, United States
ATTACH;FMTTYPE=image/jpeg:https://speakofthedevillorain.com/wp-content/uploads/2025/12/Dylan1.jpg
END:VEVENT
END:VCALENDAR