BEGIN:VCALENDAR
VERSION:2.0
PRODID:-// - ECPv6.15.20//NONSGML v1.0//EN
CALSCALE:GREGORIAN
METHOD:PUBLISH
X-ORIGINAL-URL:https://speakofthedevillorain.com
X-WR-CALDESC:Events for 
REFRESH-INTERVAL;VALUE=DURATION:PT1H
X-Robots-Tag:noindex
X-PUBLISHED-TTL:PT1H
BEGIN:VTIMEZONE
TZID:America/New_York
BEGIN:DAYLIGHT
TZOFFSETFROM:-0500
TZOFFSETTO:-0400
TZNAME:EDT
DTSTART:20250309T070000
END:DAYLIGHT
BEGIN:STANDARD
TZOFFSETFROM:-0400
TZOFFSETTO:-0500
TZNAME:EST
DTSTART:20251102T060000
END:STANDARD
BEGIN:DAYLIGHT
TZOFFSETFROM:-0500
TZOFFSETTO:-0400
TZNAME:EDT
DTSTART:20260308T070000
END:DAYLIGHT
BEGIN:STANDARD
TZOFFSETFROM:-0400
TZOFFSETTO:-0500
TZNAME:EST
DTSTART:20261101T060000
END:STANDARD
BEGIN:DAYLIGHT
TZOFFSETFROM:-0500
TZOFFSETTO:-0400
TZNAME:EDT
DTSTART:20270314T070000
END:DAYLIGHT
BEGIN:STANDARD
TZOFFSETFROM:-0400
TZOFFSETTO:-0500
TZNAME:EST
DTSTART:20271107T060000
END:STANDARD
END:VTIMEZONE
BEGIN:VEVENT
DTSTART;TZID=America/New_York:20260414T170000
DTEND;TZID=America/New_York:20260414T220000
DTSTAMP:20260420T114339
CREATED:20260213T151243Z
LAST-MODIFIED:20260213T151243Z
UID:2982-1776186000-1776204000@speakofthedevillorain.com
SUMMARY:TURNTABLE TUESDAY
DESCRIPTION:Turntable Tuesday – we and our friends from Ship to Shore Books & Music let the records do the talking. Turntable Tuesday is our monthly vinyl night — an easygoing evening built around great music\, good drinks\, and the simple joy of hearing records the way they were meant to be played.\nExpect a thoughtfully curated crate of vinyl for you to choose from – or – bring your own vinyl and we will keep things spinning all night. No DJs\, no laptops — just turntables\, needle drops\, and conversation.\nPair the music with our Tuesday Night Cocktail Club offerings and settle in for one of our favorite nights of the month!
URL:https://speakofthedevillorain.com/event/turntable-tuesday-27/
LOCATION:Speak of the Devil\, 201 W 5th St\, Lorain\, OH\, 44052\, United States
ATTACH;FMTTYPE=image/jpeg:https://speakofthedevillorain.com/wp-content/uploads/2025/09/513972862_1287978036666558_9066481153760055704_n.jpg
END:VEVENT
END:VCALENDAR