BEGIN:VCALENDAR
VERSION:2.0
PRODID:-// - ECPv6.15.20//NONSGML v1.0//EN
CALSCALE:GREGORIAN
METHOD:PUBLISH
X-ORIGINAL-URL:https://speakofthedevillorain.com
X-WR-CALDESC:Events for 
REFRESH-INTERVAL;VALUE=DURATION:PT1H
X-Robots-Tag:noindex
X-PUBLISHED-TTL:PT1H
BEGIN:VTIMEZONE
TZID:America/New_York
BEGIN:DAYLIGHT
TZOFFSETFROM:-0500
TZOFFSETTO:-0400
TZNAME:EDT
DTSTART:20250309T070000
END:DAYLIGHT
BEGIN:STANDARD
TZOFFSETFROM:-0400
TZOFFSETTO:-0500
TZNAME:EST
DTSTART:20251102T060000
END:STANDARD
BEGIN:DAYLIGHT
TZOFFSETFROM:-0500
TZOFFSETTO:-0400
TZNAME:EDT
DTSTART:20260308T070000
END:DAYLIGHT
BEGIN:STANDARD
TZOFFSETFROM:-0400
TZOFFSETTO:-0500
TZNAME:EST
DTSTART:20261101T060000
END:STANDARD
BEGIN:DAYLIGHT
TZOFFSETFROM:-0500
TZOFFSETTO:-0400
TZNAME:EDT
DTSTART:20270314T070000
END:DAYLIGHT
BEGIN:STANDARD
TZOFFSETFROM:-0400
TZOFFSETTO:-0500
TZNAME:EST
DTSTART:20271107T060000
END:STANDARD
END:VTIMEZONE
BEGIN:VEVENT
DTSTART;TZID=America/New_York:20260506T190000
DTEND;TZID=America/New_York:20260506T200000
DTSTAMP:20260420T130437
CREATED:20260316T205233Z
LAST-MODIFIED:20260316T205233Z
UID:3020-1778094000-1778097600@speakofthedevillorain.com
SUMMARY:BARREL SCHOOL WITH RIVER ROOTS BARREL COMPANY
DESCRIPTION:Join us Wednesday\, May 6 at 7pm at Speak of the Devil for Barrel School with Tim Harnett of River Roots Barrel Company.\n\nRiver Roots is a Cleveland-based boutique spirits company focused on sourcing\, curating\, and bottling premium single-barrel bourbons\, ryes\, and whiskies. Their work lives at the intersection of craft and obsession—finding exceptional barrels\, blending them thoughtfully\, and sometimes giving them new life through secondary finishing.\n\nTim will take us inside the barrel selection process\, sharing how River Roots identifies standout whiskey\, what they look for when choosing barrels\, and how blending and finishing can transform a great spirit into something truly special.\n\nYour $25 ticket gets you settled in with a welcome cocktail\, ½ oz pours of River Roots’ house bourbon and rye\, and a ½ oz pour of a super-premium River Roots selection of your choice to finish things off.\n\nWhether you’re a serious whiskey nerd or just curious how the magic happens between barrel and bottle\, this is a rare chance to hear directly from someone doing the work.\n\nSeats are limited\, RSVP with us via DM on social media\, email speakofthedevilcocktails@gmail.com\, or tell your bartender/server!
URL:https://speakofthedevillorain.com/event/barrel-school-with-river-roots-barrel-company/
LOCATION:Speak of the Devil\, 201 W 5th St\, Lorain\, OH\, 44052\, United States
ATTACH;FMTTYPE=image/png:https://speakofthedevillorain.com/wp-content/uploads/2026/03/Gemini_Generated_Image_veesh7veesh7vees.png
END:VEVENT
END:VCALENDAR