BEGIN:VCALENDAR
VERSION:2.0
PRODID:-// - ECPv6.15.20//NONSGML v1.0//EN
CALSCALE:GREGORIAN
METHOD:PUBLISH
X-ORIGINAL-URL:https://speakofthedevillorain.com
X-WR-CALDESC:Events for 
REFRESH-INTERVAL;VALUE=DURATION:PT1H
X-Robots-Tag:noindex
X-PUBLISHED-TTL:PT1H
BEGIN:VTIMEZONE
TZID:America/New_York
BEGIN:DAYLIGHT
TZOFFSETFROM:-0500
TZOFFSETTO:-0400
TZNAME:EDT
DTSTART:20250309T070000
END:DAYLIGHT
BEGIN:STANDARD
TZOFFSETFROM:-0400
TZOFFSETTO:-0500
TZNAME:EST
DTSTART:20251102T060000
END:STANDARD
BEGIN:DAYLIGHT
TZOFFSETFROM:-0500
TZOFFSETTO:-0400
TZNAME:EDT
DTSTART:20260308T070000
END:DAYLIGHT
BEGIN:STANDARD
TZOFFSETFROM:-0400
TZOFFSETTO:-0500
TZNAME:EST
DTSTART:20261101T060000
END:STANDARD
BEGIN:DAYLIGHT
TZOFFSETFROM:-0500
TZOFFSETTO:-0400
TZNAME:EDT
DTSTART:20270314T070000
END:DAYLIGHT
BEGIN:STANDARD
TZOFFSETFROM:-0400
TZOFFSETTO:-0500
TZNAME:EST
DTSTART:20271107T060000
END:STANDARD
END:VTIMEZONE
BEGIN:VEVENT
DTSTART;TZID=America/New_York:20260606T170000
DTEND;TZID=America/New_York:20260606T235900
DTSTAMP:20260420T130331
CREATED:20260417T140046Z
LAST-MODIFIED:20260417T142209Z
UID:3039-1780765200-1780790340@speakofthedevillorain.com
SUMMARY:PRINCE'S BIRTHDAY NIGHT
DESCRIPTION:Dearly beloved\, we are gathered here tonight to get through this thing called life.\n\nJoin us for a night dedicated to the music of Prince in celebration of what would have been his 68th birthday.\n\nWe will be filling the room with Prince all night long. The hits\, the deep cuts\, the funky stuff\, the sexy stuff\, the weird stuff\, the songs that somehow still sound like they came from the future.\n\nCome raise a glass with us\, sing along if the mood strikes and spend the evening celebrating one of the greatest\, coolest and most original artists to ever do it
URL:https://speakofthedevillorain.com/event/princes-birthday-night/
LOCATION:Speak of the Devil\, 201 W 5th St\, Lorain\, OH\, 44052\, United States
ATTACH;FMTTYPE=image/jpeg:https://speakofthedevillorain.com/wp-content/uploads/2026/04/ppe.jpg
END:VEVENT
END:VCALENDAR