BEGIN:VCALENDAR
VERSION:2.0
PRODID:-// - ECPv6.15.20//NONSGML v1.0//EN
CALSCALE:GREGORIAN
METHOD:PUBLISH
X-ORIGINAL-URL:https://speakofthedevillorain.com
X-WR-CALDESC:Events for 
REFRESH-INTERVAL;VALUE=DURATION:PT1H
X-Robots-Tag:noindex
X-PUBLISHED-TTL:PT1H
BEGIN:VTIMEZONE
TZID:America/New_York
BEGIN:DAYLIGHT
TZOFFSETFROM:-0500
TZOFFSETTO:-0400
TZNAME:EDT
DTSTART:20250309T070000
END:DAYLIGHT
BEGIN:STANDARD
TZOFFSETFROM:-0400
TZOFFSETTO:-0500
TZNAME:EST
DTSTART:20251102T060000
END:STANDARD
BEGIN:DAYLIGHT
TZOFFSETFROM:-0500
TZOFFSETTO:-0400
TZNAME:EDT
DTSTART:20260308T070000
END:DAYLIGHT
BEGIN:STANDARD
TZOFFSETFROM:-0400
TZOFFSETTO:-0500
TZNAME:EST
DTSTART:20261101T060000
END:STANDARD
BEGIN:DAYLIGHT
TZOFFSETFROM:-0500
TZOFFSETTO:-0400
TZNAME:EDT
DTSTART:20270314T070000
END:DAYLIGHT
BEGIN:STANDARD
TZOFFSETFROM:-0400
TZOFFSETTO:-0500
TZNAME:EST
DTSTART:20271107T060000
END:STANDARD
END:VTIMEZONE
BEGIN:VEVENT
DTSTART;TZID=America/New_York:20260611T183000
DTEND;TZID=America/New_York:20260611T200000
DTSTAMP:20260420T144416
CREATED:20260417T140339Z
LAST-MODIFIED:20260417T140339Z
UID:3045-1781202600-1781208000@speakofthedevillorain.com
SUMMARY:BOOKS & BREWS: "REVOLUTIONARY ROAD" - RICHARD YATES
DESCRIPTION:This month at Books & Brews\, we are diving into Richard Yates’ classic novel Revolutionary Road. \nSet in the suburbs of the 1950s\, it is a sharp\, sad\, brutally honest look at marriage\, ambition\, disappointment and the quiet panic of realizing your life may not look the way you once imagined it would. It is funny in places\, heartbreaking in others and still feels remarkably modern all these years later. \nIf you have ever looked around and wondered “is this really it?” this is probably the book for you. \nJoin us for good conversation\, cocktails and another great night with our friends at the Lorain Public Library.
URL:https://speakofthedevillorain.com/event/books-brews-revolutionary-road-richard-yates/
LOCATION:Speak of the Devil\, 201 W 5th St\, Lorain\, OH\, 44052\, United States
ATTACH;FMTTYPE=image/jpeg:https://speakofthedevillorain.com/wp-content/uploads/2024/03/429780136_912590617538637_6219091756627812402_n.jpg
END:VEVENT
END:VCALENDAR