BEGIN:VCALENDAR
VERSION:2.0
PRODID:-// - ECPv6.15.20//NONSGML v1.0//EN
CALSCALE:GREGORIAN
METHOD:PUBLISH
X-ORIGINAL-URL:https://speakofthedevillorain.com
X-WR-CALDESC:Events for 
REFRESH-INTERVAL;VALUE=DURATION:PT1H
X-Robots-Tag:noindex
X-PUBLISHED-TTL:PT1H
BEGIN:VTIMEZONE
TZID:America/New_York
BEGIN:DAYLIGHT
TZOFFSETFROM:-0500
TZOFFSETTO:-0400
TZNAME:EDT
DTSTART:20250309T070000
END:DAYLIGHT
BEGIN:STANDARD
TZOFFSETFROM:-0400
TZOFFSETTO:-0500
TZNAME:EST
DTSTART:20251102T060000
END:STANDARD
BEGIN:DAYLIGHT
TZOFFSETFROM:-0500
TZOFFSETTO:-0400
TZNAME:EDT
DTSTART:20260308T070000
END:DAYLIGHT
BEGIN:STANDARD
TZOFFSETFROM:-0400
TZOFFSETTO:-0500
TZNAME:EST
DTSTART:20261101T060000
END:STANDARD
BEGIN:DAYLIGHT
TZOFFSETFROM:-0500
TZOFFSETTO:-0400
TZNAME:EDT
DTSTART:20270314T070000
END:DAYLIGHT
BEGIN:STANDARD
TZOFFSETFROM:-0400
TZOFFSETTO:-0500
TZNAME:EST
DTSTART:20271107T060000
END:STANDARD
END:VTIMEZONE
BEGIN:VEVENT
DTSTART;TZID=America/New_York:20260620T193000
DTEND;TZID=America/New_York:20260620T223000
DTSTAMP:20260420T143816
CREATED:20260417T140836Z
LAST-MODIFIED:20260417T140836Z
UID:3050-1781983800-1781994600@speakofthedevillorain.com
SUMMARY:THE AIDAN PLANK JAZZ COMBO
DESCRIPTION:Aidan Plank is one of the most exciting jazz musicians around right now\, and we are thrilled to welcome his jazz combo to Speak of the Devil.\n\nAn Ohio-based bassist\, composer and educator\, Aidan has built a reputation for his lithe musicality\, inventive playing and ability to move effortlessly between intimate small-group jazz and larger ensemble work.\n\nHis group brings together everything we love about a great jazz night: sharp musicianship\, cool improvisation and that feeling that anything can happen once the music gets rolling.\n\nIf you like jazz that feels alive\, loose and just a little unpredictable\, this is a night worth making time for.\n\nMusic starts at 7:30pm. Come early\, grab a cocktail and settle in
URL:https://speakofthedevillorain.com/event/the-aidan-plank-jazz-combo/
LOCATION:Speak of the Devil\, 201 W 5th St\, Lorain\, OH\, 44052\, United States
ATTACH;FMTTYPE=image/jpeg:https://speakofthedevillorain.com/wp-content/uploads/2026/04/Collage-Tea-Time-With-Mom-Facebook-Event-Cover2.jpg
END:VEVENT
END:VCALENDAR