BEGIN:VCALENDAR
VERSION:2.0
PRODID:-// - ECPv6.15.20//NONSGML v1.0//EN
CALSCALE:GREGORIAN
METHOD:PUBLISH
X-ORIGINAL-URL:https://speakofthedevillorain.com
X-WR-CALDESC:Events for 
REFRESH-INTERVAL;VALUE=DURATION:PT1H
X-Robots-Tag:noindex
X-PUBLISHED-TTL:PT1H
BEGIN:VTIMEZONE
TZID:America/New_York
BEGIN:DAYLIGHT
TZOFFSETFROM:-0500
TZOFFSETTO:-0400
TZNAME:EDT
DTSTART:20250309T070000
END:DAYLIGHT
BEGIN:STANDARD
TZOFFSETFROM:-0400
TZOFFSETTO:-0500
TZNAME:EST
DTSTART:20251102T060000
END:STANDARD
BEGIN:DAYLIGHT
TZOFFSETFROM:-0500
TZOFFSETTO:-0400
TZNAME:EDT
DTSTART:20260308T070000
END:DAYLIGHT
BEGIN:STANDARD
TZOFFSETFROM:-0400
TZOFFSETTO:-0500
TZNAME:EST
DTSTART:20261101T060000
END:STANDARD
BEGIN:DAYLIGHT
TZOFFSETFROM:-0500
TZOFFSETTO:-0400
TZNAME:EDT
DTSTART:20270314T070000
END:DAYLIGHT
BEGIN:STANDARD
TZOFFSETFROM:-0400
TZOFFSETTO:-0500
TZNAME:EST
DTSTART:20271107T060000
END:STANDARD
END:VTIMEZONE
BEGIN:VEVENT
DTSTART;TZID=America/New_York:20260627T193000
DTEND;TZID=America/New_York:20260627T223000
DTSTAMP:20260420T144503
CREATED:20260417T141220Z
LAST-MODIFIED:20260417T141220Z
UID:3055-1782588600-1782599400@speakofthedevillorain.com
SUMMARY:DJ TEDDY EISENBERG: GLOBAL GROOVE
DESCRIPTION:Lorain’s International Festival weekend deserves a soundtrack that travels a little.\n\nOn Friday night\, DJ Teddy Eisenberg returns to Speak of the Devil with an all vinyl set built for the occasion. Soul\, psych\, funk\, jazz\, garage\, disco\, world grooves and odd little gems from all over the map\, all spun the way they were meant to be spun: on records\, with a little crackle in the speakers and a drink in your hand.\n\nTeddy always knows how to turn the room into something special. One minute it feels like downtown Lorain\, the next minute it feels like you wandered into some hidden basement bar in another city entirely.\n\nIt is International Festival weekend\, after all. Might as well let the music travel too.\n\nMusic starts at 7:30PM. No cover. Just good records\, good cocktails and a Friday night in Lorain that feels a little bigger than usual
URL:https://speakofthedevillorain.com/event/dj-teddy-eisenberg-global-groove/
LOCATION:Speak of the Devil\, 201 W 5th St\, Lorain\, OH\, 44052\, United States
ATTACH;FMTTYPE=image/jpeg:https://speakofthedevillorain.com/wp-content/uploads/2026/04/Collage-Tea-Time-With-Mom-Facebook-Event-Cover3.jpg
END:VEVENT
END:VCALENDAR