BEGIN:VCALENDAR
VERSION:2.0
PRODID:-// - ECPv6.15.20//NONSGML v1.0//EN
CALSCALE:GREGORIAN
METHOD:PUBLISH
X-ORIGINAL-URL:https://speakofthedevillorain.com
X-WR-CALDESC:Events for 
REFRESH-INTERVAL;VALUE=DURATION:PT1H
X-Robots-Tag:noindex
X-PUBLISHED-TTL:PT1H
BEGIN:VTIMEZONE
TZID:America/New_York
BEGIN:DAYLIGHT
TZOFFSETFROM:-0500
TZOFFSETTO:-0400
TZNAME:EDT
DTSTART:20250309T070000
END:DAYLIGHT
BEGIN:STANDARD
TZOFFSETFROM:-0400
TZOFFSETTO:-0500
TZNAME:EST
DTSTART:20251102T060000
END:STANDARD
BEGIN:DAYLIGHT
TZOFFSETFROM:-0500
TZOFFSETTO:-0400
TZNAME:EDT
DTSTART:20260308T070000
END:DAYLIGHT
BEGIN:STANDARD
TZOFFSETFROM:-0400
TZOFFSETTO:-0500
TZNAME:EST
DTSTART:20261101T060000
END:STANDARD
BEGIN:DAYLIGHT
TZOFFSETFROM:-0500
TZOFFSETTO:-0400
TZNAME:EDT
DTSTART:20270314T070000
END:DAYLIGHT
BEGIN:STANDARD
TZOFFSETFROM:-0400
TZOFFSETTO:-0500
TZNAME:EST
DTSTART:20271107T060000
END:STANDARD
END:VTIMEZONE
BEGIN:VEVENT
DTSTART;TZID=America/New_York:20260628T140000
DTEND;TZID=America/New_York:20260628T190000
DTSTAMP:20260420T144418
CREATED:20260417T141404Z
LAST-MODIFIED:20260417T142646Z
UID:3058-1782655200-1782673200@speakofthedevillorain.com
SUMMARY:ICE CREAM COCKTAIL SOCIAL
DESCRIPTION:Booze and ice cream? Come on. Of course.\n\nOur annual Ice Cream (Cocktails) Social returns with a menu full of frozen\, creamy\, boozy nonsense in the very best possible way. Ice cream cocktails are one of those glorious old-school bar traditions that deserve way more love than they get\, and once a year we lean all the way in.\n\nRidiculous ice cream cocktail creations that remind you that adulthood does occasionally have its perks.\n\nIt is sweet\, it is cold\, it is probably a little over the top\, and it is always one of the most fun weekends of the summer around here.\n\nSo yes. Booze and ice cream. We are doing this again.
URL:https://speakofthedevillorain.com/event/ice-cream-cocktail-social-3/
LOCATION:Speak of the Devil\, 201 W 5th St\, Lorain\, OH\, 44052\, United States
ATTACH;FMTTYPE=image/jpeg:https://speakofthedevillorain.com/wp-content/uploads/2026/04/ICE-CREAM-PARTY-BANNER.jpg
END:VEVENT
END:VCALENDAR