BEGIN:VCALENDAR
VERSION:2.0
PRODID:-// - ECPv6.15.20//NONSGML v1.0//EN
CALSCALE:GREGORIAN
METHOD:PUBLISH
X-ORIGINAL-URL:https://speakofthedevillorain.com
X-WR-CALDESC:Events for 
REFRESH-INTERVAL;VALUE=DURATION:PT1H
X-Robots-Tag:noindex
X-PUBLISHED-TTL:PT1H
BEGIN:VTIMEZONE
TZID:America/New_York
BEGIN:DAYLIGHT
TZOFFSETFROM:-0500
TZOFFSETTO:-0400
TZNAME:EDT
DTSTART:20240310T070000
END:DAYLIGHT
BEGIN:STANDARD
TZOFFSETFROM:-0400
TZOFFSETTO:-0500
TZNAME:EST
DTSTART:20241103T060000
END:STANDARD
BEGIN:DAYLIGHT
TZOFFSETFROM:-0500
TZOFFSETTO:-0400
TZNAME:EDT
DTSTART:20250309T070000
END:DAYLIGHT
BEGIN:STANDARD
TZOFFSETFROM:-0400
TZOFFSETTO:-0500
TZNAME:EST
DTSTART:20251102T060000
END:STANDARD
BEGIN:DAYLIGHT
TZOFFSETFROM:-0500
TZOFFSETTO:-0400
TZNAME:EDT
DTSTART:20260308T070000
END:DAYLIGHT
BEGIN:STANDARD
TZOFFSETFROM:-0400
TZOFFSETTO:-0500
TZNAME:EST
DTSTART:20261101T060000
END:STANDARD
BEGIN:DAYLIGHT
TZOFFSETFROM:-0500
TZOFFSETTO:-0400
TZNAME:EDT
DTSTART:20270314T070000
END:DAYLIGHT
BEGIN:STANDARD
TZOFFSETFROM:-0400
TZOFFSETTO:-0500
TZNAME:EST
DTSTART:20271107T060000
END:STANDARD
END:VTIMEZONE
BEGIN:VEVENT
DTSTART;TZID=America/New_York:20251029T190000
DTEND;TZID=America/New_York:20251029T200000
DTSTAMP:20260421T014410
CREATED:20251022T174346Z
LAST-MODIFIED:20251022T174346Z
UID:2866-1761764400-1761768000@speakofthedevillorain.com
SUMMARY:GIN SCHOOL 2
DESCRIPTION:This ain’t your grandpa’s gin. Spend an evening exploring new styles of gins aka new world/western gins and learn just how much the spirit has evolved in recent years! $20 gets you the flight\, a gin welcome cocktail and the education! RSVP by inboxing us on Facebook\, emailing speakofthedevilcocktails@gmail.com\, or tell your bartender or server that you would like to attend this cool and fun evening with the booze nerds!
URL:https://speakofthedevillorain.com/event/gin-school-2/
LOCATION:Speak of the Devil\, 201 W 5th St\, Lorain\, OH\, 44052\, United States
ATTACH;FMTTYPE=image/jpeg:https://speakofthedevillorain.com/wp-content/uploads/2025/10/Happy-Fathers-Day2.jpg
END:VEVENT
BEGIN:VEVENT
DTSTART;TZID=America/New_York:20251030T200000
DTEND;TZID=America/New_York:20251030T220000
DTSTAMP:20260421T014410
CREATED:20251022T183929Z
LAST-MODIFIED:20251022T183929Z
UID:2875-1761854400-1761861600@speakofthedevillorain.com
SUMMARY:MOVIE NIGHT: RE-ANIMATOR
DESCRIPTION:Movie nights at Speak of the Devil are back from the dead! October is the eternal horror classic “Re-Animator” Brought to you by Lorain Cinematheque and Mark “Fletch” Fletcher.
URL:https://speakofthedevillorain.com/event/movie-night-re-animator/
LOCATION:Speak of the Devil\, 201 W 5th St\, Lorain\, OH\, 44052\, United States
ATTACH;FMTTYPE=image/jpeg:https://speakofthedevillorain.com/wp-content/uploads/2025/10/Comedy-Comedian-Stand-up-Show-Night-Club-Ad.jpg
END:VEVENT
BEGIN:VEVENT
DTSTART;TZID=America/New_York:20251031T193000
DTEND;TZID=America/New_York:20251031T223000
DTSTAMP:20260421T014410
CREATED:20250811T200823Z
LAST-MODIFIED:20250811T200823Z
UID:2805-1761939000-1761949800@speakofthedevillorain.com
SUMMARY:DJ KUNG FU BOB SPEHAR'S HALLOWEEN SPECIAL
DESCRIPTION:Cleveland legend DJ Kung Fu Bob spins records\, cd’s and cassette tapes! Seriously – and it is wildly fun every time! Drop in to Halloween hang with DJ Kung Fu and the SOTD staff!!
URL:https://speakofthedevillorain.com/event/dj-kung-fu-bob-spehars-halloween-special/
LOCATION:Speak of the Devil\, 201 W 5th St\, Lorain\, OH\, 44052\, United States
ATTACH;FMTTYPE=image/jpeg:https://speakofthedevillorain.com/wp-content/uploads/2025/08/Black-Maximalist-Juneteenth-Banner-Facebook.jpg
END:VEVENT
BEGIN:VEVENT
DTSTART;TZID=America/New_York:20251101T193000
DTEND;TZID=America/New_York:20251101T223000
DTSTAMP:20260421T014410
CREATED:20250902T144703Z
LAST-MODIFIED:20250902T144703Z
UID:2809-1762025400-1762036200@speakofthedevillorain.com
SUMMARY:AUSTIN 'WALKIN' CANE
DESCRIPTION:Rock\, roots and blues fused together into the unmistakable sound of Austin ‘Walkin’ Cane
URL:https://speakofthedevillorain.com/event/austin-walkin-cane-12/
LOCATION:Speak of the Devil\, 201 W 5th St\, Lorain\, OH\, 44052\, United States
ATTACH;FMTTYPE=image/jpeg:https://speakofthedevillorain.com/wp-content/uploads/2025/09/Copy-of-Live-music.jpg
END:VEVENT
BEGIN:VEVENT
DTSTART;TZID=America/New_York:20251111T170000
DTEND;TZID=America/New_York:20251111T220000
DTSTAMP:20260421T014410
CREATED:20250902T144840Z
LAST-MODIFIED:20250902T144840Z
UID:2812-1762880400-1762898400@speakofthedevillorain.com
SUMMARY:TURNTABLE TUESDAY
DESCRIPTION:Join us and our friends from Ship to Shore Books & Music for a night of music on vinyl! Bring your own records and we will spin sides or tracks! Choose from our carefully curated crates. Shop Ship to Shore’s pop up shop under the chandelier!
URL:https://speakofthedevillorain.com/event/turntable-tuesday-22/
LOCATION:Speak of the Devil\, 201 W 5th St\, Lorain\, OH\, 44052\, United States
ATTACH;FMTTYPE=image/jpeg:https://speakofthedevillorain.com/wp-content/uploads/2025/09/513972862_1287978036666558_9066481153760055704_n.jpg
END:VEVENT
BEGIN:VEVENT
DTSTART;TZID=America/New_York:20251113T183000
DTEND;TZID=America/New_York:20251113T200000
DTSTAMP:20260421T014410
CREATED:20250902T144954Z
LAST-MODIFIED:20250902T144954Z
UID:2815-1763058600-1763064000@speakofthedevillorain.com
SUMMARY:BOOKS & BREWS
DESCRIPTION:Join us and our amazing Lorain Public Library book club as we discuss “Wandering Stars” by Tommy Orange
URL:https://speakofthedevillorain.com/event/books-brews-25/
LOCATION:Speak of the Devil\, 201 W 5th St\, Lorain\, OH\, 44052\, United States
ATTACH;FMTTYPE=image/jpeg:https://speakofthedevillorain.com/wp-content/uploads/2024/03/429780136_912590617538637_6219091756627812402_n.jpg
END:VEVENT
BEGIN:VEVENT
DTSTART;TZID=America/New_York:20251115T193000
DTEND;TZID=America/New_York:20251115T223000
DTSTAMP:20260421T014410
CREATED:20250902T145117Z
LAST-MODIFIED:20250902T145117Z
UID:2817-1763235000-1763245800@speakofthedevillorain.com
SUMMARY:KRISTINE JACKSON
DESCRIPTION:The inimitable KJ – Kristine Jackson returns to the SOTD stage!
URL:https://speakofthedevillorain.com/event/kristine-jackson-8/
LOCATION:Speak of the Devil\, 201 W 5th St\, Lorain\, OH\, 44052\, United States
ATTACH;FMTTYPE=image/jpeg:https://speakofthedevillorain.com/wp-content/uploads/2025/09/MUSIC-BANNER.jpg
END:VEVENT
BEGIN:VEVENT
DTSTART;TZID=America/New_York:20251119T170000
DTEND;TZID=America/New_York:20251119T220000
DTSTAMP:20260421T014410
CREATED:20251024T173235Z
LAST-MODIFIED:20251024T173235Z
UID:2878-1763571600-1763589600@speakofthedevillorain.com
SUMMARY:WINES OF THE HOLIDAYS
DESCRIPTION:Join us and our old friend Mary Ellen as we tour the Pacific Northwest for the perfect wines for Thanksgiving\, Christmas\, and New Years!
URL:https://speakofthedevillorain.com/event/wines-of-the-holidays-2/
LOCATION:Speak of the Devil\, 201 W 5th St\, Lorain\, OH\, 44052\, United States
ATTACH;FMTTYPE=image/jpeg:https://speakofthedevillorain.com/wp-content/uploads/2025/10/wines.jpg
END:VEVENT
BEGIN:VEVENT
DTSTART;TZID=America/New_York:20251120T190000
DTEND;TZID=America/New_York:20251120T220000
DTSTAMP:20260421T014410
CREATED:20250902T145256Z
LAST-MODIFIED:20250902T145256Z
UID:2820-1763665200-1763676000@speakofthedevillorain.com
SUMMARY:COCKTAIL KARAOKE: GUILTY PLEASURES
DESCRIPTION:Karaoke Khrist hosts another night of you being the star that you know you are! Get on the mic and sing your heart out\, guilty pleasures style!
URL:https://speakofthedevillorain.com/event/cocktail-karaoke-guilty-pleasures/
LOCATION:Speak of the Devil\, 201 W 5th St\, Lorain\, OH\, 44052\, United States
ATTACH;FMTTYPE=image/jpeg:https://speakofthedevillorain.com/wp-content/uploads/2025/02/KARAOKE-KHRISTMAS.jpg
END:VEVENT
BEGIN:VEVENT
DTSTART;TZID=America/New_York:20251122T193000
DTEND;TZID=America/New_York:20251122T223000
DTSTAMP:20260421T014410
CREATED:20250902T145427Z
LAST-MODIFIED:20250902T145427Z
UID:2823-1763839800-1763850600@speakofthedevillorain.com
SUMMARY:RAY FLANAGAN
DESCRIPTION:Join us in welcoming long time Cleveland music veteran Ray Flanagan to Speak of the Devil for the first time!
URL:https://speakofthedevillorain.com/event/ray-flanagan/
LOCATION:Speak of the Devil\, 201 W 5th St\, Lorain\, OH\, 44052\, United States
ATTACH;FMTTYPE=image/jpeg:https://speakofthedevillorain.com/wp-content/uploads/2025/09/Online-Music-Show-Facebook-Shared-Image.jpg
END:VEVENT
BEGIN:VEVENT
DTSTART;TZID=America/New_York:20251125T190000
DTEND;TZID=America/New_York:20251125T210000
DTSTAMP:20260421T014410
CREATED:20251024T173428Z
LAST-MODIFIED:20251024T173428Z
UID:2881-1764097200-1764104400@speakofthedevillorain.com
SUMMARY:MOVIE NIGHT: THE BIG LEBOWSKI
DESCRIPTION:It’s movie night at the Devil! Join us as we screen the cult legend – “The Big Lebowski”!
URL:https://speakofthedevillorain.com/event/movie-night-the-big-lebowski/
LOCATION:Speak of the Devil\, 201 W 5th St\, Lorain\, OH\, 44052\, United States
ATTACH;FMTTYPE=image/jpeg:https://speakofthedevillorain.com/wp-content/uploads/2025/10/Comedy-Comedian-Stand-up-Show-Night-Club-Ad1.jpg
END:VEVENT
BEGIN:VEVENT
DTSTART;TZID=America/New_York:20251126T170000
DTEND;TZID=America/New_York:20251126T220000
DTSTAMP:20260421T014410
CREATED:20251022T182210Z
LAST-MODIFIED:20251022T182210Z
UID:2872-1764176400-1764194400@speakofthedevillorain.com
SUMMARY:TURKEY TIME!
DESCRIPTION:Our 7th annual Thanksgiving eve Turkey Time! Get your turkey early! Spend and evening with us and our friends from Wild Turkey to kick off the holiday season!
URL:https://speakofthedevillorain.com/event/turkey-time-3/
LOCATION:Speak of the Devil\, 201 W 5th St\, Lorain\, OH\, 44052\, United States
ATTACH;FMTTYPE=image/jpeg:https://speakofthedevillorain.com/wp-content/uploads/2025/10/Forever-Thankful-Thanksgiving-template.jpg
END:VEVENT
BEGIN:VEVENT
DTSTART;TZID=America/New_York:20251128T170000
DTEND;TZID=America/New_York:20251128T235900
DTSTAMP:20260421T014410
CREATED:20250902T150508Z
LAST-MODIFIED:20250902T150508Z
UID:2829-1764349200-1764374340@speakofthedevillorain.com
SUMMARY:NOG & GLOGG
DESCRIPTION:Join as we kick off the 2025 Holiday Season with our  12th Annual Nog & Glogg Weekend!
URL:https://speakofthedevillorain.com/event/nog-glogg-5/
LOCATION:Speak of the Devil\, 201 W 5th St\, Lorain\, OH\, 44052\, United States
ATTACH;FMTTYPE=image/jpeg:https://speakofthedevillorain.com/wp-content/uploads/2025/09/Business-Facebook-Cover.jpg
END:VEVENT
BEGIN:VEVENT
DTSTART;TZID=America/New_York:20251129T170000
DTEND;TZID=America/New_York:20251129T235900
DTSTAMP:20260421T014410
CREATED:20250902T150558Z
LAST-MODIFIED:20250902T150558Z
UID:2832-1764435600-1764460740@speakofthedevillorain.com
SUMMARY:NOG & GLOGG
DESCRIPTION:Join as we kick off the 2025 Holiday Season with our  12th Annual Nog & Glogg Weekend!
URL:https://speakofthedevillorain.com/event/nog-glogg-6/
LOCATION:Speak of the Devil\, 201 W 5th St\, Lorain\, OH\, 44052\, United States
ATTACH;FMTTYPE=image/jpeg:https://speakofthedevillorain.com/wp-content/uploads/2025/09/Business-Facebook-Cover.jpg
END:VEVENT
BEGIN:VEVENT
DTSTART;TZID=America/New_York:20251129T193000
DTEND;TZID=America/New_York:20251129T223000
DTSTAMP:20260421T014410
CREATED:20250902T145536Z
LAST-MODIFIED:20250902T145536Z
UID:2826-1764444600-1764455400@speakofthedevillorain.com
SUMMARY:MIKE PETRONE
DESCRIPTION:It’s that time of year! Mike Petrone returns to SOTD to help kick off the 2025 holiday season! It’s Nog & Glogg weekend and time for our traditional Christmas Sing-along with Mike!!!
URL:https://speakofthedevillorain.com/event/mike-petrone-7/
LOCATION:Speak of the Devil\, 201 W 5th St\, Lorain\, OH\, 44052\, United States
ATTACH;FMTTYPE=image/jpeg:https://speakofthedevillorain.com/wp-content/uploads/2025/09/JAZZ-BANNER.jpg
END:VEVENT
BEGIN:VEVENT
DTSTART;TZID=America/New_York:20251205T170000
DTEND;TZID=America/New_York:20251205T235900
DTSTAMP:20260421T014410
CREATED:20250916T154510Z
LAST-MODIFIED:20250916T154510Z
UID:2842-1764954000-1764979140@speakofthedevillorain.com
SUMMARY:REPEAL DAY PARTY
DESCRIPTION:We’re throwing a little party to celebrate the December 5\, 1933 repeal of prohibition! Dress the part! Bathtub gin!  Live jazz!
URL:https://speakofthedevillorain.com/event/repeal-day-party-2/
LOCATION:Speak of the Devil\, 201 W 5th St\, Lorain\, OH\, 44052\, United States
ATTACH;FMTTYPE=image/jpeg:https://speakofthedevillorain.com/wp-content/uploads/2025/09/Virtual-Trivia-Night-Facebook-Post-Template1.jpg
END:VEVENT
BEGIN:VEVENT
DTSTART;TZID=America/New_York:20251205T193000
DTEND;TZID=America/New_York:20251205T223000
DTSTAMP:20260421T014410
CREATED:20251024T173607Z
LAST-MODIFIED:20251024T173607Z
UID:2884-1764963000-1764973800@speakofthedevillorain.com
SUMMARY:THE MARTIN KENT JAZZ TRIO
DESCRIPTION:Let’s welcome the Martin Kent Trio to SOTD for the first time. Drummer Martin Kent and his crew will be providing the perfect soundtrack to our Prohibition Repeal Party!
URL:https://speakofthedevillorain.com/event/the-martin-kent-jazz-trio/
LOCATION:Speak of the Devil\, 201 W 5th St\, Lorain\, OH\, 44052\, United States
ATTACH;FMTTYPE=image/jpeg:https://speakofthedevillorain.com/wp-content/uploads/2025/10/jazz.jpg
END:VEVENT
BEGIN:VEVENT
DTSTART;TZID=America/New_York:20251209T170000
DTEND;TZID=America/New_York:20251209T220000
DTSTAMP:20260421T014410
CREATED:20250916T154727Z
LAST-MODIFIED:20250916T154727Z
UID:2845-1765299600-1765317600@speakofthedevillorain.com
SUMMARY:TURNTABLE TUESDAY
DESCRIPTION:Another vinylhead night with our friends from Ship to Shore Books & Music. Bring your own platter and pick a side for us to spin\, or choose from ours!
URL:https://speakofthedevillorain.com/event/turntable-tuesday-23/
LOCATION:Speak of the Devil\, 201 W 5th St\, Lorain\, OH\, 44052\, United States
ATTACH;FMTTYPE=image/jpeg:https://speakofthedevillorain.com/wp-content/uploads/2025/09/513972862_1287978036666558_9066481153760055704_n.jpg
END:VEVENT
BEGIN:VEVENT
DTSTART;TZID=America/New_York:20251211T183000
DTEND;TZID=America/New_York:20251211T200000
DTSTAMP:20260421T014410
CREATED:20251117T201352Z
LAST-MODIFIED:20251117T201352Z
UID:2893-1765477800-1765483200@speakofthedevillorain.com
SUMMARY:BOOKS & BREWS: "THE CHOSEN AND THE BEAUTIFUL" BY NGHI VO
DESCRIPTION:Join the Lorain Public Library and us as the best book club in the land comes together to discuss “The Chosen and the Beautiful” by Nghi Vo
URL:https://speakofthedevillorain.com/event/books-brews-the-chosen-and-the-beautiful-by-nghi-vo/
LOCATION:Speak of the Devil\, 201 W 5th St\, Lorain\, OH\, 44052\, United States
ATTACH;FMTTYPE=image/jpeg:https://speakofthedevillorain.com/wp-content/uploads/2024/03/429780136_912590617538637_6219091756627812402_n.jpg
END:VEVENT
BEGIN:VEVENT
DTSTART;TZID=America/New_York:20251213T193000
DTEND;TZID=America/New_York:20251213T223000
DTSTAMP:20260421T014410
CREATED:20250916T154841Z
LAST-MODIFIED:20250916T154841Z
UID:2847-1765654200-1765665000@speakofthedevillorain.com
SUMMARY:ANTHONY SCROFANO
DESCRIPTION:Our dear friend Anthony Scrofano returns! This is another not to be missed night of music!!!
URL:https://speakofthedevillorain.com/event/anthony-scrofano-15/
LOCATION:Speak of the Devil\, 201 W 5th St\, Lorain\, OH\, 44052\, United States
ATTACH;FMTTYPE=image/jpeg:https://speakofthedevillorain.com/wp-content/uploads/2025/09/Dylan.jpg
END:VEVENT
BEGIN:VEVENT
DTSTART;TZID=America/New_York:20251217T073000
DTEND;TZID=America/New_York:20251217T223000
DTSTAMP:20260421T014410
CREATED:20250916T155118Z
LAST-MODIFIED:20250916T155118Z
UID:2850-1765956600-1766010600@speakofthedevillorain.com
SUMMARY:OLD FASHIONED CHRISTMAS COMEDY NIGHT
DESCRIPTION:It’s our annual holiday laugh fest! Join us as Bill Squire headlines this year’s Old Fashioned Christmas Comedy Night – featuring comedian Pope!!!
URL:https://speakofthedevillorain.com/event/old-fashioned-christmas-comedy-night/
LOCATION:Speak of the Devil\, 201 W 5th St\, Lorain\, OH\, 44052\, United States
ATTACH;FMTTYPE=image/jpeg:https://speakofthedevillorain.com/wp-content/uploads/2025/09/Stand-up-comedy-Event-Cover-Theatre-Show-Ad.jpg
END:VEVENT
BEGIN:VEVENT
DTSTART;TZID=America/New_York:20251218T190000
DTEND;TZID=America/New_York:20251218T220000
DTSTAMP:20260421T014410
CREATED:20250916T155328Z
LAST-MODIFIED:20250916T155328Z
UID:2853-1766084400-1766095200@speakofthedevillorain.com
SUMMARY:CHRISTMAS COCKTAIL KARAOKE
DESCRIPTION:Come be the start that you know you are! It’s Christmas karaoke night in Lorain! Come sing your seasonal favorite (or a Journey tune!) Game Show Jesus takes us all on a little singalong  trip!
URL:https://speakofthedevillorain.com/event/christmas-cocktail-karaoke/
LOCATION:Speak of the Devil\, 201 W 5th St\, Lorain\, OH\, 44052\, United States
ATTACH;FMTTYPE=image/jpeg:https://speakofthedevillorain.com/wp-content/uploads/2025/09/KARAOKE-KHRISTMAS1.jpg
END:VEVENT
BEGIN:VEVENT
DTSTART;TZID=America/New_York:20251219T193000
DTEND;TZID=America/New_York:20251219T223000
DTSTAMP:20260421T014410
CREATED:20250916T155436Z
LAST-MODIFIED:20250916T155436Z
UID:2856-1766172600-1766183400@speakofthedevillorain.com
SUMMARY:CHRIS HATTON
DESCRIPTION:Christmas comes early as the one and only Chris Hatton returns!!!!
URL:https://speakofthedevillorain.com/event/chris-hatton-8/
LOCATION:Speak of the Devil\, 201 W 5th St\, Lorain\, OH\, 44052\, United States
ATTACH;FMTTYPE=image/jpeg:https://speakofthedevillorain.com/wp-content/uploads/2025/09/MUSIC-EVENT-BANNER.jpg
END:VEVENT
BEGIN:VEVENT
DTSTART;TZID=America/New_York:20251223T190000
DTEND;TZID=America/New_York:20251223T210000
DTSTAMP:20260421T014410
CREATED:20251024T173755Z
LAST-MODIFIED:20251024T173755Z
UID:2887-1766516400-1766523600@speakofthedevillorain.com
SUMMARY:MOVIE NIGHT: THE HUDSUCKER PROXY
DESCRIPTION:Jump into the holiday spirit with Joel and Ethan Coen and Sam Raimi’s “The Hudsucker Proxy”!
URL:https://speakofthedevillorain.com/event/movie-night-the-hudsucker-proxy/
LOCATION:Speak of the Devil\, 201 W 5th St\, Lorain\, OH\, 44052\, United States
ATTACH;FMTTYPE=image/jpeg:https://speakofthedevillorain.com/wp-content/uploads/2025/10/Comedy-Comedian-Stand-up-Show-Night-Club-Ad2.jpg
END:VEVENT
BEGIN:VEVENT
DTSTART;TZID=America/New_York:20260113T170000
DTEND;TZID=America/New_York:20260113T220000
DTSTAMP:20260421T014410
CREATED:20251230T223252Z
LAST-MODIFIED:20251230T223252Z
UID:2915-1768323600-1768341600@speakofthedevillorain.com
SUMMARY:TURNTABLE TUESDAY
DESCRIPTION:Another vinyl nerds night at Speak of the Devil with our friends from Ship to Shore Books & Music
URL:https://speakofthedevillorain.com/event/turntable-tuesday-24/
LOCATION:Speak of the Devil\, 201 W 5th St\, Lorain\, OH\, 44052\, United States
ATTACH;FMTTYPE=image/jpeg:https://speakofthedevillorain.com/wp-content/uploads/2025/09/513972862_1287978036666558_9066481153760055704_n.jpg
END:VEVENT
BEGIN:VEVENT
DTSTART;TZID=America/New_York:20260115T183000
DTEND;TZID=America/New_York:20260115T200000
DTSTAMP:20260421T014410
CREATED:20251230T223513Z
LAST-MODIFIED:20251230T231821Z
UID:2917-1768501800-1768507200@speakofthedevillorain.com
SUMMARY:BOOKS & BREWS: "THERE'S ALWAYS THIS YEAR: ON BASKETBALL AND ASCENSION"
DESCRIPTION:Join us and the Lorain Public Library for the first Books & Brews of 2026! This month’s book is Hanif Abdurraqib’s “There’s Always This Year: On Basketball and Ascension”
URL:https://speakofthedevillorain.com/event/books-brews-theres-always-this-year-on-basketball-and-ascension/
LOCATION:Speak of the Devil\, 201 W 5th St\, Lorain\, OH\, 44052\, United States
ATTACH;FMTTYPE=image/jpeg:https://speakofthedevillorain.com/wp-content/uploads/2024/03/429780136_912590617538637_6219091756627812402_n.jpg
END:VEVENT
BEGIN:VEVENT
DTSTART;TZID=America/New_York:20260117T193000
DTEND;TZID=America/New_York:20260117T223000
DTSTAMP:20260421T014410
CREATED:20251230T223800Z
LAST-MODIFIED:20251230T223800Z
UID:2919-1768678200-1768689000@speakofthedevillorain.com
SUMMARY:GARRETT FOLGER & AIDAN PLANK
DESCRIPTION:Garrett Folger and Aidan Plank are two of northeast Ohio’s best and busiest jazz musicians. Last September\, to much acclaim\, the pair released “DUO” a collection of improvised recordings featuring Plank on double bass and Folger on trumpet\, piccolo trumpet\, and flugelhorn.\nJoin us in welcoming the duo to Speak of the Devil for a very special night of jazz music!
URL:https://speakofthedevillorain.com/event/garrett-folger-aidan-plank/
LOCATION:Speak of the Devil\, 201 W 5th St\, Lorain\, OH\, 44052\, United States
ATTACH;FMTTYPE=image/jpeg:https://speakofthedevillorain.com/wp-content/uploads/2025/12/594062091_1429107182553642_7618985080290716601_n.jpg
END:VEVENT
BEGIN:VEVENT
DTSTART;TZID=America/New_York:20260121T170000
DTEND;TZID=America/New_York:20260121T220000
DTSTAMP:20260421T014410
CREATED:20251230T223939Z
LAST-MODIFIED:20251230T223939Z
UID:2922-1769014800-1769032800@speakofthedevillorain.com
SUMMARY:THE PEOPLE'S CHOICE
DESCRIPTION:3 Old Fashioneds. 1 spot on the menu. YOU taste them all and decide which one makes the menu!
URL:https://speakofthedevillorain.com/event/the-peoples-choice-3/
LOCATION:Speak of the Devil\, 201 W 5th St\, Lorain\, OH\, 44052\, United States
ATTACH;FMTTYPE=image/jpeg:https://speakofthedevillorain.com/wp-content/uploads/2025/12/592189745_1429112589219768_5007602420373091896_n.jpg
END:VEVENT
BEGIN:VEVENT
DTSTART;TZID=America/New_York:20260122T190000
DTEND;TZID=America/New_York:20260122T220000
DTSTAMP:20260421T014410
CREATED:20251231T134210Z
LAST-MODIFIED:20251231T134210Z
UID:2958-1769108400-1769119200@speakofthedevillorain.com
SUMMARY:COCKTAIL KARAOKE: SUPERSTARS
DESCRIPTION:The stage is yours at Speak of the Devil.\nFrom Sinatra to Springsteen\, Johnny Cash to Sabrina Carpenter\, this is your chance to sing it loud\, sing it proud\, and sing like a superstar. Crooners\, rockers\, country legends\, and modern pop heroes—all welcome\, all encouraged.\nWhether you’re channeling old-school swagger\, heartland rock anthems\, outlaw country grit\, or chart-topping pop perfection\, we’ve got the mic\, the cocktails\, and the room ready to cheer you on.\nAll genres welcomeLiquid courage availableNo judgment—only applause\nCome early\, sign up\, and steal the spotlight
URL:https://speakofthedevillorain.com/event/cocktail-karaoke-superstars/
LOCATION:Speak of the Devil\, 201 W 5th St\, Lorain\, OH\, 44052\, United States
ATTACH;FMTTYPE=image/jpeg:https://speakofthedevillorain.com/wp-content/uploads/2025/02/KARAOKE-KHRISTMAS.jpg
END:VEVENT
BEGIN:VEVENT
DTSTART;TZID=America/New_York:20260124T193000
DTEND;TZID=America/New_York:20260124T223000
DTSTAMP:20260421T014410
CREATED:20251230T224050Z
LAST-MODIFIED:20251230T224050Z
UID:2925-1769283000-1769293800@speakofthedevillorain.com
SUMMARY:MAX ALLARD
DESCRIPTION:“A new mature and poetic voice on the 5 string banjo. Beautiful compositions and a very nice touch.”— Béla Fleck\nJoin us in welcoming the incredibly talented Max Allard to Speak of the Devil! Max Allard is a banjoist\, multi-instrumentalist and composer from Chicago and is a must see!
URL:https://speakofthedevillorain.com/event/max-allard/
LOCATION:Speak of the Devil\, 201 W 5th St\, Lorain\, OH\, 44052\, United States
ATTACH;FMTTYPE=image/jpeg:https://speakofthedevillorain.com/wp-content/uploads/2025/12/Online-Music-Show-Facebook-Shared-Image1.jpg
END:VEVENT
END:VCALENDAR