BEGIN:VCALENDAR
VERSION:2.0
PRODID:-// - ECPv6.15.20//NONSGML v1.0//EN
CALSCALE:GREGORIAN
METHOD:PUBLISH
X-ORIGINAL-URL:https://speakofthedevillorain.com
X-WR-CALDESC:Events for 
REFRESH-INTERVAL;VALUE=DURATION:PT1H
X-Robots-Tag:noindex
X-PUBLISHED-TTL:PT1H
BEGIN:VTIMEZONE
TZID:America/New_York
BEGIN:DAYLIGHT
TZOFFSETFROM:-0500
TZOFFSETTO:-0400
TZNAME:EDT
DTSTART:20250309T070000
END:DAYLIGHT
BEGIN:STANDARD
TZOFFSETFROM:-0400
TZOFFSETTO:-0500
TZNAME:EST
DTSTART:20251102T060000
END:STANDARD
BEGIN:DAYLIGHT
TZOFFSETFROM:-0500
TZOFFSETTO:-0400
TZNAME:EDT
DTSTART:20260308T070000
END:DAYLIGHT
BEGIN:STANDARD
TZOFFSETFROM:-0400
TZOFFSETTO:-0500
TZNAME:EST
DTSTART:20261101T060000
END:STANDARD
BEGIN:DAYLIGHT
TZOFFSETFROM:-0500
TZOFFSETTO:-0400
TZNAME:EDT
DTSTART:20270314T070000
END:DAYLIGHT
BEGIN:STANDARD
TZOFFSETFROM:-0400
TZOFFSETTO:-0500
TZNAME:EST
DTSTART:20271107T060000
END:STANDARD
END:VTIMEZONE
BEGIN:VEVENT
DTSTART;TZID=America/New_York:20260716T183000
DTEND;TZID=America/New_York:20260716T200000
DTSTAMP:20260420T174512
CREATED:20260417T141808Z
LAST-MODIFIED:20260417T141808Z
UID:3064-1784226600-1784232000@speakofthedevillorain.com
SUMMARY:BOOKS & BREWS: "DEAR AMERICA: NOTES OF AN UNDOCUMENTED CITIZEN" - JOSE ANTONIO VARGAS
DESCRIPTION:This month at Books & Brews\, we are discussing Dear America: Notes of an Undocumented Citizen by José Antonio Vargas. \nPart memoir\, part social commentary\, the book tells Vargas’ story of coming to the United States from the Philippines as a child\, discovering he was undocumented as a teenager and living for years with the uncertainty\, fear and questions that come with that reality. \nIt is deeply personal\, thoughtful and often heartbreaking\, but it is also a book about identity\, belonging\, family and what it means to call a place home. \nJoin us for another good night of conversation\, cocktails and community with our friends from the Lorain Public Library.
URL:https://speakofthedevillorain.com/event/books-brews-dear-america-notes-of-an-undocumented-citizen-jose-antonio-vargas/
LOCATION:Speak of the Devil\, 201 W 5th St\, Lorain\, OH\, 44052\, United States
ATTACH;FMTTYPE=image/jpeg:https://speakofthedevillorain.com/wp-content/uploads/2024/02/book-club1.jpg
END:VEVENT
BEGIN:VEVENT
DTSTART;TZID=America/New_York:20260730T170000
DTEND;TZID=America/New_York:20260730T220000
DTSTAMP:20260420T174512
CREATED:20260417T142009Z
LAST-MODIFIED:20260417T142009Z
UID:3066-1785430800-1785448800@speakofthedevillorain.com
SUMMARY:SUMMER SMOKE
DESCRIPTION:Patio season means monthly Summer Smoke’s out on the patio!
URL:https://speakofthedevillorain.com/event/summer-smoke-13/
LOCATION:Speak of the Devil\, 201 W 5th St\, Lorain\, OH\, 44052\, United States
ATTACH;FMTTYPE=image/jpeg:https://speakofthedevillorain.com/wp-content/uploads/2025/04/Cigar.jpg
END:VEVENT
END:VCALENDAR