BEGIN:VCALENDAR
VERSION:2.0
PRODID:-// - ECPv6.15.20//NONSGML v1.0//EN
CALSCALE:GREGORIAN
METHOD:PUBLISH
X-ORIGINAL-URL:https://speakofthedevillorain.com
X-WR-CALDESC:Events for 
REFRESH-INTERVAL;VALUE=DURATION:PT1H
X-Robots-Tag:noindex
X-PUBLISHED-TTL:PT1H
BEGIN:VTIMEZONE
TZID:America/New_York
BEGIN:DAYLIGHT
TZOFFSETFROM:-0500
TZOFFSETTO:-0400
TZNAME:EDT
DTSTART:20230312T070000
END:DAYLIGHT
BEGIN:STANDARD
TZOFFSETFROM:-0400
TZOFFSETTO:-0500
TZNAME:EST
DTSTART:20231105T060000
END:STANDARD
BEGIN:DAYLIGHT
TZOFFSETFROM:-0500
TZOFFSETTO:-0400
TZNAME:EDT
DTSTART:20240310T070000
END:DAYLIGHT
BEGIN:STANDARD
TZOFFSETFROM:-0400
TZOFFSETTO:-0500
TZNAME:EST
DTSTART:20241103T060000
END:STANDARD
BEGIN:DAYLIGHT
TZOFFSETFROM:-0500
TZOFFSETTO:-0400
TZNAME:EDT
DTSTART:20250309T070000
END:DAYLIGHT
BEGIN:STANDARD
TZOFFSETFROM:-0400
TZOFFSETTO:-0500
TZNAME:EST
DTSTART:20251102T060000
END:STANDARD
END:VTIMEZONE
BEGIN:VEVENT
DTSTART;TZID=America/New_York:20240609T140000
DTEND;TZID=America/New_York:20240609T190000
DTSTAMP:20260421T081856
CREATED:20240415T171154Z
LAST-MODIFIED:20240415T171154Z
UID:2294-1717941600-1717959600@speakofthedevillorain.com
SUMMARY:RAMEN BRUNCH WITH BLACK VULTURE RAMEN
DESCRIPTION:More brunch noodles for everyone!
URL:https://speakofthedevillorain.com/event/ramen-brunch-with-black-vulture-ramen-7/
LOCATION:Speak of the Devil\, 201 W 5th St\, Lorain\, OH\, 44052\, United States
ATTACH;FMTTYPE=image/jpeg:https://speakofthedevillorain.com/wp-content/uploads/2024/04/Ramen.jpg
END:VEVENT
BEGIN:VEVENT
DTSTART;TZID=America/New_York:20240606T183000
DTEND;TZID=America/New_York:20240606T200000
DTSTAMP:20260421T081856
CREATED:20240513T203524Z
LAST-MODIFIED:20240513T203524Z
UID:2318-1717698600-1717704000@speakofthedevillorain.com
SUMMARY:BOOKS & BREWS: WOMEN TALKING
DESCRIPTION:Join us and the Lorain Public Library for Books & Brews – this week we discuss “Women Talking” by Miriam Toews
URL:https://speakofthedevillorain.com/event/books-brews-women-talking/
LOCATION:Speak of the Devil\, 201 W 5th St\, Lorain\, OH\, 44052\, United States
ATTACH;FMTTYPE=image/jpeg:https://speakofthedevillorain.com/wp-content/uploads/2024/03/429780136_912590617538637_6219091756627812402_n.jpg
END:VEVENT
BEGIN:VEVENT
DTSTART;TZID=America/New_York:20240602T140000
DTEND;TZID=America/New_York:20240602T190000
DTSTAMP:20260421T081856
CREATED:20240513T203402Z
LAST-MODIFIED:20240513T203402Z
UID:2316-1717336800-1717354800@speakofthedevillorain.com
SUMMARY:DUNGEONS & DRAGONS
DESCRIPTION:Game day at Speak of the Devil
URL:https://speakofthedevillorain.com/event/dungeons-dragons-4/
LOCATION:Speak of the Devil\, 201 W 5th St\, Lorain\, OH\, 44052\, United States
ATTACH;FMTTYPE=image/jpeg:https://speakofthedevillorain.com/wp-content/uploads/2024/04/CHURCH-LIVE-ONLINE-SERMON-TEMPLATE1.jpg
END:VEVENT
BEGIN:VEVENT
DTSTART;TZID=America/New_York:20240530T170000
DTEND;TZID=America/New_York:20240530T230000
DTSTAMP:20260421T081856
CREATED:20240513T202802Z
LAST-MODIFIED:20240513T203210Z
UID:2312-1717088400-1717110000@speakofthedevillorain.com
SUMMARY:SUMMER SMOKE
DESCRIPTION:Hand-rolled cigars out on the patio all night!
URL:https://speakofthedevillorain.com/event/summer-smoke/
LOCATION:Speak of the Devil\, 201 W 5th St\, Lorain\, OH\, 44052\, United States
ATTACH;FMTTYPE=image/jpeg:https://speakofthedevillorain.com/wp-content/uploads/2024/05/Cigar1.jpg
END:VEVENT
BEGIN:VEVENT
DTSTART;TZID=America/New_York:20240526T140000
DTEND;TZID=America/New_York:20240526T190000
DTSTAMP:20260421T081856
CREATED:20240417T184118Z
LAST-MODIFIED:20240417T184118Z
UID:2306-1716732000-1716750000@speakofthedevillorain.com
SUMMARY:DUNGEONS & DRAGONS
DESCRIPTION:The SOTD Dungeons & Dragons crew convene
URL:https://speakofthedevillorain.com/event/dungeons-dragons-3/
LOCATION:Speak of the Devil\, 201 W 5th St\, Lorain\, OH\, 44052\, United States
ATTACH;FMTTYPE=image/jpeg:https://speakofthedevillorain.com/wp-content/uploads/2024/04/CHURCH-LIVE-ONLINE-SERMON-TEMPLATE1.jpg
END:VEVENT
BEGIN:VEVENT
DTSTART;TZID=America/New_York:20240522T170000
DTEND;TZID=America/New_York:20240522T220000
DTSTAMP:20260421T081856
CREATED:20240307T203210Z
LAST-MODIFIED:20240307T203210Z
UID:2260-1716397200-1716415200@speakofthedevillorain.com
SUMMARY:DICKEL & DOGS
DESCRIPTION:Our annual patio opening party!
URL:https://speakofthedevillorain.com/event/dickel-dogs/
LOCATION:Speak of the Devil\, 201 W 5th St\, Lorain\, OH\, 44052\, United States
ATTACH;FMTTYPE=image/jpeg:https://speakofthedevillorain.com/wp-content/uploads/2024/03/Copy-of-BBQ-party-Facebook-Shared-Image.jpg
END:VEVENT
BEGIN:VEVENT
DTSTART;TZID=America/New_York:20240519T140000
DTEND;TZID=America/New_York:20240519T190000
DTSTAMP:20260421T081856
CREATED:20240415T170955Z
LAST-MODIFIED:20240415T170955Z
UID:2288-1716127200-1716145200@speakofthedevillorain.com
SUMMARY:RAMEN BRUNCH WITH BLACK VULTURE RAMEN
DESCRIPTION:Noods return to SOTD!
URL:https://speakofthedevillorain.com/event/ramen-brunch-with-black-vulture-ramen-6/
LOCATION:Speak of the Devil\, 201 W 5th St\, Lorain\, OH\, 44052\, United States
ATTACH;FMTTYPE=image/jpeg:https://speakofthedevillorain.com/wp-content/uploads/2024/04/Ramen.jpg
END:VEVENT
BEGIN:VEVENT
DTSTART;TZID=America/New_York:20240518T193000
DTEND;TZID=America/New_York:20240518T223000
DTSTAMP:20260421T081856
CREATED:20240307T203117Z
LAST-MODIFIED:20240307T203117Z
UID:2257-1716060600-1716071400@speakofthedevillorain.com
SUMMARY:GHANI HARRIS
DESCRIPTION:The brilliant reggae/soul singer and guitarist Ghani Harris returns!
URL:https://speakofthedevillorain.com/event/ghani-harris-5/
LOCATION:Speak of the Devil\, 201 W 5th St\, Lorain\, OH\, 44052\, United States
ATTACH;FMTTYPE=image/jpeg:https://speakofthedevillorain.com/wp-content/uploads/2024/03/Copy-of-OPEN-MIC-NIGHT-FLYER.jpg
END:VEVENT
BEGIN:VEVENT
DTSTART;TZID=America/New_York:20240516T193000
DTEND;TZID=America/New_York:20240516T223000
DTSTAMP:20260421T081856
CREATED:20240415T170848Z
LAST-MODIFIED:20240415T170848Z
UID:2285-1715887800-1715898600@speakofthedevillorain.com
SUMMARY:PUNK ROCK JUKEBOX WITH DJ SAM SINISTER
DESCRIPTION:DJ Sam Sinister is the human punk rock jukebox taking all requests all night!
URL:https://speakofthedevillorain.com/event/punk-rock-jukebox-with-dj-sam-sinister/
LOCATION:Speak of the Devil\, 201 W 5th St\, Lorain\, OH\, 44052\, United States
ATTACH;FMTTYPE=image/jpeg:https://speakofthedevillorain.com/wp-content/uploads/2024/04/MUSIC-EVENT-BANNER.jpg
END:VEVENT
BEGIN:VEVENT
DTSTART;TZID=America/New_York:20240515T170000
DTEND;TZID=America/New_York:20240515T220000
DTSTAMP:20260421T081856
CREATED:20240226T155928Z
LAST-MODIFIED:20240226T155928Z
UID:2246-1715792400-1715810400@speakofthedevillorain.com
SUMMARY:WINES OF SUMMER
DESCRIPTION:Our friend Mary Ellen from Vintage Wine takes us through a quartet of summer wines you need to taste and know this year.
URL:https://speakofthedevillorain.com/event/wines-of-summer-2/
LOCATION:Speak of the Devil\, 201 W 5th St\, Lorain\, OH\, 44052\, United States
ATTACH;FMTTYPE=image/jpeg:https://speakofthedevillorain.com/wp-content/uploads/2024/02/wines.jpg
END:VEVENT
BEGIN:VEVENT
DTSTART;TZID=America/New_York:20240514T170000
DTEND;TZID=America/New_York:20240514T220000
DTSTAMP:20260421T081856
CREATED:20240307T204217Z
LAST-MODIFIED:20240307T204217Z
UID:2271-1715706000-1715724000@speakofthedevillorain.com
SUMMARY:TURNTABLE TUESDAY
DESCRIPTION:Spinning vinyl sides all night. Bring a platter of your own in or choose from ours!
URL:https://speakofthedevillorain.com/event/turntable-tuesday-4/
LOCATION:Speak of the Devil\, 201 W 5th St\, Lorain\, OH\, 44052\, United States
ATTACH;FMTTYPE=image/jpeg:https://speakofthedevillorain.com/wp-content/uploads/2024/03/Turntable-2.jpg
END:VEVENT
BEGIN:VEVENT
DTSTART;TZID=America/New_York:20240511T193000
DTEND;TZID=America/New_York:20240511T223000
DTSTAMP:20260421T081856
CREATED:20240226T155811Z
LAST-MODIFIED:20240226T155811Z
UID:2243-1715455800-1715466600@speakofthedevillorain.com
SUMMARY:JAZZ CABBAGE
DESCRIPTION:Psychobilly jazz fiends Jazz Cabbage debut at Speak of the Devil
URL:https://speakofthedevillorain.com/event/jazz-cabbage/
LOCATION:Speak of the Devil\, 201 W 5th St\, Lorain\, OH\, 44052\, United States
ATTACH;FMTTYPE=image/jpeg:https://speakofthedevillorain.com/wp-content/uploads/2024/02/CHURCH-LIVE-ONLINE-SERMON-TEMPLATE1.jpg
END:VEVENT
BEGIN:VEVENT
DTSTART;TZID=America/New_York:20240509T183000
DTEND;TZID=America/New_York:20240509T200000
DTSTAMP:20260421T081856
CREATED:20240307T204020Z
LAST-MODIFIED:20240307T204020Z
UID:2269-1715279400-1715284800@speakofthedevillorain.com
SUMMARY:BOOKS & BREWS: GREAT EXPECTATIONS
DESCRIPTION:Join the Lorain Public Library and Speak of the Devil for this months book discussion – Charles Dickens “Great Expectations”
URL:https://speakofthedevillorain.com/event/books-brews-great-expectations/
LOCATION:Speak of the Devil\, 201 W 5th St\, Lorain\, OH\, 44052\, United States
ATTACH;FMTTYPE=image/jpeg:https://speakofthedevillorain.com/wp-content/uploads/2024/03/429780136_912590617538637_6219091756627812402_n.jpg
END:VEVENT
BEGIN:VEVENT
DTSTART;TZID=America/New_York:20240508T190000
DTEND;TZID=America/New_York:20240508T210000
DTSTAMP:20260421T081856
CREATED:20240415T170616Z
LAST-MODIFIED:20240415T170616Z
UID:2279-1715194800-1715202000@speakofthedevillorain.com
SUMMARY:KING OF KENTUCKY & OLD FORESTER BIRTHDAY BOURBON: A BROWN-FORMAN TASTING
DESCRIPTION:Two rare and hard to obtain bottles\, one tasting.
URL:https://speakofthedevillorain.com/event/king-of-kentucky-old-forester-birthday-bourbon-a-brown-forman-tasting/
LOCATION:Speak of the Devil\, 201 W 5th St\, Lorain\, OH\, 44052\, United States
ATTACH;FMTTYPE=image/jpeg:https://speakofthedevillorain.com/wp-content/uploads/2024/04/KoK-Birthday1.jpg
END:VEVENT
BEGIN:VEVENT
DTSTART;TZID=America/New_York:20240505T140000
DTEND;TZID=America/New_York:20240505T190000
DTSTAMP:20260421T081856
CREATED:20240417T184038Z
LAST-MODIFIED:20240417T184038Z
UID:2303-1714917600-1714935600@speakofthedevillorain.com
SUMMARY:DUNGEONS & DRAGONS
DESCRIPTION:The SOTD Dungeons & Dragons crew convene
URL:https://speakofthedevillorain.com/event/dungeons-dragons-2/
LOCATION:Speak of the Devil\, 201 W 5th St\, Lorain\, OH\, 44052\, United States
ATTACH;FMTTYPE=image/jpeg:https://speakofthedevillorain.com/wp-content/uploads/2024/04/CHURCH-LIVE-ONLINE-SERMON-TEMPLATE1.jpg
END:VEVENT
BEGIN:VEVENT
DTSTART;TZID=America/New_York:20240504T193000
DTEND;TZID=America/New_York:20240504T223000
DTSTAMP:20260421T081856
CREATED:20240417T182913Z
LAST-MODIFIED:20240417T182913Z
UID:2300-1714851000-1714861800@speakofthedevillorain.com
SUMMARY:NOAH NELSON JAZZ EXPLOSION
DESCRIPTION:Drummer Noah Nelson brings his dynamite jazz trio back to Speak of the Devil
URL:https://speakofthedevillorain.com/event/noah-nelson-jazz-explosion/
LOCATION:Speak of the Devil\, 201 W 5th St\, Lorain\, OH\, 44052\, United States
ATTACH;FMTTYPE=image/jpeg:https://speakofthedevillorain.com/wp-content/uploads/2024/04/jazz.jpg
END:VEVENT
BEGIN:VEVENT
DTSTART;TZID=America/New_York:20240427T193000
DTEND;TZID=America/New_York:20240427T223000
DTSTAMP:20260421T081856
CREATED:20240226T155648Z
LAST-MODIFIED:20240226T155648Z
UID:2240-1714246200-1714257000@speakofthedevillorain.com
SUMMARY:DYLAN ANDRAS
DESCRIPTION:Help us welcome the amazingly talented Dylan Andras to the Speak of the Devil stage.
URL:https://speakofthedevillorain.com/event/dylan-andras/
LOCATION:Speak of the Devil\, 201 W 5th St\, Lorain\, OH\, 44052\, United States
ATTACH;FMTTYPE=image/jpeg:https://speakofthedevillorain.com/wp-content/uploads/2024/02/Dylan.jpg
END:VEVENT
BEGIN:VEVENT
DTSTART;TZID=America/New_York:20240425T190000
DTEND;TZID=America/New_York:20240425T210000
DTSTAMP:20260421T081856
CREATED:20231218T185606Z
LAST-MODIFIED:20231218T185606Z
UID:2190-1714071600-1714078800@speakofthedevillorain.com
SUMMARY:NERD NIGHT TRIVIA: STAR TREK EDITION
DESCRIPTION:Okay you dork Trekkies\, who knows the most about Star Trek?!? Prove yourself!
URL:https://speakofthedevillorain.com/event/nerd-night-trivia-star-trek-edition/
LOCATION:Speak of the Devil\, 201 W 5th St\, Lorain\, OH\, 44052\, United States
ATTACH;FMTTYPE=image/jpeg:https://speakofthedevillorain.com/wp-content/uploads/2023/12/Sitcom-Trivia-Facebook-Cover1.jpg
END:VEVENT
BEGIN:VEVENT
DTSTART;TZID=America/New_York:20240421T140000
DTEND;TZID=America/New_York:20240421T190000
DTSTAMP:20260421T081856
CREATED:20240415T170714Z
LAST-MODIFIED:20240415T170714Z
UID:2282-1713708000-1713726000@speakofthedevillorain.com
SUMMARY:DUNGEONS & DRAGONS
DESCRIPTION:Another D&D Sunday at SOTD!
URL:https://speakofthedevillorain.com/event/dungeons-dragons/
LOCATION:Speak of the Devil\, 201 W 5th St\, Lorain\, OH\, 44052\, United States
ATTACH;FMTTYPE=image/jpeg:https://speakofthedevillorain.com/wp-content/uploads/2024/04/CHURCH-LIVE-ONLINE-SERMON-TEMPLATE.jpg
END:VEVENT
BEGIN:VEVENT
DTSTART;TZID=America/New_York:20240420T193000
DTEND;TZID=America/New_York:20240420T223000
DTSTAMP:20260421T081856
CREATED:20231219T143731Z
LAST-MODIFIED:20231219T143732Z
UID:2203-1713641400-1713652200@speakofthedevillorain.com
SUMMARY:ANTHONY SCROFANO
DESCRIPTION:The one\, the only\, our very own Anthony Scrofano
URL:https://speakofthedevillorain.com/event/anthony-scrofano-11/
LOCATION:Speak of the Devil\, 201 W 5th St\, Lorain\, OH\, 44052\, United States
ATTACH;FMTTYPE=image/jpeg:https://speakofthedevillorain.com/wp-content/uploads/2023/12/New-Single-NEW-ALBUM-RELEASE-PRE-ORDER-NOW.jpg
END:VEVENT
BEGIN:VEVENT
DTSTART;TZID=America/New_York:20240419T170000
DTEND;TZID=America/New_York:20240419T235900
DTSTAMP:20260421T081856
CREATED:20240307T202014Z
LAST-MODIFIED:20240307T202014Z
UID:2254-1713546000-1713571140@speakofthedevillorain.com
SUMMARY:ABRAHAM OVERHOLT BIRTHDAY PARTY
DESCRIPTION:Come and celebrate the man who filled the bottle that built this bar!
URL:https://speakofthedevillorain.com/event/abraham-overholt-birthday-party-2/
LOCATION:Speak of the Devil\, 201 W 5th St\, Lorain\, OH\, 44052\, United States
ATTACH;FMTTYPE=image/jpeg:https://speakofthedevillorain.com/wp-content/uploads/2024/03/New-Single-NEW-ALBUM-RELEASE-PRE-ORDER-NOW.jpg
END:VEVENT
BEGIN:VEVENT
DTSTART;TZID=America/New_York:20240418T183000
DTEND;TZID=America/New_York:20240418T200000
DTSTAMP:20260421T081856
CREATED:20240307T203905Z
LAST-MODIFIED:20240307T203905Z
UID:2266-1713465000-1713470400@speakofthedevillorain.com
SUMMARY:BOOKS & BREWS: UNDER A WHITE SKY: THE NATURE OF THE FUTURE
DESCRIPTION:Join the Lorain Public Library and Speak of the Devil for Books & Brews\, a book discussion group. This month -Elizabeth Kolbert’s “Under A White Sky: The Nature of The Future”
URL:https://speakofthedevillorain.com/event/books-brews-under-a-white-sky-the-nature-of-the-future/
LOCATION:Speak of the Devil\, 201 W 5th St\, Lorain\, OH\, 44052\, United States
ATTACH;FMTTYPE=image/jpeg:https://speakofthedevillorain.com/wp-content/uploads/2024/03/429780136_912590617538637_6219091756627812402_n.jpg
END:VEVENT
BEGIN:VEVENT
DTSTART;TZID=America/New_York:20240416T170000
DTEND;TZID=America/New_York:20240416T220000
DTSTAMP:20260421T081856
CREATED:20231218T190650Z
LAST-MODIFIED:20231218T221016Z
UID:2195-1713286800-1713304800@speakofthedevillorain.com
SUMMARY:TURNTABLE TUESDAY
DESCRIPTION:Bring your own side\, or choose from our carefully curated crates – its vinyl night!
URL:https://speakofthedevillorain.com/event/vinyl-night/
LOCATION:Speak of the Devil\, 201 W 5th St\, Lorain\, OH\, 44052\, United States
ATTACH;FMTTYPE=image/jpeg:https://speakofthedevillorain.com/wp-content/uploads/2023/12/Turntable-2-1.jpg
END:VEVENT
BEGIN:VEVENT
DTSTART;TZID=America/New_York:20240414T130000
DTEND;TZID=America/New_York:20240414T170000
DTSTAMP:20260421T081856
CREATED:20231218T185500Z
LAST-MODIFIED:20231218T185500Z
UID:2188-1713099600-1713114000@speakofthedevillorain.com
SUMMARY:RAMEN BRUNCH WITH BLACK VULTURE RAMEN
DESCRIPTION:The best ramen brunch around!
URL:https://speakofthedevillorain.com/event/ramen-brunch-with-black-vulture-ramen-5/
LOCATION:Speak of the Devil\, 201 W 5th St\, Lorain\, OH\, 44052\, United States
ATTACH;FMTTYPE=image/jpeg:https://speakofthedevillorain.com/wp-content/uploads/2023/12/Ramen.jpg
END:VEVENT
BEGIN:VEVENT
DTSTART;TZID=America/New_York:20240406T193000
DTEND;TZID=America/New_York:20240406T223000
DTSTAMP:20260421T081856
CREATED:20231202T223441Z
LAST-MODIFIED:20231202T223441Z
UID:2165-1712431800-1712442600@speakofthedevillorain.com
SUMMARY:MIKE PETRONE
DESCRIPTION:The ever popular Mike Petrone takes over SOTD for the night!
URL:https://speakofthedevillorain.com/event/mike-petrone-5/
LOCATION:Speak of the Devil\, 201 W 5th St\, Lorain\, OH\, 44052\, United States
ATTACH;FMTTYPE=image/jpeg:https://speakofthedevillorain.com/wp-content/uploads/2023/12/JAZZ-BANNER.jpg
END:VEVENT
BEGIN:VEVENT
DTSTART;TZID=America/New_York:20240404T193000
DTEND;TZID=America/New_York:20240404T223000
DTSTAMP:20260421T081856
CREATED:20240101T160259Z
LAST-MODIFIED:20240101T160259Z
UID:2208-1712259000-1712269800@speakofthedevillorain.com
SUMMARY:PERSONALITY CRISIS: US VS. UK PUNK - THE EARLY YEARS feat. DJ SAM SINISTER
DESCRIPTION:DJ Sam Sinister takes us back too the battle between US an UK early punk rock!
URL:https://speakofthedevillorain.com/event/personality-crisis-us-vs-uk-punk-the-early-years-feat-dj-sam-sinister/
LOCATION:Speak of the Devil\, 201 W 5th St\, Lorain\, OH\, 44052\, United States
ATTACH;FMTTYPE=image/jpeg:https://speakofthedevillorain.com/wp-content/uploads/2024/01/ChristmasChristmas-retailevent.jpg
END:VEVENT
BEGIN:VEVENT
DTSTART;TZID=America/New_York:20240330T193000
DTEND;TZID=America/New_York:20240330T233000
DTSTAMP:20260421T081856
CREATED:20240320T130346Z
LAST-MODIFIED:20240320T130346Z
UID:2275-1711827000-1711841400@speakofthedevillorain.com
SUMMARY:TOTAL REQUEST LIVE
DESCRIPTION:Remember the heyday of MTV?  We are reviving them – Old school music videos by request out on the patio!
URL:https://speakofthedevillorain.com/event/total-request-live-2/
LOCATION:Speak of the Devil\, 201 W 5th St\, Lorain\, OH\, 44052\, United States
ATTACH;FMTTYPE=image/jpeg:https://speakofthedevillorain.com/wp-content/uploads/2024/03/430123576_936806088449462_1570828613082810478_n.jpg
END:VEVENT
BEGIN:VEVENT
DTSTART;TZID=America/New_York:20240328T190000
DTEND;TZID=America/New_York:20240328T210000
DTSTAMP:20260421T081856
CREATED:20231218T185341Z
LAST-MODIFIED:20231218T185341Z
UID:2186-1711652400-1711659600@speakofthedevillorain.com
SUMMARY:NERD NIGHT TRIVIA: MARVEL/DC EDITION
DESCRIPTION:It’s a superhero/villain trivia battle supreme – Marvel/DC dorks prove your worth!!
URL:https://speakofthedevillorain.com/event/nerd-night-trivia-marvel-dc-edition/
LOCATION:Speak of the Devil\, 201 W 5th St\, Lorain\, OH\, 44052\, United States
ATTACH;FMTTYPE=image/jpeg:https://speakofthedevillorain.com/wp-content/uploads/2023/12/Sitcom-Trivia-Facebook-Cover1.jpg
END:VEVENT
BEGIN:VEVENT
DTSTART;TZID=America/New_York:20240323T193000
DTEND;TZID=America/New_York:20240323T223000
DTSTAMP:20260421T081856
CREATED:20231202T223329Z
LAST-MODIFIED:20240226T160231Z
UID:2162-1711222200-1711233000@speakofthedevillorain.com
SUMMARY:DJ TEDDY EISENBERG
DESCRIPTION:A night of eclectic trip hop\, garage\, groove and any other wax DJ Teddy can melt.
URL:https://speakofthedevillorain.com/event/austin-walkin-cane-9/
LOCATION:Speak of the Devil\, 201 W 5th St\, Lorain\, OH\, 44052\, United States
ATTACH;FMTTYPE=image/jpeg:https://speakofthedevillorain.com/wp-content/uploads/2023/12/International-Womens-Day-Event.jpg
END:VEVENT
BEGIN:VEVENT
DTSTART;TZID=America/New_York:20240314T183000
DTEND;TZID=America/New_York:20240314T200000
DTSTAMP:20260421T081856
CREATED:20240226T155540Z
LAST-MODIFIED:20240226T155540Z
UID:2237-1710441000-1710446400@speakofthedevillorain.com
SUMMARY:BOOKS & BREWS
DESCRIPTION:Join us as the Lorain Public Library hosts the return of Books & Brews – this week we discuss James McBride’s “The Heaven and Earth Grocery Store”
URL:https://speakofthedevillorain.com/event/books-brews-14/
LOCATION:Speak of the Devil\, 201 W 5th St\, Lorain\, OH\, 44052\, United States
ATTACH;FMTTYPE=image/jpeg:https://speakofthedevillorain.com/wp-content/uploads/2024/02/book-club1.jpg
END:VEVENT
END:VCALENDAR