BEGIN:VCALENDAR
VERSION:2.0
PRODID:-// - ECPv6.15.20//NONSGML v1.0//EN
CALSCALE:GREGORIAN
METHOD:PUBLISH
X-ORIGINAL-URL:https://speakofthedevillorain.com
X-WR-CALDESC:Events for 
REFRESH-INTERVAL;VALUE=DURATION:PT1H
X-Robots-Tag:noindex
X-PUBLISHED-TTL:PT1H
BEGIN:VTIMEZONE
TZID:America/New_York
BEGIN:DAYLIGHT
TZOFFSETFROM:-0500
TZOFFSETTO:-0400
TZNAME:EDT
DTSTART:20220313T070000
END:DAYLIGHT
BEGIN:STANDARD
TZOFFSETFROM:-0400
TZOFFSETTO:-0500
TZNAME:EST
DTSTART:20221106T060000
END:STANDARD
BEGIN:DAYLIGHT
TZOFFSETFROM:-0500
TZOFFSETTO:-0400
TZNAME:EDT
DTSTART:20230312T070000
END:DAYLIGHT
BEGIN:STANDARD
TZOFFSETFROM:-0400
TZOFFSETTO:-0500
TZNAME:EST
DTSTART:20231105T060000
END:STANDARD
BEGIN:DAYLIGHT
TZOFFSETFROM:-0500
TZOFFSETTO:-0400
TZNAME:EDT
DTSTART:20240310T070000
END:DAYLIGHT
BEGIN:STANDARD
TZOFFSETFROM:-0400
TZOFFSETTO:-0500
TZNAME:EST
DTSTART:20241103T060000
END:STANDARD
END:VTIMEZONE
BEGIN:VEVENT
DTSTART;TZID=America/New_York:20230621T200000
DTEND;TZID=America/New_York:20230621T213000
DTSTAMP:20260421T152626
CREATED:20230511T133649Z
LAST-MODIFIED:20230511T133649Z
UID:1944-1687377600-1687383000@speakofthedevillorain.com
SUMMARY:COCKTAILS & COMEDY
DESCRIPTION:…the return…come laugh your ass off with us…
URL:https://speakofthedevillorain.com/event/cocktails-comedy-3/
LOCATION:Speak of the Devil\, 201 W 5th St\, Lorain\, OH\, 44052\, United States
ATTACH;FMTTYPE=image/jpeg:https://speakofthedevillorain.com/wp-content/uploads/2023/05/Stand-up-comedy-Event-Cover-Theatre-Show-Ad1.jpg
END:VEVENT
BEGIN:VEVENT
DTSTART;TZID=America/New_York:20230615T170000
DTEND;TZID=America/New_York:20230615T220000
DTSTAMP:20260421T152626
CREATED:20230523T150703Z
LAST-MODIFIED:20230523T150703Z
UID:1956-1686848400-1686866400@speakofthedevillorain.com
SUMMARY:SUMMER SMOKE: A PATIO CIGAR NIGHT
DESCRIPTION:A summer smoke night on the patio. Curated cigars and sips.
URL:https://speakofthedevillorain.com/event/summer-smoke-a-patio-cigar-night/
LOCATION:Speak of the Devil\, 201 W 5th St\, Lorain\, OH\, 44052\, United States
ATTACH;FMTTYPE=image/jpeg:https://speakofthedevillorain.com/wp-content/uploads/2023/05/Cigar.jpg
END:VEVENT
BEGIN:VEVENT
DTSTART;TZID=America/New_York:20230611T113000
DTEND;TZID=America/New_York:20230611T143000
DTSTAMP:20260421T152626
CREATED:20230425T213713Z
LAST-MODIFIED:20230425T214211Z
UID:1926-1686483000-1686493800@speakofthedevillorain.com
SUMMARY:RAMENGEDDON 4: BRUNCH TIME
DESCRIPTION:Black Vulture Ramen sets the brunch table once again!
URL:https://speakofthedevillorain.com/event/ramengeddon-4-brunch-time/
LOCATION:Speak of the Devil\, 201 W 5th St\, Lorain\, OH\, 44052\, United States
ATTACH;FMTTYPE=image/jpeg:https://speakofthedevillorain.com/wp-content/uploads/2023/04/Ramen-1.jpg
END:VEVENT
BEGIN:VEVENT
DTSTART;TZID=America/New_York:20230601T170000
DTEND;TZID=America/New_York:20230601T230000
DTSTAMP:20260421T152626
CREATED:20230511T133413Z
LAST-MODIFIED:20230511T133413Z
UID:1938-1685638800-1685660400@speakofthedevillorain.com
SUMMARY:NATURAL WINES TASTING w/ VOYAGER BEVERAGE
DESCRIPTION:“Natural” is an oft-debated term in winemaking. It isn’t legally protected\, like “Champagne” or “Organic”. To those who are committed to responsible agriculture in drinks\, “Natural” means: Organically farmed\, harvested by hand\, naturally fermented\, and free from any additives (other than a small amount of S02 for consistency and safety purposes). Natural wines are exciting\, dynamic\, and imminently crushable options that don’t have to be pretentious. Voyager Beverage is a wine distributor striving to make drinkable natural wines accessible for all. We partner with both domestic winemakers and international importers to bring some of the best wines that fall under “Natural” into Ohio.\nJoin us in welcoming Eastman Presser from Voyager who will be on premise 5:30pm – 7:30pm to educate on “natural” wines and serve a flight of 4 of these gorgeous sippers to you!
URL:https://speakofthedevillorain.com/event/natural-wines-tasting-w-voyager-beverage/
LOCATION:Speak of the Devil\, 201 W 5th St\, Lorain\, OH\, 44052\, United States
ATTACH;FMTTYPE=image/jpeg:https://speakofthedevillorain.com/wp-content/uploads/2023/05/Wine-Tasting.jpg
END:VEVENT
BEGIN:VEVENT
DTSTART;TZID=America/New_York:20230527T193000
DTEND;TZID=America/New_York:20230527T233000
DTSTAMP:20260421T152626
CREATED:20230425T213529Z
LAST-MODIFIED:20230425T213529Z
UID:1923-1685215800-1685230200@speakofthedevillorain.com
SUMMARY:FROM RYTHYM & BLUES TO SOUL & GROOVES: a set by DJ REY
DESCRIPTION:DJ Rey spins us through a history of American soul\, R&B\, funk and more!
URL:https://speakofthedevillorain.com/event/from-rythym-blues-to-soul-grooves-a-set-by-dj-rey/
LOCATION:Speak of the Devil\, 201 W 5th St\, Lorain\, OH\, 44052\, United States
ATTACH;FMTTYPE=image/jpeg:https://speakofthedevillorain.com/wp-content/uploads/2023/04/558.jpg
END:VEVENT
BEGIN:VEVENT
DTSTART;TZID=America/New_York:20230520T193000
DTEND;TZID=America/New_York:20230520T223000
DTSTAMP:20260421T152626
CREATED:20230306T143212Z
LAST-MODIFIED:20230306T143212Z
UID:1885-1684611000-1684621800@speakofthedevillorain.com
SUMMARY:HARRY BACHARACH
DESCRIPTION:The baby daddy of heavy easy listening returns!
URL:https://speakofthedevillorain.com/event/harry-bacharach-7/
LOCATION:Speak of the Devil\, 201 W 5th St\, Lorain\, OH\, 44052\, United States
ATTACH;FMTTYPE=image/jpeg:https://speakofthedevillorain.com/wp-content/uploads/2023/03/Music-Event-ADS.jpg
END:VEVENT
BEGIN:VEVENT
DTSTART;TZID=America/New_York:20230518T190000
DTEND;TZID=America/New_York:20230518T210000
DTSTAMP:20260421T152626
CREATED:20230425T213228Z
LAST-MODIFIED:20230425T213228Z
UID:1921-1684436400-1684443600@speakofthedevillorain.com
SUMMARY:TRIVIA NIGHT WITH GAME SHOW JESUS: 2000's SITCOMS EDITION
DESCRIPTION:Game Show Jesus returns for another night of miraculously fun trivia!
URL:https://speakofthedevillorain.com/event/trivia-night-with-game-show-jesus-2000s-sitcoms-edition/
LOCATION:Speak of the Devil\, 201 W 5th St\, Lorain\, OH\, 44052\, United States
ATTACH;FMTTYPE=image/jpeg:https://speakofthedevillorain.com/wp-content/uploads/2023/01/Sitcom-Trivia-Facebook-Cover1.jpg
END:VEVENT
BEGIN:VEVENT
DTSTART;TZID=America/New_York:20230517T170000
DTEND;TZID=America/New_York:20230517T220000
DTSTAMP:20260421T152626
CREATED:20230306T143104Z
LAST-MODIFIED:20230306T143104Z
UID:1882-1684342800-1684360800@speakofthedevillorain.com
SUMMARY:DICKEL & DOGS  PATIO OPENING
DESCRIPTION:It’s patio season! We will be celebrating the start of summer with Dickel & Dogs once again! $1 hot dogs (while supplies last) and specially priced Geo. Dickel spirits cocktails!
URL:https://speakofthedevillorain.com/event/dickel-dogs-patio-opening/
LOCATION:Speak of the Devil\, 201 W 5th St\, Lorain\, OH\, 44052\, United States
ATTACH;FMTTYPE=image/jpeg:https://speakofthedevillorain.com/wp-content/uploads/2023/03/Copy-of-BBQ-party-Facebook-Shared-Image.jpg
END:VEVENT
BEGIN:VEVENT
DTSTART;TZID=America/New_York:20230515T190000
DTEND;TZID=America/New_York:20230515T203000
DTSTAMP:20260421T152626
CREATED:20230511T133538Z
LAST-MODIFIED:20230511T133538Z
UID:1941-1684177200-1684182600@speakofthedevillorain.com
SUMMARY:CIGARS & THE WHISKIES OF WILLETT - SOLD OUT
DESCRIPTION:Joins us for a night of sticks and Willett whiskies – featuring their remarkable 10 year rye!
URL:https://speakofthedevillorain.com/event/cigars-the-whiskies-of-willett-sold-out/
LOCATION:Speak of the Devil\, 201 W 5th St\, Lorain\, OH\, 44052\, United States
ATTACH;FMTTYPE=image/jpeg:https://speakofthedevillorain.com/wp-content/uploads/2023/05/5581.jpg
END:VEVENT
BEGIN:VEVENT
DTSTART;TZID=America/New_York:20230506T193000
DTEND;TZID=America/New_York:20230506T223000
DTSTAMP:20260421T152626
CREATED:20230130T183504Z
LAST-MODIFIED:20230130T183504Z
UID:1855-1683401400-1683412200@speakofthedevillorain.com
SUMMARY:GHANI HARRIS
DESCRIPTION:The inimitable Ghani Harris takes to the SOTD stage!
URL:https://speakofthedevillorain.com/event/ghani-harris-3/
LOCATION:Speak of the Devil\, 201 W 5th St\, Lorain\, OH\, 44052\, United States
ATTACH;FMTTYPE=image/jpeg:https://speakofthedevillorain.com/wp-content/uploads/2023/01/Copy-of-OPEN-MIC-NIGHT-FLYER.jpg
END:VEVENT
BEGIN:VEVENT
DTSTART;TZID=America/New_York:20230429T193000
DTEND;TZID=America/New_York:20230429T223000
DTSTAMP:20260421T152626
CREATED:20230306T142928Z
LAST-MODIFIED:20230306T142928Z
UID:1879-1682796600-1682807400@speakofthedevillorain.com
SUMMARY:DJ MAX PAYOLA
DESCRIPTION:DJ Max Payola returns to set the soundtrack for another groovy\, vinyl fueled night.
URL:https://speakofthedevillorain.com/event/dj-max-payola/
LOCATION:Speak of the Devil\, 201 W 5th St\, Lorain\, OH\, 44052\, United States
ATTACH;FMTTYPE=image/jpeg:https://speakofthedevillorain.com/wp-content/uploads/2023/03/558.jpg
END:VEVENT
BEGIN:VEVENT
DTSTART;TZID=America/New_York:20230422T193000
DTEND;TZID=America/New_York:20230422T223000
DTSTAMP:20260421T152626
CREATED:20221228T180500Z
LAST-MODIFIED:20221228T180500Z
UID:1830-1682191800-1682202600@speakofthedevillorain.com
SUMMARY:AUSTIN 'WALKIN' CANE
DESCRIPTION:Welcome Austin ‘Walkin’ Cane back with us!
URL:https://speakofthedevillorain.com/event/austin-walkin-cane-6/
LOCATION:Speak of the Devil\, 201 W 5th St\, Lorain\, OH\, 44052\, United States
ATTACH;FMTTYPE=image/jpeg:https://speakofthedevillorain.com/wp-content/uploads/2022/12/Copy-of-Live-music.jpg
END:VEVENT
BEGIN:VEVENT
DTSTART;TZID=America/New_York:20230420T190000
DTEND;TZID=America/New_York:20230420T210000
DTSTAMP:20260421T152626
CREATED:20230130T184604Z
LAST-MODIFIED:20230130T184604Z
UID:1860-1682017200-1682024400@speakofthedevillorain.com
SUMMARY:TRIVIA NIGHT WITH GAME SHOW JESUS: 90'S SITCOMS EDITION
DESCRIPTION:90’s sitcoms trivia with the one and only Game Show Jesus
URL:https://speakofthedevillorain.com/event/trivia-night-with-game-show-jesus-90s-sitcoms-edition/
LOCATION:Speak of the Devil\, 201 W 5th St\, Lorain\, OH\, 44052\, United States
ATTACH;FMTTYPE=image/jpeg:https://speakofthedevillorain.com/wp-content/uploads/2023/01/Sitcom-Trivia-Facebook-Cover1.jpg
END:VEVENT
BEGIN:VEVENT
DTSTART;TZID=America/New_York:20230419T170000
DTEND;TZID=America/New_York:20230419T220000
DTSTAMP:20260421T152626
CREATED:20221228T180642Z
LAST-MODIFIED:20221228T180642Z
UID:1833-1681923600-1681941600@speakofthedevillorain.com
SUMMARY:ABRAHAM OVERHOLT BIRTHDAY PARTY
DESCRIPTION:Stop in and celebrate the 239th birthday of our favorite distiller
URL:https://speakofthedevillorain.com/event/abraham-overholt-birthday-party/
LOCATION:Speak of the Devil\, 201 W 5th St\, Lorain\, OH\, 44052\, United States
ATTACH;FMTTYPE=image/jpeg:https://speakofthedevillorain.com/wp-content/uploads/2022/12/New-Single-NEW-ALBUM-RELEASE-PRE-ORDER-NOW2.jpg
END:VEVENT
BEGIN:VEVENT
DTSTART;TZID=America/New_York:20230415T193000
DTEND;TZID=America/New_York:20230415T223000
DTSTAMP:20260421T152626
CREATED:20221228T180402Z
LAST-MODIFIED:20221228T180402Z
UID:1827-1681587000-1681597800@speakofthedevillorain.com
SUMMARY:JOE HALL
DESCRIPTION:Join us as Joe Hall rocks our night away.
URL:https://speakofthedevillorain.com/event/joe-hall-4/
LOCATION:Speak of the Devil\, 201 W 5th St\, Lorain\, OH\, 44052\, United States
ATTACH;FMTTYPE=image/jpeg:https://speakofthedevillorain.com/wp-content/uploads/2022/12/Guitar-Event-Facebook-Cover-Template.jpg
END:VEVENT
BEGIN:VEVENT
DTSTART;TZID=America/New_York:20230327T190000
DTEND;TZID=America/New_York:20230327T203000
DTSTAMP:20260421T152626
CREATED:20230306T142623Z
LAST-MODIFIED:20230307T133946Z
UID:1874-1679943600-1679949000@speakofthedevillorain.com
SUMMARY:OLD FORESTER BIRTHDAY & OTHER DELIGHTS
DESCRIPTION:Join us for our Old Forester Birthday bourbon tasting! We will also be tasting a Old Forester OHLQ Single Barrel Selection\, Old Forester 100\, a welcome cocktail\, light appetizers and other surprises! $100 per person. Very limited seating.
URL:https://speakofthedevillorain.com/event/old-forester-birthday-other-delights/
LOCATION:Speak of the Devil\, 201 W 5th St\, Lorain\, OH\, 44052\, United States
ATTACH;FMTTYPE=image/jpeg:https://speakofthedevillorain.com/wp-content/uploads/2023/03/Live-music1.jpg
END:VEVENT
BEGIN:VEVENT
DTSTART;TZID=America/New_York:20230325T193000
DTEND;TZID=America/New_York:20230325T223000
DTSTAMP:20260421T152626
CREATED:20221228T180217Z
LAST-MODIFIED:20221228T180217Z
UID:1824-1679772600-1679783400@speakofthedevillorain.com
SUMMARY:KRISTINE JACKSON
DESCRIPTION:Kristine Jackson brings her rootsy blues and rock’n’roll to town!
URL:https://speakofthedevillorain.com/event/kristine-jackson-3/
LOCATION:Speak of the Devil\, 201 W 5th St\, Lorain\, OH\, 44052\, United States
ATTACH;FMTTYPE=image/jpeg:https://speakofthedevillorain.com/wp-content/uploads/2022/12/MUSIC-BANNER.jpg
END:VEVENT
BEGIN:VEVENT
DTSTART;TZID=America/New_York:20230323T190000
DTEND;TZID=America/New_York:20230323T210000
DTSTAMP:20260421T152626
CREATED:20230130T183351Z
LAST-MODIFIED:20230130T183351Z
UID:1852-1679598000-1679605200@speakofthedevillorain.com
SUMMARY:TRIVIA NIGHT WITH GAME SHOW JESUS: 80'S SITCOMS EDITION
DESCRIPTION:Trivia Night with Game Show Jesus RETURNS!  80’s Sitcom’s edition!!
URL:https://speakofthedevillorain.com/event/trivia-night-with-game-show-jesus-80s-sitcoms-edition/
LOCATION:Speak of the Devil\, 201 W 5th St\, Lorain\, OH\, 44052\, United States
ATTACH;FMTTYPE=image/jpeg:https://speakofthedevillorain.com/wp-content/uploads/2023/01/Sitcom-Trivia-Facebook-Cover1.jpg
END:VEVENT
BEGIN:VEVENT
DTSTART;TZID=America/New_York:20230312T113000
DTEND;TZID=America/New_York:20230312T143000
DTSTAMP:20260421T152626
CREATED:20230228T154652Z
LAST-MODIFIED:20230307T134023Z
UID:1870-1678620600-1678631400@speakofthedevillorain.com
SUMMARY:RAMENGEDDON 3 - THE BRUNCH
DESCRIPTION:Join us as we once again welcome Black Vulture Ramen for a Sunday Brunch!  Asian inspired Bloody Mary’s\, Mimosa’s and Sapporo beer.
URL:https://speakofthedevillorain.com/event/ramengeddon-3-the-brunch/
LOCATION:Speak of the Devil\, 201 W 5th St\, Lorain\, OH\, 44052\, United States
ATTACH;FMTTYPE=image/jpeg:https://speakofthedevillorain.com/wp-content/uploads/2023/02/Ramen1.jpg
END:VEVENT
BEGIN:VEVENT
DTSTART;TZID=America/New_York:20230311T073000
DTEND;TZID=America/New_York:20230311T223000
DTSTAMP:20260421T152626
CREATED:20221228T175920Z
LAST-MODIFIED:20221228T175920Z
UID:1821-1678519800-1678573800@speakofthedevillorain.com
SUMMARY:THE SHANNON ELLER JAZZ TRIO
DESCRIPTION:The inimitable Shannon Eller leads her trio through jazz and stage standards
URL:https://speakofthedevillorain.com/event/the-shannon-eller-jazz-trio/
LOCATION:Speak of the Devil\, 201 W 5th St\, Lorain\, OH\, 44052\, United States
ATTACH;FMTTYPE=image/jpeg:https://speakofthedevillorain.com/wp-content/uploads/2022/12/jazz.jpg
END:VEVENT
BEGIN:VEVENT
DTSTART;TZID=America/New_York:20230306T190000
DTEND;TZID=America/New_York:20230306T210000
DTSTAMP:20260421T152626
CREATED:20230130T182851Z
LAST-MODIFIED:20230306T220932Z
UID:1848-1678129200-1678136400@speakofthedevillorain.com
SUMMARY:THE MARTINI: A HANDS ON COCKTAIL CLASS
DESCRIPTION:The second in our new cocktail class series focuses on the history of gin\, the Martini\, how the Martini came to be\, how the Martini is properly made and how to think about creating variations of the classic cocktail. This is a very limited event where you will not only learn\, but choose your own ingredients to make your own Martini behind our bar! Only twelve seats are available and secured with pre-payment! Inbox us or ask your bartender or server! $135 per seat
URL:https://speakofthedevillorain.com/event/the-martini-a-hands-on-cocktail-class/
LOCATION:Speak of the Devil\, 201 W 5th St\, Lorain\, OH\, 44052\, United States
ATTACH;FMTTYPE=image/jpeg:https://speakofthedevillorain.com/wp-content/uploads/2023/01/Facebook-Event-Cover.jpg
END:VEVENT
BEGIN:VEVENT
DTSTART;TZID=America/New_York:20230304T073000
DTEND;TZID=America/New_York:20230304T223000
DTSTAMP:20260421T152626
CREATED:20221228T175814Z
LAST-MODIFIED:20221228T175814Z
UID:1818-1677915000-1677969000@speakofthedevillorain.com
SUMMARY:MIKE PETRONE
DESCRIPTION:Cleveland’s Piano Man returns to Lorain!
URL:https://speakofthedevillorain.com/event/mike-petrone-3/
LOCATION:Speak of the Devil\, 201 W 5th St\, Lorain\, OH\, 44052\, United States
ATTACH;FMTTYPE=image/jpeg:https://speakofthedevillorain.com/wp-content/uploads/2022/12/JAZZ-BANNER.jpg
END:VEVENT
BEGIN:VEVENT
DTSTART;TZID=America/New_York:20230223T190000
DTEND;TZID=America/New_York:20230223T210000
DTSTAMP:20260421T152626
CREATED:20230127T190725Z
LAST-MODIFIED:20230130T182722Z
UID:1843-1677178800-1677186000@speakofthedevillorain.com
SUMMARY:TRIVIA NIGHT WITH GAME SHOW JESUS: 70'S SITCOMS EDITION
DESCRIPTION:Game Show Jesus returns with sitcom trivia from the 70’s up to today!
URL:https://speakofthedevillorain.com/event/trivia-night-with-game-show-jesus-sitcoms/
LOCATION:Speak of the Devil\, 201 W 5th St\, Lorain\, OH\, 44052\, United States
ATTACH;FMTTYPE=image/jpeg:https://speakofthedevillorain.com/wp-content/uploads/2023/01/Sitcom-Trivia-Facebook-Cover.jpg
END:VEVENT
BEGIN:VEVENT
DTSTART;TZID=America/New_York:20230221T193000
DTEND;TZID=America/New_York:20230221T220000
DTSTAMP:20260421T152626
CREATED:20221117T155840Z
LAST-MODIFIED:20230130T184006Z
UID:1786-1677007800-1677016800@speakofthedevillorain.com
SUMMARY:BOURBON STREET BURLESQUE starring QUEEN BEE CABARET
DESCRIPTION:Our first ever Fat Tuesday Mardi Gras spectacular starring Cincinnati’s one and only Queen Bee Cabaret in a Bourbon Street Burlesque! Live band! Three performers! Two performances each! Introduced by comedian David Morales!\nTickets are limited (54) and anticipated to go quickly. Stop in the bar and secure your seat and ticket today($30)!
URL:https://speakofthedevillorain.com/event/bourbon-street-burlesque-starring-queen-bee-cabaret/
LOCATION:Speak of the Devil\, 201 W 5th St\, Lorain\, OH\, 44052\, United States
ATTACH;FMTTYPE=image/jpeg:https://speakofthedevillorain.com/wp-content/uploads/2022/11/Sold-Out.jpg
END:VEVENT
BEGIN:VEVENT
DTSTART;TZID=America/New_York:20230218T193000
DTEND;TZID=America/New_York:20230218T223000
DTSTAMP:20260421T152626
CREATED:20221228T175639Z
LAST-MODIFIED:20221228T175639Z
UID:1815-1676748600-1676759400@speakofthedevillorain.com
SUMMARY:ANTHONY SCROFANO
DESCRIPTION:Anthony Scrofano returns the the stage that he built.
URL:https://speakofthedevillorain.com/event/anthony-scrofano-8/
LOCATION:Speak of the Devil\, 201 W 5th St\, Lorain\, OH\, 44052\, United States
ATTACH;FMTTYPE=image/jpeg:https://speakofthedevillorain.com/wp-content/uploads/2022/12/New-Single-NEW-ALBUM-RELEASE-PRE-ORDER-NOW1.jpg
END:VEVENT
BEGIN:VEVENT
DTSTART;TZID=America/New_York:20230211T190000
DTEND;TZID=America/New_York:20230211T230000
DTSTAMP:20260421T152626
CREATED:20221228T175525Z
LAST-MODIFIED:20221228T175525Z
UID:1812-1676142000-1676156400@speakofthedevillorain.com
SUMMARY:PSYCHO TIKI WEEK 2023: DJ SILVERSKULL
DESCRIPTION:DJ Silverskull spins vintage vinyl reggae and dub to brink Tiki Week 2023 to a close!
URL:https://speakofthedevillorain.com/event/psycho-tiki-week-2023-dj-silverskull/
LOCATION:Speak of the Devil\, 201 W 5th St\, Lorain\, OH\, 44052\, United States
ATTACH;FMTTYPE=image/jpeg:https://speakofthedevillorain.com/wp-content/uploads/2022/12/New-Single-NEW-ALBUM-RELEASE-PRE-ORDER-NOW.jpg
END:VEVENT
BEGIN:VEVENT
DTSTART;TZID=America/New_York:20230208T170000
DTEND;TZID=America/New_York:20230208T220000
DTSTAMP:20260421T152626
CREATED:20221117T155444Z
LAST-MODIFIED:20221117T155444Z
UID:1780-1675875600-1675893600@speakofthedevillorain.com
SUMMARY:PSYCHO TIKI: AN LBM TAKEOVER
DESCRIPTION:We kick off 2023’s Tiki Week with PSYCHO TIKI. Our dear friends at LBM return to takeover the Speak of the Devil bar and to piss the tiki gods off!!
URL:https://speakofthedevillorain.com/event/psycho-tiki-an-lbm-takeover/
LOCATION:Speak of the Devil\, 201 W 5th St\, Lorain\, OH\, 44052\, United States
ATTACH;FMTTYPE=image/jpeg:https://speakofthedevillorain.com/wp-content/uploads/2022/11/psycho-tiki1.jpg
END:VEVENT
BEGIN:VEVENT
DTSTART;TZID=America/New_York:20230128T193000
DTEND;TZID=America/New_York:20230128T223000
DTSTAMP:20260421T152626
CREATED:20230127T190511Z
LAST-MODIFIED:20230127T190511Z
UID:1840-1674934200-1674945000@speakofthedevillorain.com
SUMMARY:AUSTIN "WALKIN" CANE
DESCRIPTION:The growl returns!
URL:https://speakofthedevillorain.com/event/austin-walkin-cane-7/
LOCATION:Speak of the Devil\, 201 W 5th St\, Lorain\, OH\, 44052\, United States
ATTACH;FMTTYPE=image/jpeg:https://speakofthedevillorain.com/wp-content/uploads/2023/01/Copy-of-Live-music1.jpg
END:VEVENT
BEGIN:VEVENT
DTSTART;TZID=America/New_York:20230123T190000
DTEND;TZID=America/New_York:20230123T203000
DTSTAMP:20260421T152626
CREATED:20221130T150427Z
LAST-MODIFIED:20221130T150427Z
UID:1794-1674500400-1674505800@speakofthedevillorain.com
SUMMARY:AN EVENING WITH WESTERN RESERVE DISTILLERS
DESCRIPTION:Join us for a unique evening of spirits tasting with Lakewood\, Ohio’s Western Reserve Distillers. Two aged agave spirits (reposado and anejo) finished in wet bourbon barrels\, an 18 year rye finished in Carribean rum casks and a fabulous 20 year rye finished in Oloroso sherry casks. WRD’s kitchen will provide light hors d’oeuvres. $100
URL:https://speakofthedevillorain.com/event/an-evening-with-western-reserve-distillers/
LOCATION:Speak of the Devil\, 201 W 5th St\, Lorain\, OH\, 44052\, United States
ATTACH;FMTTYPE=image/png:https://speakofthedevillorain.com/wp-content/uploads/2022/11/Inspirational-flyer.png
END:VEVENT
BEGIN:VEVENT
DTSTART;TZID=America/New_York:20230118T180000
DTEND;TZID=America/New_York:20230118T200000
DTSTAMP:20260421T152626
CREATED:20221117T155633Z
LAST-MODIFIED:20221117T155633Z
UID:1783-1674064800-1674072000@speakofthedevillorain.com
SUMMARY:THE OLD FASHIONED INVITATIONAL
DESCRIPTION:Multiple bars and bartenders come together to face off in a friendly competition with their best Old Fashioned or Old Fashioned riff! The first annual Old Fashioned Invitational will see talented drink makers from Cleveland’s LBM\, Spotted Owl\, Salt+\, Thyme Table\, Tiki Underground and Pittsburgh’s Maggie’s Farm amongst others coming together to craft their idea of the perfect Old Fashioned…but will the judge’s agree?\nThe real winner? YOU\, taste them yourself\, choose your favorite!
URL:https://speakofthedevillorain.com/event/the-old-fashioned-invitational/
LOCATION:Speak of the Devil\, 201 W 5th St\, Lorain\, OH\, 44052\, United States
ATTACH;FMTTYPE=image/jpeg:https://speakofthedevillorain.com/wp-content/uploads/2022/11/Old-Fash2.jpg
END:VEVENT
END:VCALENDAR