BEGIN:VCALENDAR
VERSION:2.0
PRODID:-// - ECPv6.15.20//NONSGML v1.0//EN
CALSCALE:GREGORIAN
METHOD:PUBLISH
X-ORIGINAL-URL:https://speakofthedevillorain.com
X-WR-CALDESC:Events for 
REFRESH-INTERVAL;VALUE=DURATION:PT1H
X-Robots-Tag:noindex
X-PUBLISHED-TTL:PT1H
BEGIN:VTIMEZONE
TZID:America/New_York
BEGIN:DAYLIGHT
TZOFFSETFROM:-0500
TZOFFSETTO:-0400
TZNAME:EDT
DTSTART:20190310T070000
END:DAYLIGHT
BEGIN:STANDARD
TZOFFSETFROM:-0400
TZOFFSETTO:-0500
TZNAME:EST
DTSTART:20191103T060000
END:STANDARD
BEGIN:DAYLIGHT
TZOFFSETFROM:-0500
TZOFFSETTO:-0400
TZNAME:EDT
DTSTART:20200308T070000
END:DAYLIGHT
BEGIN:STANDARD
TZOFFSETFROM:-0400
TZOFFSETTO:-0500
TZNAME:EST
DTSTART:20201101T060000
END:STANDARD
BEGIN:DAYLIGHT
TZOFFSETFROM:-0500
TZOFFSETTO:-0400
TZNAME:EDT
DTSTART:20210314T070000
END:DAYLIGHT
BEGIN:STANDARD
TZOFFSETFROM:-0400
TZOFFSETTO:-0500
TZNAME:EST
DTSTART:20211107T060000
END:STANDARD
BEGIN:DAYLIGHT
TZOFFSETFROM:-0500
TZOFFSETTO:-0400
TZNAME:EDT
DTSTART:20220313T070000
END:DAYLIGHT
BEGIN:STANDARD
TZOFFSETFROM:-0400
TZOFFSETTO:-0500
TZNAME:EST
DTSTART:20221106T060000
END:STANDARD
END:VTIMEZONE
BEGIN:VEVENT
DTSTART;TZID=America/New_York:20211218T070000
DTEND;TZID=America/New_York:20211218T220000
DTSTAMP:20260421T224217
CREATED:20211018T191342Z
LAST-MODIFIED:20211018T191342Z
UID:1528-1639810800-1639864800@speakofthedevillorain.com
SUMMARY:The Don Disantis Trio
DESCRIPTION:Celebrate the Holiday season with the incomparable Don Disantis Trio as Speak of the Devil
URL:https://speakofthedevillorain.com/event/the-don-disantis-trio/
LOCATION:Speak of the Devil\, 201 W 5th St\, Lorain\, OH\, 44052\, United States
ATTACH;FMTTYPE=image/jpeg:https://speakofthedevillorain.com/wp-content/uploads/2021/10/disantis.jpg
END:VEVENT
BEGIN:VEVENT
DTSTART;TZID=America/New_York:20211211T190000
DTEND;TZID=America/New_York:20211211T220000
DTSTAMP:20260421T224217
CREATED:20211018T191154Z
LAST-MODIFIED:20211018T191154Z
UID:1525-1639249200-1639260000@speakofthedevillorain.com
SUMMARY:Anthony Scrofano
DESCRIPTION:Anthony Scrofano LIVE at Speak of the Devil
URL:https://speakofthedevillorain.com/event/anthony-scrofano-5/
LOCATION:Speak of the Devil\, 201 W 5th St\, Lorain\, OH\, 44052\, United States
ATTACH;FMTTYPE=image/jpeg:https://speakofthedevillorain.com/wp-content/uploads/2021/10/26196064_1783211988390711_8282037170008070724_n.jpg
END:VEVENT
BEGIN:VEVENT
DTSTART;TZID=America/New_York:20211209T190000
DTEND;TZID=America/New_York:20211209T210000
DTSTAMP:20260421T224217
CREATED:20211018T190846Z
LAST-MODIFIED:20211110T161739Z
UID:1523-1639076400-1639083600@speakofthedevillorain.com
SUMMARY:SOTD Film School with Game Show Jesus (Jonathon Sinibaldi): Holiday Edition
DESCRIPTION:It’s Holiday Movie Trivia night with Game Show Jesus (Jonathon Sinibaldi)!!
URL:https://speakofthedevillorain.com/event/sotd-film-school-with-game-show-jesus-jonathon-sinibaldi-holiday-edition/
LOCATION:Speak of the Devil\, 201 W 5th St\, Lorain\, OH\, 44052\, United States
ATTACH;FMTTYPE=image/jpeg:https://speakofthedevillorain.com/wp-content/uploads/2021/07/Trivia.jpg
END:VEVENT
BEGIN:VEVENT
DTSTART;TZID=America/New_York:20211127T190000
DTEND;TZID=America/New_York:20211127T220000
DTSTAMP:20260421T224217
CREATED:20210726T152416Z
LAST-MODIFIED:20210726T152441Z
UID:1474-1638039600-1638050400@speakofthedevillorain.com
SUMMARY:Jonathon Hooper
DESCRIPTION:Kick of the 2021 Holiday Season as Jonathon Hooper takes to the Speak of the Devil stage with a set of jazz standards and some holiday sing-alongs!
URL:https://speakofthedevillorain.com/event/jonathon-hooper/
LOCATION:Speak of the Devil\, 201 W 5th St\, Lorain\, OH\, 44052\, United States
ATTACH;FMTTYPE=image/jpeg:https://speakofthedevillorain.com/wp-content/uploads/2021/07/220865634_4739030566126461_780793241407262419_n.jpg
END:VEVENT
BEGIN:VEVENT
DTSTART;TZID=America/New_York:20211127T050000
DTEND;TZID=America/New_York:20211127T235900
DTSTAMP:20260421T224217
CREATED:20211018T190749Z
LAST-MODIFIED:20211018T190749Z
UID:1521-1637989200-1638057540@speakofthedevillorain.com
SUMMARY:8th Annual Nog & Glogg
DESCRIPTION:Join us for a little bit of Holiday Cheer – Speak of the Devil’s 8th Annual Nog & Glogg
URL:https://speakofthedevillorain.com/event/8th-annual-nog-glogg-2/
LOCATION:Speak of the Devil\, 201 W 5th St\, Lorain\, OH\, 44052\, United States
ATTACH;FMTTYPE=image/jpeg:https://speakofthedevillorain.com/wp-content/uploads/2021/10/78228826_3030880293608172_1701622023555383296_o.jpg
END:VEVENT
BEGIN:VEVENT
DTSTART;TZID=America/New_York:20211126T050000
DTEND;TZID=America/New_York:20211126T235900
DTSTAMP:20260421T224217
CREATED:20211018T190710Z
LAST-MODIFIED:20211018T190710Z
UID:1518-1637902800-1637971140@speakofthedevillorain.com
SUMMARY:8th Annual Nog & Glogg
DESCRIPTION:Join us for a little bit of Holiday Cheer – Speak of the Devil’s 8th Annual Nog & Glogg
URL:https://speakofthedevillorain.com/event/8th-annual-nog-glogg/
LOCATION:Speak of the Devil\, 201 W 5th St\, Lorain\, OH\, 44052\, United States
ATTACH;FMTTYPE=image/jpeg:https://speakofthedevillorain.com/wp-content/uploads/2021/10/78228826_3030880293608172_1701622023555383296_o.jpg
END:VEVENT
BEGIN:VEVENT
DTSTART;TZID=America/New_York:20211124T170000
DTEND;TZID=America/New_York:20211124T220000
DTSTAMP:20260421T224217
CREATED:20211018T190412Z
LAST-MODIFIED:20211018T190412Z
UID:1515-1637773200-1637791200@speakofthedevillorain.com
SUMMARY:Turkey Time
DESCRIPTION:Thanksgiving eve means it’s Turkey Time! Get your turkey early\, classic cocktails gone to the birds with Wild Turkey
URL:https://speakofthedevillorain.com/event/turkey-time/
LOCATION:Speak of the Devil\, 201 W 5th St\, Lorain\, OH\, 44052\, United States
ATTACH;FMTTYPE=image/jpeg:https://speakofthedevillorain.com/wp-content/uploads/2021/10/57.jpg
END:VEVENT
BEGIN:VEVENT
DTSTART;TZID=America/New_York:20211117T170000
DTEND;TZID=America/New_York:20211117T220000
DTSTAMP:20260421T224217
CREATED:20211018T190245Z
LAST-MODIFIED:20211018T190245Z
UID:1512-1637168400-1637186400@speakofthedevillorain.com
SUMMARY:Holiday Wine Tasting
DESCRIPTION:Join Courtney from Heidelberg and us as Ms. Courtney brings four festive holiday wines to taste and choose from for your holiday celebrations!
URL:https://speakofthedevillorain.com/event/holiday-wine-tasting/
LOCATION:Speak of the Devil\, 201 W 5th St\, Lorain\, OH\, 44052\, United States
ATTACH;FMTTYPE=image/jpeg:https://speakofthedevillorain.com/wp-content/uploads/2021/10/HolidayWineCover2.jpg
END:VEVENT
BEGIN:VEVENT
DTSTART;TZID=America/New_York:20211113T190000
DTEND;TZID=America/New_York:20211113T220000
DTSTAMP:20260421T224217
CREATED:20211018T190015Z
LAST-MODIFIED:20211018T190015Z
UID:1509-1636830000-1636840800@speakofthedevillorain.com
SUMMARY:Mike Petrone
DESCRIPTION:Join us as we welcome the one and the only Mike Petrone – Cleveland’s piano man to the Speak of the Devil stage. For 40 years piano man Mike Petrone has been entertaining nightly in downtown Cleveland\, tonight\, he plays Lorain!
URL:https://speakofthedevillorain.com/event/mike-petrone/
LOCATION:Speak of the Devil\, 201 W 5th St\, Lorain\, OH\, 44052\, United States
ATTACH;FMTTYPE=image/jpeg:https://speakofthedevillorain.com/wp-content/uploads/2021/10/37907290_2230389957001130_7049021070610792448_n.jpg
END:VEVENT
BEGIN:VEVENT
DTSTART;TZID=America/New_York:20211111T190000
DTEND;TZID=America/New_York:20211111T210000
DTSTAMP:20260421T224217
CREATED:20210726T145821Z
LAST-MODIFIED:20210726T151736Z
UID:1460-1636657200-1636664400@speakofthedevillorain.com
SUMMARY:SOTD Film School: Movie Trivia Night with Game Show Jesus -  JOHN HUGHES EDITION
DESCRIPTION:Join Game Show Jesus (Jonathon Sinibaldi) for our two rounds of John Hughes movie trivia!  Fun drinks\, prizes for winning (and maybe losing!)
URL:https://speakofthedevillorain.com/event/sotd-film-school-movie-trivia-night-with-game-show-jesus-john-hughes-edition/
LOCATION:Speak of the Devil\, 201 W 5th St\, Lorain\, OH\, 44052\, United States
ATTACH;FMTTYPE=image/jpeg:https://speakofthedevillorain.com/wp-content/uploads/2021/07/Trivia.jpg
END:VEVENT
BEGIN:VEVENT
DTSTART;TZID=America/New_York:20211028T190000
DTEND;TZID=America/New_York:20211028T210000
DTSTAMP:20260421T224217
CREATED:20211018T185732Z
LAST-MODIFIED:20211018T185752Z
UID:1505-1635447600-1635454800@speakofthedevillorain.com
SUMMARY:SOTD Film School: Movie Trivia Night with Game Show Jesus (Jonathon Sinibaldi): Horror Movies
DESCRIPTION:A very special Halloween version of SOTD Film School Movie Trivia featuring the one and only Game Show Jesus!
URL:https://speakofthedevillorain.com/event/sotd-film-school-movie-trivia-night-with-game-show-jesus-jonathon-sinibaldi-horror-movies/
LOCATION:Speak of the Devil\, 201 W 5th St\, Lorain\, OH\, 44052\, United States
ATTACH;FMTTYPE=image/jpeg:https://speakofthedevillorain.com/wp-content/uploads/2021/07/Trivia.jpg
END:VEVENT
BEGIN:VEVENT
DTSTART;TZID=America/New_York:20211023T190000
DTEND;TZID=America/New_York:20211023T220000
DTSTAMP:20260421T224217
CREATED:20211018T185502Z
LAST-MODIFIED:20211018T185502Z
UID:1502-1635015600-1635026400@speakofthedevillorain.com
SUMMARY:Joe Hall
DESCRIPTION:Join us as we welcome Joe Hall to the Speak stage for the first time!
URL:https://speakofthedevillorain.com/event/joe-hall/
LOCATION:Speak of the Devil\, 201 W 5th St\, Lorain\, OH\, 44052\, United States
ATTACH;FMTTYPE=image/jpeg:https://speakofthedevillorain.com/wp-content/uploads/2021/10/181600700_10224949031297025_8988812405786576598_n.jpg
END:VEVENT
BEGIN:VEVENT
DTSTART;TZID=America/New_York:20211014T190000
DTEND;TZID=America/New_York:20211014T210000
DTSTAMP:20260421T224217
CREATED:20210726T145631Z
LAST-MODIFIED:20210726T151749Z
UID:1458-1634238000-1634245200@speakofthedevillorain.com
SUMMARY:SOTD Film School: Movie Trivia with Game Show Jesus - SPIELBERG EDITION
DESCRIPTION:Join Game Show Jesus (Jonathon Sinibaldi) for our two rounds of Steven Spielberg movie trivia!  Fun drinks\, prizes for winning (and maybe losing!)
URL:https://speakofthedevillorain.com/event/sotd-film-school-movie-trivia-with-game-show-jesus-spielberg-edition/
LOCATION:Speak of the Devil\, 201 W 5th St\, Lorain\, OH\, 44052\, United States
ATTACH;FMTTYPE=image/jpeg:https://speakofthedevillorain.com/wp-content/uploads/2021/07/Trivia.jpg
END:VEVENT
BEGIN:VEVENT
DTSTART;TZID=America/New_York:20210925T193000
DTEND;TZID=America/New_York:20210925T223000
DTSTAMP:20260421T224217
CREATED:20210726T152207Z
LAST-MODIFIED:20210726T152251Z
UID:1469-1632598200-1632609000@speakofthedevillorain.com
SUMMARY:Paul Wolf Christensen
DESCRIPTION:Join us in welcoming multi-instrumentalist/singer Paul Wolf Christensen (Michael Stanley & the Resonators) back to Speak of the Devil!
URL:https://speakofthedevillorain.com/event/paul-wold-christensen/
LOCATION:Speak of the Devil\, 201 W 5th St\, Lorain\, OH\, 44052\, United States
ATTACH;FMTTYPE=image/jpeg:https://speakofthedevillorain.com/wp-content/uploads/2021/07/218659374_4730613113634873_434472887109049037_n.jpg
END:VEVENT
BEGIN:VEVENT
DTSTART;TZID=America/New_York:20210909T190000
DTEND;TZID=America/New_York:20210909T210000
DTSTAMP:20260421T224217
CREATED:20210726T145456Z
LAST-MODIFIED:20210726T151804Z
UID:1456-1631214000-1631221200@speakofthedevillorain.com
SUMMARY:SOTD Film School: Movie Trivia with Game Show Jesus - SCORSESE EDITION
DESCRIPTION:Join Game Show Jesus (Jonathon Sinibaldi) for our two rounds of Marty Scorsese movie trivia!  Fun drinks\, prizes for winning (and maybe losing!)
URL:https://speakofthedevillorain.com/event/sotd-film-school-movie-trivia-with-game-show-jesus-scorsese-edition/
LOCATION:Speak of the Devil\, 201 W 5th St\, Lorain\, OH\, 44052\, United States
ATTACH;FMTTYPE=image/jpeg:https://speakofthedevillorain.com/wp-content/uploads/2021/07/Trivia.jpg
END:VEVENT
BEGIN:VEVENT
DTSTART;TZID=America/New_York:20210904T193000
DTEND;TZID=America/New_York:20210904T223000
DTSTAMP:20260421T224217
CREATED:20210322T132024Z
LAST-MODIFIED:20210322T132541Z
UID:1392-1630783800-1630794600@speakofthedevillorain.com
SUMMARY:Austin "Walkin" Cane
DESCRIPTION:The one and only international bluesman Austin “Walkin” Cane returns!
URL:https://speakofthedevillorain.com/event/austin-walkin-cane-2/
LOCATION:Speak of the Devil\, 201 W 5th St\, Lorain\, OH\, 44052\, United States
ATTACH;FMTTYPE=image/jpeg:https://speakofthedevillorain.com/wp-content/uploads/2021/03/AustinWalkinCane-94.jpg
END:VEVENT
BEGIN:VEVENT
DTSTART;TZID=America/New_York:20210821T193000
DTEND;TZID=America/New_York:20210821T223000
DTSTAMP:20260421T224217
CREATED:20210726T151642Z
LAST-MODIFIED:20210726T151717Z
UID:1462-1629574200-1629585000@speakofthedevillorain.com
SUMMARY:Harry Bacharach
DESCRIPTION:Cleveland’s babydaddy of heavy easy listening – the one and only Harry Bacharach – returns to tickle the ivories on the SOTD stage!
URL:https://speakofthedevillorain.com/event/harry-bacharach-4/
LOCATION:Speak of the Devil\, 201 W 5th St\, Lorain\, OH\, 44052\, United States
ATTACH;FMTTYPE=image/jpeg:https://speakofthedevillorain.com/wp-content/uploads/2021/07/175853324_4458094887553365_2026805636007885765_n.jpg
END:VEVENT
BEGIN:VEVENT
DTSTART;TZID=America/New_York:20210812T190000
DTEND;TZID=America/New_York:20210812T210000
DTSTAMP:20260421T224217
CREATED:20210726T145331Z
LAST-MODIFIED:20210726T152535Z
UID:1453-1628794800-1628802000@speakofthedevillorain.com
SUMMARY:SOTD Film School: Movie Trivia with Game Show Jesus - TARANTINO EDITION
DESCRIPTION:Join Game Show Jesus (Jonathon Sinibaldi) for our two rounds of Quentin Tarantino movie trivia!  Fun drinks\, prizes for winning (and maybe losing!)
URL:https://speakofthedevillorain.com/event/sotd-film-school-movie-trivia-with-game-show-jesus-tarantino-edition/
LOCATION:Speak of the Devil\, 201 W 5th St\, Lorain\, OH\, 44052\, United States
ATTACH;FMTTYPE=image/jpeg:https://speakofthedevillorain.com/wp-content/uploads/2021/07/Trivia.jpg
END:VEVENT
BEGIN:VEVENT
DTSTART;TZID=America/New_York:20210731T193000
DTEND;TZID=America/New_York:20210731T223000
DTSTAMP:20260421T224217
CREATED:20210726T152000Z
LAST-MODIFIED:20210726T152000Z
UID:1466-1627759800-1627770600@speakofthedevillorain.com
SUMMARY:Anthony Scrofano
DESCRIPTION:Local favorite Anthony Scrofano returns to the Speak of the Devil stage!
URL:https://speakofthedevillorain.com/event/anthony-scrofano-4/
LOCATION:Speak of the Devil\, 201 W 5th St\, Lorain\, OH\, 44052\, United States
ATTACH;FMTTYPE=image/jpeg:https://speakofthedevillorain.com/wp-content/uploads/2021/07/209749787_4675182425844609_6032449434065232521_n.jpg
END:VEVENT
BEGIN:VEVENT
DTSTART;TZID=America/New_York:20210707T193000
DTEND;TZID=America/New_York:20210707T223000
DTSTAMP:20260421T224217
CREATED:20210322T131719Z
LAST-MODIFIED:20210322T132555Z
UID:1389-1625686200-1625697000@speakofthedevillorain.com
SUMMARY:Tiki Week Kick Off!
DESCRIPTION:Let’s try this again…our dear friends at Maggie’s Farm Rum are coming up from Pittsburgh to help us kick off and celebrate a very belated\, midsummer’s Tiki Week! Our traditional Tiki Week got set back a bit by this thing called a pandemic\, but we are hopeful and eyeing a summery return of this popular event – and with some amazing rums (remember Jack’s Rum Punch?! Yep\, that was Maggie’s Farm Rum folks!) from our friends from the other steel city!
URL:https://speakofthedevillorain.com/event/tiki-week-kick-off/
LOCATION:Speak of the Devil\, 201 W 5th St\, Lorain\, OH\, 44052\, United States
ATTACH;FMTTYPE=image/jpeg:https://speakofthedevillorain.com/wp-content/uploads/2021/03/NewMFIcon_White_NoWords-02.jpg
END:VEVENT
BEGIN:VEVENT
DTSTART;TZID=America/New_York:20210619T193000
DTEND;TZID=America/New_York:20210619T223000
DTSTAMP:20260421T224217
CREATED:20210322T131252Z
LAST-MODIFIED:20210322T132523Z
UID:1387-1624131000-1624141800@speakofthedevillorain.com
SUMMARY:Anthony Scrofano
DESCRIPTION:Join us in welcoming Anthony Scrofano home! Anthony\, the first live music performer to ever play the Speak of the Devil stage\, returns (just so happens to be Page’s birthday too!)
URL:https://speakofthedevillorain.com/event/anthony-scorfano/
LOCATION:Speak of the Devil\, 201 W 5th St\, Lorain\, OH\, 44052\, United States
ATTACH;FMTTYPE=image/jpeg:https://speakofthedevillorain.com/wp-content/uploads/2021/03/AnthonyPage.jpg
END:VEVENT
BEGIN:VEVENT
DTSTART;TZID=America/New_York:20210515T190000
DTEND;TZID=America/New_York:20210515T230000
DTSTAMP:20260421T224217
CREATED:20210322T160218Z
LAST-MODIFIED:20210322T160337Z
UID:1396-1621105200-1621119600@speakofthedevillorain.com
SUMMARY:Get Real Funky: DJ Max Payola presents funk from the vaults of the 70's and 80's
DESCRIPTION:Our main man DJ Max Payola digs deep into the vinyl vaults for funk from the 70’s and 80’s
URL:https://speakofthedevillorain.com/event/get-real-funky-dj-max-payola-presents-funk-from-the-vaults-of-the-70s-and-80s/
LOCATION:Speak of the Devil\, 201 W 5th St\, Lorain\, OH\, 44052\, United States
ATTACH;FMTTYPE=image/jpeg:https://speakofthedevillorain.com/wp-content/uploads/2021/03/funk.jpg
END:VEVENT
BEGIN:VEVENT
DTSTART;TZID=America/New_York:20210505T170000
DTEND;TZID=America/New_York:20210505T220000
DTSTAMP:20260421T224217
CREATED:20210322T160706Z
LAST-MODIFIED:20210322T182443Z
UID:1399-1620234000-1620252000@speakofthedevillorain.com
SUMMARY:Wines of Summer
DESCRIPTION:Join us and our girl Courtney (Heidelberg) as we pour some sunshine into a glass and taste the wines of this upcoming summer.
URL:https://speakofthedevillorain.com/event/wines-of-summer/
LOCATION:Speak of the Devil\, 201 W 5th St\, Lorain\, OH\, 44052\, United States
ATTACH;FMTTYPE=image/jpeg:https://speakofthedevillorain.com/wp-content/uploads/2021/03/wines-scaled.jpg
END:VEVENT
BEGIN:VEVENT
DTSTART;TZID=America/New_York:20210322T190000
DTEND;TZID=America/New_York:20210322T210000
DTSTAMP:20260421T224217
CREATED:20210322T130702Z
LAST-MODIFIED:20210322T132609Z
UID:1382-1616439600-1616446800@speakofthedevillorain.com
SUMMARY:Buffalo Trace Tasting
DESCRIPTION:Taste History! \nSpeak of the Devil was fortunate enough to obtain three hard-to-get bottles of Buffalo Trace Distilling house bourbons – (Pappy) Van Winkle 12 Lot “B”\, George T. Stagg’s 2020 iteration and E.H. Taylor’s 18 Year Marriage! Quite the lineup! \nUnfortunately\, we do not have enough of these bottles to take care of as many folks as expressed real interest in tasting these and savoring some of America’s finest bourbons with us. So we wanted to give everyone that wants a chance at tasting these to at least have a shot at a night celebrating these bottles.\n\nTHE TASTING WILL BE HELD ON MONDAY\, MARCH 22 FROM 7PM – 9PM\nThis event is priced at $100 per person (tax and gratuity are NOT included in this price). You ticket guarantees you: a 1 ounce pour of Van Winkle 12 Year Lot “B” and your choice of a 1 ounce pour of either E.H. Taylor 18 Year Marriage or George T. Stagg (2020)\, a complimentary pour of our house Buffalo Trace Old-Fashioned punch and a light food pairing.\nWe will also make one ounce priced pours of any in house bourbons available to everyone for tasting!\n\nThere are ONLY 20 SEATS AVAILABLE. NO PARTIES OF MORE THAN 4 will be accepted.\n\nSo here is how we are going to operate this:\n\nIf you are interested in being a part of this tasting please leave a post in this events “discussion” tab with your name and how many will be in your party. We will accept entries starting now up until 5pm\, Thursday\, February 25. On Friday\, February 26 at 6pm we will place all entries into Kurt’s magical black hat and conduct a lottery pulling names for the tasting event – aired on Facebook Live. If your name is pulled\, you will be contacted via Facebook messenger (if you do not have messenger\, please provide us with an email) with how to proceed!\nSOLD OUT!
URL:https://speakofthedevillorain.com/event/buffalo-trace-tasting/
LOCATION:Speak of the Devil\, 201 W 5th St\, Lorain\, OH\, 44052\, United States
ATTACH;FMTTYPE=image/jpeg:https://speakofthedevillorain.com/wp-content/uploads/2021/03/EVENT.jpg
END:VEVENT
BEGIN:VEVENT
DTSTART;TZID=America/New_York:20200523T190000
DTEND;TZID=America/New_York:20200523T220000
DTSTAMP:20260421T224217
CREATED:20200225T194604Z
LAST-MODIFIED:20200225T194604Z
UID:1185-1590260400-1590271200@speakofthedevillorain.com
SUMMARY:Colin John
DESCRIPTION:The incredibly talented guitarist Colin John comes to Lorain for one night at Speak of the Devil!
URL:https://speakofthedevillorain.com/event/colin-john/
LOCATION:Speak of the Devil\, 201 W 5th St\, Lorain\, OH\, 44052\, United States
ATTACH;FMTTYPE=image/jpeg:https://speakofthedevillorain.com/wp-content/uploads/2020/02/ColinSlide.jpg
END:VEVENT
BEGIN:VEVENT
DTSTART;TZID=America/New_York:20200513T183000
DTEND;TZID=America/New_York:20200513T200000
DTSTAMP:20260421T224217
CREATED:20200225T194436Z
LAST-MODIFIED:20200225T194436Z
UID:1183-1589394600-1589400000@speakofthedevillorain.com
SUMMARY:Books & Brews
DESCRIPTION:Join the Lorain Public Library and us as we read and discuss “The Great Gatsby” by F. Scott Fitzgerald!
URL:https://speakofthedevillorain.com/event/books-brews-13/
LOCATION:Speak of the Devil\, 201 W 5th St\, Lorain\, OH\, 44052\, United States
ATTACH;FMTTYPE=image/jpeg:https://speakofthedevillorain.com/wp-content/uploads/2018/04/Books.jpg
END:VEVENT
BEGIN:VEVENT
DTSTART;TZID=America/New_York:20200506T170000
DTEND;TZID=America/New_York:20200506T220000
DTSTAMP:20260421T224217
CREATED:20200225T194210Z
LAST-MODIFIED:20200225T194210Z
UID:1180-1588784400-1588802400@speakofthedevillorain.com
SUMMARY:Maggie's Farm at Speak of the Devil
DESCRIPTION:Join us in welcoming the gang from Pittsburgh’s Maggie’s Farm Rum Distillery!  They will be bringing their fine rum wares\, mixing up some cocktails and generally hanging out and having a little rum party with us all!  Let’s see what we can get up to when the two steel city’s meet!
URL:https://speakofthedevillorain.com/event/maggies-farm-at-speak-of-the-devil/
LOCATION:Speak of the Devil\, 201 W 5th St\, Lorain\, OH\, 44052\, United States
ATTACH;FMTTYPE=image/jpeg:https://speakofthedevillorain.com/wp-content/uploads/2020/02/MF.jpg
END:VEVENT
BEGIN:VEVENT
DTSTART;TZID=America/New_York:20200502T190000
DTEND;TZID=America/New_York:20200502T220000
DTSTAMP:20260421T224217
CREATED:20200225T193841Z
LAST-MODIFIED:20200225T193841Z
UID:1177-1588446000-1588456800@speakofthedevillorain.com
SUMMARY:Paul Wolf Christensen
DESCRIPTION:Lorain’s very own multi-talented one man show – Paul Wolf Christensen returns to Speak of the Devil!
URL:https://speakofthedevillorain.com/event/paul-wolf-christensen-3/
LOCATION:Speak of the Devil\, 201 W 5th St\, Lorain\, OH\, 44052\, United States
ATTACH;FMTTYPE=image/jpeg:https://speakofthedevillorain.com/wp-content/uploads/2020/02/paulcreturnmay.jpg
END:VEVENT
BEGIN:VEVENT
DTSTART;TZID=America/New_York:20200425T190000
DTEND;TZID=America/New_York:20200425T220000
DTSTAMP:20260421T224217
CREATED:20200104T135543Z
LAST-MODIFIED:20200104T135543Z
UID:1149-1587841200-1587852000@speakofthedevillorain.com
SUMMARY:Nick Zuber
DESCRIPTION:Touring Cleveland artist Nick Zuber is NOT to be missed!  His cool blend of Jack Johnson/Citizen Cope/Leonard Cohen in both the covers he chooses and his flawless originals makes for a night of amazing music!
URL:https://speakofthedevillorain.com/event/nick-zuber/
LOCATION:Speak of the Devil\, 201 W 5th St\, Lorain\, OH\, 44052\, United States
END:VEVENT
BEGIN:VEVENT
DTSTART;TZID=America/New_York:20200408T183000
DTEND;TZID=America/New_York:20200408T200000
DTSTAMP:20260421T224217
CREATED:20200225T193239Z
LAST-MODIFIED:20200225T193902Z
UID:1172-1586370600-1586376000@speakofthedevillorain.com
SUMMARY:Books & Brews
DESCRIPTION:Join us and the Lorain Public Library we read and discuss “Field Notes from a Catastrophe” by Elizabeth Kolbert in honor of the 50th anniversary of Earth Day.
URL:https://speakofthedevillorain.com/event/books-brews-12/
LOCATION:Speak of the Devil\, 201 W 5th St\, Lorain\, OH\, 44052\, United States
ATTACH;FMTTYPE=image/jpeg:https://speakofthedevillorain.com/wp-content/uploads/2018/04/Books.jpg
END:VEVENT
END:VCALENDAR