BEGIN:VCALENDAR
VERSION:2.0
PRODID:-// - ECPv6.15.20//NONSGML v1.0//EN
CALSCALE:GREGORIAN
METHOD:PUBLISH
X-ORIGINAL-URL:https://speakofthedevillorain.com
X-WR-CALDESC:Events for 
REFRESH-INTERVAL;VALUE=DURATION:PT1H
X-Robots-Tag:noindex
X-PUBLISHED-TTL:PT1H
BEGIN:VTIMEZONE
TZID:America/New_York
BEGIN:DAYLIGHT
TZOFFSETFROM:-0500
TZOFFSETTO:-0400
TZNAME:EDT
DTSTART:20210314T070000
END:DAYLIGHT
BEGIN:STANDARD
TZOFFSETFROM:-0400
TZOFFSETTO:-0500
TZNAME:EST
DTSTART:20211107T060000
END:STANDARD
BEGIN:DAYLIGHT
TZOFFSETFROM:-0500
TZOFFSETTO:-0400
TZNAME:EDT
DTSTART:20220313T070000
END:DAYLIGHT
BEGIN:STANDARD
TZOFFSETFROM:-0400
TZOFFSETTO:-0500
TZNAME:EST
DTSTART:20221106T060000
END:STANDARD
BEGIN:DAYLIGHT
TZOFFSETFROM:-0500
TZOFFSETTO:-0400
TZNAME:EDT
DTSTART:20230312T070000
END:DAYLIGHT
BEGIN:STANDARD
TZOFFSETFROM:-0400
TZOFFSETTO:-0500
TZNAME:EST
DTSTART:20231105T060000
END:STANDARD
END:VTIMEZONE
BEGIN:VEVENT
DTSTART;TZID=America/New_York:20221112T170000
DTEND;TZID=America/New_York:20221112T183000
DTSTAMP:20260421T231424
CREATED:20220928T190114Z
LAST-MODIFIED:20220928T190229Z
UID:1751-1668272400-1668277800@speakofthedevillorain.com
SUMMARY:ROBERT SIMONSON BOOK RELEASE: MODERN CLASSIC COCKTAILS
DESCRIPTION:Join Ship to Shore Books and Speak of the Devil in welcoming the New York Times award winning spirits\, cocktails and bars writer Robert Simonson to Lorain as we celebrate Mr. Simonson’s latest book: Modern Classic Cocktails!\n\n\nMr. Simonson not only writes about cocktails\, spirits\, bars\, and bartenders for the New York Times he is also the creator and author of the Substack newsletter “The Mix With Robert Simonson”. His books include “The Old-Fashioned” (2014)\, the first single-drink cocktail book of its kind; “A Proper Drink” (2016)\, the first (and so far only) history of the modern cocktail revival; “3-Ingredient Cocktails” (2017)\, which was nominated for a 2018 James Beard Award; “The Martini Cocktail” (2019)\, which was nominated for a 2020 James Beard Award and IACP Award and won that year’s Spirited Award for best new cocktail book; and “Mezcal and Tequila Cocktails” (2021)\, which was nominated for an IACP Award. He was also a primary contributor to “The Essential New York Times Book of Cocktails” (both the 2015 and 2022 editions). Simonson won the 2019 Spirited Award for Best Cocktail and Spirits Writer.\n\n\nWe are thrilled to be hosting Mr. Simonson as he releases his latest essential cocktail guide – “Modern Classic Cocktails”. Robert will have a short presentation on his book and what deems a modern cocktail classic followed by a short Q & A and book signing.\n\n\nLimited reservations are available.
URL:https://speakofthedevillorain.com/event/robert-simonson-book-release-modern-classic-cocktails/
LOCATION:Speak of the Devil\, 201 W 5th St\, Lorain\, OH\, 44052\, United States
ATTACH;FMTTYPE=image/jpeg:https://speakofthedevillorain.com/wp-content/uploads/2022/09/Basketball-game1.jpg
END:VEVENT
BEGIN:VEVENT
DTSTART;TZID=America/New_York:20221105T193000
DTEND;TZID=America/New_York:20221105T223000
DTSTAMP:20260421T231424
CREATED:20220913T170523Z
LAST-MODIFIED:20220913T170523Z
UID:1702-1667676600-1667687400@speakofthedevillorain.com
SUMMARY:JOE HALL
DESCRIPTION:Joe Hall returns the the SOTD stage with his modern rock take on classics. \n 
URL:https://speakofthedevillorain.com/event/joe-hall-3/
LOCATION:Speak of the Devil\, 201 W 5th St\, Lorain\, OH\, 44052\, United States
ATTACH;FMTTYPE=image/jpeg:https://speakofthedevillorain.com/wp-content/uploads/2022/09/Copy-of-Football-event.jpg
END:VEVENT
BEGIN:VEVENT
DTSTART;TZID=America/New_York:20221029T193000
DTEND;TZID=America/New_York:20221029T223000
DTSTAMP:20260421T231424
CREATED:20220808T221148Z
LAST-MODIFIED:20220913T165609Z
UID:1688-1667071800-1667082600@speakofthedevillorain.com
SUMMARY:GHANI HARRIS
DESCRIPTION:Carlos Jones P.L.U.S. Band lead guitarist is a serious talent in his own right. Not to be missed!
URL:https://speakofthedevillorain.com/event/ghani-harris-2/
LOCATION:Speak of the Devil\, 201 W 5th St\, Lorain\, OH\, 44052\, United States
ATTACH;FMTTYPE=image/jpeg:https://speakofthedevillorain.com/wp-content/uploads/2022/08/Copy-of-OPEN-MIC-NIGHT-FLYER.jpg
END:VEVENT
BEGIN:VEVENT
DTSTART;TZID=America/New_York:20221024T070000
DTEND;TZID=America/New_York:20221024T203000
DTSTAMP:20260421T231424
CREATED:20220913T180015Z
LAST-MODIFIED:20220913T180015Z
UID:1718-1666594800-1666643400@speakofthedevillorain.com
SUMMARY:A NIGHT WITH ERNEST SCARANO DISTILLERY
DESCRIPTION:Join us in tasting this line up of absolutely wonderful Ohio whiskeys!!
URL:https://speakofthedevillorain.com/event/a-night-with-ernest-scarano-distillery/
ATTACH;FMTTYPE=image/jpeg:https://speakofthedevillorain.com/wp-content/uploads/2022/09/Flag-Day-United-States-Facebook-Shared-Post.jpg
END:VEVENT
BEGIN:VEVENT
DTSTART;TZID=America/New_York:20221015T193000
DTEND;TZID=America/New_York:20221015T223000
DTSTAMP:20260421T231424
CREATED:20220808T221016Z
LAST-MODIFIED:20220808T221016Z
UID:1685-1665862200-1665873000@speakofthedevillorain.com
SUMMARY:AUSTIN 'WALKIN' CANE
DESCRIPTION:International rock and bluesman Austin “Walkin” Cane takes over the Speak of the Devil stage.
URL:https://speakofthedevillorain.com/event/austin-walkin-cane-4/
LOCATION:Speak of the Devil\, 201 W 5th St\, Lorain\, OH\, 44052\, United States
ATTACH;FMTTYPE=image/jpeg:https://speakofthedevillorain.com/wp-content/uploads/2022/08/Copy-of-Live-music.jpg
END:VEVENT
BEGIN:VEVENT
DTSTART;TZID=America/New_York:20221001T193000
DTEND;TZID=America/New_York:20221001T223000
DTSTAMP:20260421T231424
CREATED:20220808T220839Z
LAST-MODIFIED:20220808T220839Z
UID:1682-1664652600-1664663400@speakofthedevillorain.com
SUMMARY:PAUL WOLF CHRISTENSEN
DESCRIPTION:Lorain’s native son returns home for a night filled with classis rock\, Motown and soul.
URL:https://speakofthedevillorain.com/event/paul-wolf-christensen-4/
LOCATION:Speak of the Devil\, 201 W 5th St\, Lorain\, OH\, 44052\, United States
ATTACH;FMTTYPE=image/jpeg:https://speakofthedevillorain.com/wp-content/uploads/2022/08/Music-Festival.jpg
END:VEVENT
BEGIN:VEVENT
DTSTART;TZID=America/New_York:20220924T193000
DTEND;TZID=America/New_York:20220924T223000
DTSTAMP:20260421T231424
CREATED:20220808T220721Z
LAST-MODIFIED:20220808T220721Z
UID:1679-1664047800-1664058600@speakofthedevillorain.com
SUMMARY:HARRY BACHARACH
DESCRIPTION:Cleveland’s Baby Daddy of Heavy Easy Listening tickles the ivories for us once again.
URL:https://speakofthedevillorain.com/event/harry-bacharach-5/
LOCATION:Speak of the Devil\, 201 W 5th St\, Lorain\, OH\, 44052\, United States
ATTACH;FMTTYPE=image/jpeg:https://speakofthedevillorain.com/wp-content/uploads/2022/08/Music-Event-ADS.jpg
END:VEVENT
BEGIN:VEVENT
DTSTART;TZID=America/New_York:20220829T190000
DTEND;TZID=America/New_York:20220829T210000
DTSTAMP:20260421T231424
CREATED:20220808T220407Z
LAST-MODIFIED:20220808T220407Z
UID:1673-1661799600-1661806800@speakofthedevillorain.com
SUMMARY:Bacardi Premium Rums and Hand Rolled Cigars Night SOLD OUT
DESCRIPTION:The perfect pairing – rum and cigars! Some of the finest cigars in the world come from rum country\, so lets bring the two back together again with a beautiful line up of Bacardi rums – Bacardi 8\, Bacardi 8 Sherry Cask Finish\, Bacardi partner Santa Teresa rum\, and Bacardi Gran Reserva Limitada and a hand rolled cigar courtesy Bacardi! This is a planned patio night with special guest Bacardi Multicultural Portfolio Ambassador Taurell Bush and Chef Jill Vedaa providing delicious bites
URL:https://speakofthedevillorain.com/event/bacardi-premium-rums-and-hand-rolled-cigars-night-sold-out/
LOCATION:Speak of the Devil\, 201 W 5th St\, Lorain\, OH\, 44052\, United States
ATTACH;FMTTYPE=image/jpeg:https://speakofthedevillorain.com/wp-content/uploads/2022/08/bac.jpg
END:VEVENT
BEGIN:VEVENT
DTSTART;TZID=America/New_York:20220824T200000
DTEND;TZID=America/New_York:20220824T213000
DTSTAMP:20260421T231424
CREATED:20220808T220222Z
LAST-MODIFIED:20220808T220236Z
UID:1670-1661371200-1661376600@speakofthedevillorain.com
SUMMARY:COCKTAILS  & COMEDY
DESCRIPTION:Another night of laughs with Mike Farrell and a killer lineup: Brian Kenny\, James Burge Jr.\, and Jimmie Graham. NO COVER! Reservations accepted!
URL:https://speakofthedevillorain.com/event/cocktails-comedy-2/
LOCATION:Speak of the Devil\, 201 W 5th St\, Lorain\, OH\, 44052\, United States
ATTACH;FMTTYPE=image/jpeg:https://speakofthedevillorain.com/wp-content/uploads/2022/08/comedy-night-scaled.jpg
END:VEVENT
BEGIN:VEVENT
DTSTART;TZID=America/New_York:20220730T193000
DTEND;TZID=America/New_York:20220730T223000
DTSTAMP:20260421T231424
CREATED:20220615T121818Z
LAST-MODIFIED:20220615T121818Z
UID:1657-1659209400-1659220200@speakofthedevillorain.com
SUMMARY:DJ Silverskull: Vinyl Dub & Reggae
DESCRIPTION:DJ Silverskull spins the wheels of steel for another hot night of classic dub & reggae!
URL:https://speakofthedevillorain.com/event/dj-silverskull-vinyl-dub-reggae/
LOCATION:Speak of the Devil\, 201 W 5th St\, Lorain\, OH\, 44052\, United States
ATTACH;FMTTYPE=image/jpeg:https://speakofthedevillorain.com/wp-content/uploads/2022/06/skull3.jpg
END:VEVENT
BEGIN:VEVENT
DTSTART;TZID=America/New_York:20220716T200000
DTEND;TZID=America/New_York:20220716T230000
DTSTAMP:20260421T231424
CREATED:20220615T121412Z
LAST-MODIFIED:20220615T121412Z
UID:1654-1658001600-1658012400@speakofthedevillorain.com
SUMMARY:Jason Kaminski
DESCRIPTION:A very special evening with Jason Kaminski and band!
URL:https://speakofthedevillorain.com/event/jason-kaminski/
LOCATION:Speak of the Devil\, 201 W 5th St\, Lorain\, OH\, 44052\, United States
ATTACH;FMTTYPE=image/jpeg:https://speakofthedevillorain.com/wp-content/uploads/2022/06/280525744_5698520506844124_4485890699637005853_n.jpg
END:VEVENT
BEGIN:VEVENT
DTSTART;VALUE=DATE:20220703
DTEND;VALUE=DATE:20220713
DTSTAMP:20260421T231424
CREATED:20220615T121043Z
LAST-MODIFIED:20220615T121043Z
UID:1651-1656806400-1657670399@speakofthedevillorain.com
SUMMARY:Speak of the Devil Summer Break
DESCRIPTION:We will be closed from Sunday\, July 3 until Tuesday\, July12 for summer break!
URL:https://speakofthedevillorain.com/event/speak-of-the-devil-summer-break/
LOCATION:Speak of the Devil\, 201 W 5th St\, Lorain\, OH\, 44052\, United States
ATTACH;FMTTYPE=image/jpeg:https://speakofthedevillorain.com/wp-content/uploads/2022/06/index.jpg
END:VEVENT
BEGIN:VEVENT
DTSTART;TZID=America/New_York:20220701T170000
DTEND;TZID=America/New_York:20220701T190000
DTSTAMP:20260421T231424
CREATED:20220615T120811Z
LAST-MODIFIED:20220615T120811Z
UID:1648-1656694800-1656702000@speakofthedevillorain.com
SUMMARY:Main Street Lorain Broadway Block Party
DESCRIPTION:Hop around downtown Lorain with a drink. Enjoy the DORA (Designated Outdoor Refreshment Area) where you can drop in and grab a Cool as a Cucumber vodka lemonade (made fresh!) and step out onto the streets of Downtown Lorain!
URL:https://speakofthedevillorain.com/event/main-street-lorain-broadway-block-party/
LOCATION:Speak of the Devil\, 201 W 5th St\, Lorain\, OH\, 44052\, United States
ATTACH;FMTTYPE=image/jpeg:https://speakofthedevillorain.com/wp-content/uploads/2022/06/287593899_776342103775165_3419159767062590713_n.jpg
END:VEVENT
BEGIN:VEVENT
DTSTART;TZID=America/New_York:20220622T200000
DTEND;TZID=America/New_York:20220622T213000
DTSTAMP:20260421T231424
CREATED:20220615T120324Z
LAST-MODIFIED:20220615T120324Z
UID:1645-1655928000-1655933400@speakofthedevillorain.com
SUMMARY:Cocktails & Comedy
DESCRIPTION:WMMS’s Bill Squire headlines another night of laughs and drinks!
URL:https://speakofthedevillorain.com/event/cocktails-comedy/
LOCATION:Speak of the Devil\, 201 W 5th St\, Lorain\, OH\, 44052\, United States
ATTACH;FMTTYPE=image/jpeg:https://speakofthedevillorain.com/wp-content/uploads/2022/06/Copy-of-Stand-Up-Comedy-Flyer-Poster-Template-scaled.jpg
END:VEVENT
BEGIN:VEVENT
DTSTART;TZID=America/New_York:20220330T200000
DTEND;TZID=America/New_York:20220330T213000
DTSTAMP:20260421T231424
CREATED:20220215T190114Z
LAST-MODIFIED:20220215T190114Z
UID:1602-1648670400-1648675800@speakofthedevillorain.com
SUMMARY:Cocktails & Comedy hosted by Mike Farrell
DESCRIPTION:Comedy returns to the Speak of the Devil stage. Hosted by our man Mike Farrell and featuring two of Cleveland’s best comics\, Mary Santora and Joe Howard\, this promises to be a solid night of laughs.
URL:https://speakofthedevillorain.com/event/cocktails-comedy-hosted-by-mike-farrell/
LOCATION:Speak of the Devil\, 201 W 5th St\, Lorain\, OH\, 44052\, United States
ATTACH;FMTTYPE=image/jpeg:https://speakofthedevillorain.com/wp-content/uploads/2022/02/Copy-of-Comedy-night-facebook-ad.jpg
END:VEVENT
BEGIN:VEVENT
DTSTART;TZID=America/New_York:20220312T193000
DTEND;TZID=America/New_York:20220312T223000
DTSTAMP:20260421T231424
CREATED:20211206T185245Z
LAST-MODIFIED:20211206T185245Z
UID:1568-1647113400-1647124200@speakofthedevillorain.com
SUMMARY:The Shannon Eller Trio
DESCRIPTION:It’s been too long – but the wonderful and talented jazz chanteuse Shannon Eller returns to Speak of the Devil!
URL:https://speakofthedevillorain.com/event/the-shannon-eller-trio-2/
LOCATION:Speak of the Devil\, 201 W 5th St\, Lorain\, OH\, 44052\, United States
ATTACH;FMTTYPE=image/jpeg:https://speakofthedevillorain.com/wp-content/uploads/2021/12/SEG2022.jpg
END:VEVENT
BEGIN:VEVENT
DTSTART;TZID=America/New_York:20220305T190000
DTEND;TZID=America/New_York:20220305T230000
DTSTAMP:20260421T231424
CREATED:20220215T185918Z
LAST-MODIFIED:20220215T185918Z
UID:1598-1646506800-1646521200@speakofthedevillorain.com
SUMMARY:DJ Max Payola : Vintage Funk\, Boogie and Soul
DESCRIPTION:DJ Max Payola returns to Speak of the Devil to spin a night full of vintage vinyl funk\, boogie and soul…
URL:https://speakofthedevillorain.com/event/dj-max-payola-vintage-funk-boogie-and-soul/
LOCATION:Speak of the Devil\, 201 W 5th St\, Lorain\, OH\, 44052\, United States
ATTACH;FMTTYPE=image/jpeg:https://speakofthedevillorain.com/wp-content/uploads/2022/02/NEW22.jpg
END:VEVENT
BEGIN:VEVENT
DTSTART;TZID=America/New_York:20220226T200000
DTEND;TZID=America/New_York:20220226T230000
DTSTAMP:20260421T231424
CREATED:20220107T130554Z
LAST-MODIFIED:20220107T130554Z
UID:1576-1645905600-1645916400@speakofthedevillorain.com
SUMMARY:Joe Hall
DESCRIPTION:The one and only Joe Hall returns to the SOTD stage with his amazing acoustic take on the past 50 years of pop music.
URL:https://speakofthedevillorain.com/event/joe-hall-2/
LOCATION:Speak of the Devil\, 201 W 5th St\, Lorain\, OH\, 44052\, United States
ATTACH;FMTTYPE=image/jpeg:https://speakofthedevillorain.com/wp-content/uploads/2021/10/181600700_10224949031297025_8988812405786576598_n.jpg
END:VEVENT
BEGIN:VEVENT
DTSTART;TZID=America/New_York:20220219T200000
DTEND;TZID=America/New_York:20220219T230000
DTSTAMP:20260421T231424
CREATED:20211206T185125Z
LAST-MODIFIED:20211206T185125Z
UID:1565-1645300800-1645311600@speakofthedevillorain.com
SUMMARY:Austin 'Walkin' Cane
DESCRIPTION:The inimitable Mr. Austin ‘Walkin’ Cane returns!
URL:https://speakofthedevillorain.com/event/austin-walkin-cane-3/
LOCATION:Speak of the Devil\, 201 W 5th St\, Lorain\, OH\, 44052\, United States
ATTACH;FMTTYPE=image/jpeg:https://speakofthedevillorain.com/wp-content/uploads/2021/12/AustinWalkinCane2022.jpg
END:VEVENT
BEGIN:VEVENT
DTSTART;TZID=America/New_York:20220212T193000
DTEND;TZID=America/New_York:20220212T223000
DTSTAMP:20260421T231424
CREATED:20211206T184953Z
LAST-MODIFIED:20211206T184953Z
UID:1562-1644694200-1644705000@speakofthedevillorain.com
SUMMARY:Ghani Harris
DESCRIPTION:The one\, the only Ghani Harris returns to Speak of the Devil to help us close out Tiki Week with a bang!
URL:https://speakofthedevillorain.com/event/ghani-harris/
LOCATION:Speak of the Devil\, 201 W 5th St\, Lorain\, OH\, 44052\, United States
ATTACH;FMTTYPE=image/jpeg:https://speakofthedevillorain.com/wp-content/uploads/2021/12/tikiweek.jpg
END:VEVENT
BEGIN:VEVENT
DTSTART;TZID=America/New_York:20220211T170000
DTEND;TZID=America/New_York:20220211T235900
DTSTAMP:20260421T231424
CREATED:20211206T184620Z
LAST-MODIFIED:20211206T184620Z
UID:1560-1644598800-1644623940@speakofthedevillorain.com
SUMMARY:Tiki Week 2022
DESCRIPTION:Warm up the winter weather with us and a wild week of wonderful tropical drinks!
URL:https://speakofthedevillorain.com/event/tiki-week-2022-2/
LOCATION:Speak of the Devil\, 201 W 5th St\, Lorain\, OH\, 44052\, United States
ATTACH;FMTTYPE=image/jpeg:https://speakofthedevillorain.com/wp-content/uploads/2021/12/2022.jpg
END:VEVENT
BEGIN:VEVENT
DTSTART;TZID=America/New_York:20220210T050000
DTEND;TZID=America/New_York:20220210T230000
DTSTAMP:20260421T231424
CREATED:20211206T184508Z
LAST-MODIFIED:20211206T184508Z
UID:1558-1644469200-1644534000@speakofthedevillorain.com
SUMMARY:Tiki Week 2022
DESCRIPTION:Warm up the winter weather with us with a week of wild wonderful tropical drinks!
URL:https://speakofthedevillorain.com/event/tiki-week-2022/
LOCATION:Speak of the Devil\, 201 W 5th St\, Lorain\, OH\, 44052\, United States
ATTACH;FMTTYPE=image/jpeg:https://speakofthedevillorain.com/wp-content/uploads/2021/12/2022.jpg
END:VEVENT
BEGIN:VEVENT
DTSTART;TZID=America/New_York:20220209T170000
DTEND;TZID=America/New_York:20220209T220000
DTSTAMP:20260421T231424
CREATED:20211206T184255Z
LAST-MODIFIED:20211206T184255Z
UID:1555-1644426000-1644444000@speakofthedevillorain.com
SUMMARY:Tiki Week Takeover: Tiki Underground
DESCRIPTION:Join us as we kick off Tiki Week 2022 with out dear friends from Tiki Underground taking over the bar for an evening of great drinks\, wild music and reckless behavior! \n 
URL:https://speakofthedevillorain.com/event/tiki-week-takeover-tiki-underground/
LOCATION:Speak of the Devil\, 201 W 5th St\, Lorain\, OH\, 44052\, United States
ATTACH;FMTTYPE=image/jpeg:https://speakofthedevillorain.com/wp-content/uploads/2021/12/2022.jpg
END:VEVENT
BEGIN:VEVENT
DTSTART;TZID=America/New_York:20220203T190000
DTEND;TZID=America/New_York:20220203T210000
DTSTAMP:20260421T231424
CREATED:20220113T193623Z
LAST-MODIFIED:20220113T193623Z
UID:1586-1643914800-1643922000@speakofthedevillorain.com
SUMMARY:Trivia Night w/ Game Show Jesus: 70's Music Edition
DESCRIPTION:Game Show Jesus brings the 70’s music trivia and laughs to Speak of the Devil!
URL:https://speakofthedevillorain.com/event/trivia-night-w-game-show-jesus-70s-music-edition/
LOCATION:Speak of the Devil\, 201 W 5th St\, Lorain\, OH\, 44052\, United States
ATTACH;FMTTYPE=image/jpeg:https://speakofthedevillorain.com/wp-content/uploads/2022/01/Copy-of-Trivia-Night-Einstein-Flyer1-scaled.jpg
END:VEVENT
BEGIN:VEVENT
DTSTART;TZID=America/New_York:20220202T170000
DTEND;TZID=America/New_York:20220202T220000
DTSTAMP:20260421T231424
CREATED:20220113T193418Z
LAST-MODIFIED:20220113T193418Z
UID:1583-1643821200-1643839200@speakofthedevillorain.com
SUMMARY:Wine Tasting: Valentine Wines
DESCRIPTION:Join us and our girl Courtney and we take you around the world in 4 bottles!
URL:https://speakofthedevillorain.com/event/wine-tasting-valentine-wines/
LOCATION:Speak of the Devil\, 201 W 5th St\, Lorain\, OH\, 44052\, United States
ATTACH;FMTTYPE=image/jpeg:https://speakofthedevillorain.com/wp-content/uploads/2022/01/wineroses2022.jpg
END:VEVENT
BEGIN:VEVENT
DTSTART;TZID=America/New_York:20220129T193000
DTEND;TZID=America/New_York:20220129T223000
DTSTAMP:20260421T231424
CREATED:20220107T130248Z
LAST-MODIFIED:20220107T130248Z
UID:1574-1643484600-1643495400@speakofthedevillorain.com
SUMMARY:Anthony Scrofano
DESCRIPTION:Local fave Anthony Scrofano returns to the SOTD stage. Fun and fantastic takes on  modern pop plus originals \n 
URL:https://speakofthedevillorain.com/event/anthony-scrofano-6/
LOCATION:Speak of the Devil\, 201 W 5th St\, Lorain\, OH\, 44052\, United States
ATTACH;FMTTYPE=image/jpeg:https://speakofthedevillorain.com/wp-content/uploads/2021/10/26196064_1783211988390711_8282037170008070724_n.jpg
END:VEVENT
BEGIN:VEVENT
DTSTART;TZID=America/New_York:20220124T190000
DTEND;TZID=America/New_York:20220124T210000
DTSTAMP:20260421T231424
CREATED:20211206T183808Z
LAST-MODIFIED:20211206T183808Z
UID:1552-1643050800-1643058000@speakofthedevillorain.com
SUMMARY:Heaven Hill Whiskey Night: Sips and stories...
DESCRIPTION:The history of American bourbon is fill with tall tales and tasty treats. Join us for a fun night of bourbon banter and Heaven Hill hooch!\nLIMITED SPACE! $60/person\nLight food appetizers included.\nLimited to only 22 seats! Inbox us to RSVP or stop in Wednesday through Saturday to reserve your spot!
URL:https://speakofthedevillorain.com/event/heaven-hill-whiskey-night-sips-and-stories/
LOCATION:Speak of the Devil\, 201 W 5th St\, Lorain\, OH\, 44052\, United States
ATTACH;FMTTYPE=image/jpeg:https://speakofthedevillorain.com/wp-content/uploads/2021/12/hhnight.jpg
END:VEVENT
BEGIN:VEVENT
DTSTART;TZID=America/New_York:20220119T170000
DTEND;TZID=America/New_York:20220119T220000
DTSTAMP:20260421T231424
CREATED:20220113T193107Z
LAST-MODIFIED:20220113T193107Z
UID:1580-1642611600-1642629600@speakofthedevillorain.com
SUMMARY:Whiskey Wednesday: Old Elk Flight
DESCRIPTION:The third Wednesday of every month is Whiskey Wednesday at Speak of the Devil.  We will feature a flight or a particular bottle or style at bargain prices for our whiskey lovers out there. \nThis month: Old Elk’s core line up of super solid whiskey.
URL:https://speakofthedevillorain.com/event/whiskey-wednesday-old-elk-flight/
LOCATION:Speak of the Devil\, 201 W 5th St\, Lorain\, OH\, 44052\, United States
ATTACH;FMTTYPE=image/jpeg:https://speakofthedevillorain.com/wp-content/uploads/2022/01/oldelk-bourbon.jpg
END:VEVENT
BEGIN:VEVENT
DTSTART;TZID=America/New_York:20220115T200000
DTEND;TZID=America/New_York:20220115T230000
DTSTAMP:20260421T231424
CREATED:20211110T161547Z
LAST-MODIFIED:20211110T161547Z
UID:1539-1642276800-1642287600@speakofthedevillorain.com
SUMMARY:Kristine Jackson
DESCRIPTION:The one\, the only\, the voice – Kristine Jackson plays the Speak of the Devil stage for the first time ever! Not to be missed…
URL:https://speakofthedevillorain.com/event/kristine-jackson/
LOCATION:Speak of the Devil\, 201 W 5th St\, Lorain\, OH\, 44052\, United States
ATTACH;FMTTYPE=image/jpeg:https://speakofthedevillorain.com/wp-content/uploads/2021/11/KristineJ.jpg
END:VEVENT
BEGIN:VEVENT
DTSTART;TZID=America/New_York:20220108T200000
DTEND;TZID=America/New_York:20220108T230000
DTSTAMP:20260421T231424
CREATED:20211110T161420Z
LAST-MODIFIED:20211110T161420Z
UID:1536-1641672000-1641682800@speakofthedevillorain.com
SUMMARY:Vintage Reggae night w/DJ Silverskull
DESCRIPTION:Come cap off our Jasper LeFranc cocktails week with our friend and master reggae platter spinner DJ Silverskull
URL:https://speakofthedevillorain.com/event/vintage-reggae-night-w-dj-silverskull/
LOCATION:Speak of the Devil\, 201 W 5th St\, Lorain\, OH\, 44052\, United States
ATTACH;FMTTYPE=image/jpeg:https://speakofthedevillorain.com/wp-content/uploads/2021/11/skull2.jpg
END:VEVENT
END:VCALENDAR