BEGIN:VCALENDAR
VERSION:2.0
PRODID:-// - ECPv6.15.20//NONSGML v1.0//EN
CALSCALE:GREGORIAN
METHOD:PUBLISH
X-ORIGINAL-URL:https://speakofthedevillorain.com
X-WR-CALDESC:Events for 
REFRESH-INTERVAL;VALUE=DURATION:PT1H
X-Robots-Tag:noindex
X-PUBLISHED-TTL:PT1H
BEGIN:VTIMEZONE
TZID:America/New_York
BEGIN:DAYLIGHT
TZOFFSETFROM:-0500
TZOFFSETTO:-0400
TZNAME:EDT
DTSTART:20180311T070000
END:DAYLIGHT
BEGIN:STANDARD
TZOFFSETFROM:-0400
TZOFFSETTO:-0500
TZNAME:EST
DTSTART:20181104T060000
END:STANDARD
BEGIN:DAYLIGHT
TZOFFSETFROM:-0500
TZOFFSETTO:-0400
TZNAME:EDT
DTSTART:20190310T070000
END:DAYLIGHT
BEGIN:STANDARD
TZOFFSETFROM:-0400
TZOFFSETTO:-0500
TZNAME:EST
DTSTART:20191103T060000
END:STANDARD
BEGIN:DAYLIGHT
TZOFFSETFROM:-0500
TZOFFSETTO:-0400
TZNAME:EDT
DTSTART:20200308T070000
END:DAYLIGHT
BEGIN:STANDARD
TZOFFSETFROM:-0400
TZOFFSETTO:-0500
TZNAME:EST
DTSTART:20201101T060000
END:STANDARD
BEGIN:DAYLIGHT
TZOFFSETFROM:-0500
TZOFFSETTO:-0400
TZNAME:EDT
DTSTART:20210314T070000
END:DAYLIGHT
BEGIN:STANDARD
TZOFFSETFROM:-0400
TZOFFSETTO:-0500
TZNAME:EST
DTSTART:20211107T060000
END:STANDARD
END:VTIMEZONE
BEGIN:VEVENT
DTSTART;TZID=America/New_York:20200214T190000
DTEND;TZID=America/New_York:20200214T220000
DTSTAMP:20260422T042047
CREATED:20191219T135424Z
LAST-MODIFIED:20191219T135424Z
UID:1131-1581706800-1581717600@speakofthedevillorain.com
SUMMARY:Love is in the Air: A Don Disantis Valentine's Day
DESCRIPTION:Hello young lovers – Our favorite crooner is back and love is definitely in the air for this special Valentine’s Day evening with the Don Disantis Trio!
URL:https://speakofthedevillorain.com/event/love-is-in-the-air-a-don-disantis-valentines-day/
LOCATION:Speak of the Devil\, 201 W 5th St\, Lorain\, OH\, 44052\, United States
ATTACH;FMTTYPE=image/jpeg:https://speakofthedevillorain.com/wp-content/uploads/2019/12/disantis.jpg
END:VEVENT
BEGIN:VEVENT
DTSTART;TZID=America/New_York:20200212T180000
DTEND;TZID=America/New_York:20200212T200000
DTSTAMP:20260422T042047
CREATED:20191219T135041Z
LAST-MODIFIED:20191219T135309Z
UID:1128-1581530400-1581537600@speakofthedevillorain.com
SUMMARY:Wine & Roses: The Wines of Valentine's Day
DESCRIPTION:Join us as we preview the wines of love!  Wednesday\, February 12 stop in taste some lovely wines of Valentine’s Day and pick out a favorite bottle for your better half!
URL:https://speakofthedevillorain.com/event/wine-roses-the-wines-of-valentines-day/
LOCATION:Speak of the Devil\, 201 W 5th St\, Lorain\, OH\, 44052\, United States
ATTACH;FMTTYPE=image/jpeg:https://speakofthedevillorain.com/wp-content/uploads/2019/12/Valentines_Day_Wine-2.jpg
END:VEVENT
BEGIN:VEVENT
DTSTART;TZID=America/New_York:20200201T190000
DTEND;TZID=America/New_York:20200201T220000
DTSTAMP:20260422T042047
CREATED:20191219T134809Z
LAST-MODIFIED:20191219T134809Z
UID:1125-1580583600-1580594400@speakofthedevillorain.com
SUMMARY:Ghani Harris (guitarist/vocalist Carlos Jones) LIVE!
DESCRIPTION:Tiki Week closes with a very special evening of the reggae/soul stylings of Carlos Jones P.L.U.S. band lead guitarist and vocalist Ghani Harris!
URL:https://speakofthedevillorain.com/event/ghani-harris-guitarist-vocalist-carlos-jones-live/
LOCATION:Speak of the Devil\, 201 W 5th St\, Lorain\, OH\, 44052\, United States
ATTACH;FMTTYPE=image/jpeg:https://speakofthedevillorain.com/wp-content/uploads/2019/12/Ghani.jpg
END:VEVENT
BEGIN:VEVENT
DTSTART;TZID=America/New_York:20200129T170000
DTEND;TZID=America/New_York:20200129T220000
DTSTAMP:20260422T042047
CREATED:20191219T134557Z
LAST-MODIFIED:20191219T134557Z
UID:1122-1580317200-1580335200@speakofthedevillorain.com
SUMMARY:Lost River (Detroit) Tiki Takeover
DESCRIPTION:Join us for the 3rd annual tiki week kick off with this years guest tiki bar from the Motor City\, Lost River! Our friends from Detroit come to the DownLo to takeover Speak of the Devil with some Motown tiki magic!
URL:https://speakofthedevillorain.com/event/lost-river-detroit-tiki-takeover/
LOCATION:Speak of the Devil\, 201 W 5th St\, Lorain\, OH\, 44052\, United States
ATTACH;FMTTYPE=image/jpeg:https://speakofthedevillorain.com/wp-content/uploads/2019/12/Lost.jpg
END:VEVENT
BEGIN:VEVENT
DTSTART;TZID=America/New_York:20200118T190000
DTEND;TZID=America/New_York:20200118T220000
DTSTAMP:20260422T042047
CREATED:20191219T134255Z
LAST-MODIFIED:20191219T134255Z
UID:1119-1579374000-1579384800@speakofthedevillorain.com
SUMMARY:Anthony Scrofano
DESCRIPTION:Anthony Scrofano returns to the SOTD stage
URL:https://speakofthedevillorain.com/event/anthony-scrofano-3/
LOCATION:Speak of the Devil\, 201 W 5th St\, Lorain\, OH\, 44052\, United States
ATTACH;FMTTYPE=image/jpeg:https://speakofthedevillorain.com/wp-content/uploads/2019/12/anthony.jpg
END:VEVENT
BEGIN:VEVENT
DTSTART;TZID=America/New_York:20200115T170000
DTEND;TZID=America/New_York:20200115T220000
DTSTAMP:20260422T042047
CREATED:20191219T134050Z
LAST-MODIFIED:20191219T134050Z
UID:1116-1579107600-1579125600@speakofthedevillorain.com
SUMMARY:Chalmun's Cantina\, Mos Eisley - a Star Wars Pop Up Bar
DESCRIPTION:Travel to Tatooine with us and step up to the bar at Chalmun’s Cantina as we host our first ever Star Wars Pop Up! Drinks will be out of this world! Dress the part\, play the part…and no droids (they take up space and don’t drink)!
URL:https://speakofthedevillorain.com/event/chalmuns-cantina-mos-eisley-a-star-wars-pop-up-bar/
LOCATION:Speak of the Devil\, 201 W 5th St\, Lorain\, OH\, 44052\, United States
ATTACH;FMTTYPE=image/jpeg:https://speakofthedevillorain.com/wp-content/uploads/2019/12/56041e269dd7cc19008bcd3b-537-403.jpg
END:VEVENT
BEGIN:VEVENT
DTSTART;TZID=America/New_York:20200113T160000
DTEND;TZID=America/New_York:20200113T220000
DTSTAMP:20260422T042047
CREATED:20200104T135958Z
LAST-MODIFIED:20200104T140017Z
UID:1152-1578931200-1578952800@speakofthedevillorain.com
SUMMARY:Personality Crisis: a 70s/80s Punk Rock Pop Up Bar
DESCRIPTION:The gang at LBM are away\, so let’s use their bar to PLAY!  Speak of the Devil heads east to pop up  Personality Crisis: a 70’s/80’s punk rockers dream bar!
URL:https://speakofthedevillorain.com/event/personality-crisis-a-70s-80s-punk-rock-pop-up-bar/
LOCATION:LBM\, 12301 Madison Avenue\, Lakewood\, OH\, 44107\, United States
ATTACH;FMTTYPE=image/jpeg:https://speakofthedevillorain.com/wp-content/uploads/2020/01/39-og.jpg
END:VEVENT
BEGIN:VEVENT
DTSTART;TZID=America/New_York:20191228T193000
DTEND;TZID=America/New_York:20191228T233000
DTSTAMP:20260422T042047
CREATED:20190927T133503Z
LAST-MODIFIED:20190927T133503Z
UID:1098-1577561400-1577575800@speakofthedevillorain.com
SUMMARY:DJ Rey's Old School End of the Year House Party!
DESCRIPTION:Come kick it with DJ Rey as we say goodbye to 2019 in style: with an old school house party!!
URL:https://speakofthedevillorain.com/event/dj-reys-old-school-end-of-the-year-house-party/
LOCATION:Speak of the Devil\, 201 W 5th St\, Lorain\, OH\, 44052\, United States
ATTACH;FMTTYPE=image/jpeg:https://speakofthedevillorain.com/wp-content/uploads/2019/09/REYHP.jpg
END:VEVENT
BEGIN:VEVENT
DTSTART;TZID=America/New_York:20191221T190000
DTEND;TZID=America/New_York:20191221T220000
DTSTAMP:20260422T042047
CREATED:20190927T133240Z
LAST-MODIFIED:20190927T133329Z
UID:1095-1576954800-1576965600@speakofthedevillorain.com
SUMMARY:Christmas with the Don Disantis Trio
DESCRIPTION:Our very own Sinatra\, the ultimate lounge crooner\, Don Disantis and his group celebrate the season the way that only these cool cats can!
URL:https://speakofthedevillorain.com/event/christmas-with-the-don-disantis-trio/
LOCATION:Speak of the Devil\, 201 W 5th St\, Lorain\, OH\, 44052\, United States
ATTACH;FMTTYPE=image/jpeg:https://speakofthedevillorain.com/wp-content/uploads/2019/09/disantisxmas19.jpg
END:VEVENT
BEGIN:VEVENT
DTSTART;TZID=America/New_York:20191219T190000
DTEND;TZID=America/New_York:20191219T210000
DTSTAMP:20260422T042047
CREATED:20190927T133036Z
LAST-MODIFIED:20190927T133036Z
UID:1092-1576782000-1576789200@speakofthedevillorain.com
SUMMARY:Old Fashioned Comedy Night: Holiday Edition
DESCRIPTION:Dave Morales’ Old Fashioned Comedy Night is back and with a bag full of laughs for all of you good (and bad) girls and boys!
URL:https://speakofthedevillorain.com/event/old-fashioned-comedy-night-holiday-edition-2/
LOCATION:Speak of the Devil\, 201 W 5th St\, Lorain\, OH\, 44052\, United States
ATTACH;FMTTYPE=image/jpeg:https://speakofthedevillorain.com/wp-content/uploads/2019/09/xmas-comedy2019.jpg
END:VEVENT
BEGIN:VEVENT
DTSTART;TZID=America/New_York:20191214T190000
DTEND;TZID=America/New_York:20191214T220000
DTSTAMP:20260422T042047
CREATED:20190927T132835Z
LAST-MODIFIED:20190927T132835Z
UID:1089-1576350000-1576360800@speakofthedevillorain.com
SUMMARY:A very Harry (Bacharach) Holiday
DESCRIPTION:The baby daddy of heavy easy listening returns to the Speak of the Devil stage bringing his own brand of holiday cheer.
URL:https://speakofthedevillorain.com/event/a-very-harry-bacharach-holiday/
LOCATION:Speak of the Devil\, 201 W 5th St\, Lorain\, OH\, 44052\, United States
ATTACH;FMTTYPE=image/jpeg:https://speakofthedevillorain.com/wp-content/uploads/2019/09/harryxmas2.jpg
END:VEVENT
BEGIN:VEVENT
DTSTART;TZID=America/New_York:20191211T183000
DTEND;TZID=America/New_York:20191211T200000
DTSTAMP:20260422T042047
CREATED:20190927T132652Z
LAST-MODIFIED:20190927T132652Z
UID:1087-1576089000-1576094400@speakofthedevillorain.com
SUMMARY:Books & Brews
DESCRIPTION:Join us and the Lorain Public Library for the December Books & Brews. This month will be an open discussion about favorite holiday reads and favorites reads of 2019!
URL:https://speakofthedevillorain.com/event/books-brews-10/
LOCATION:Speak of the Devil\, 201 W 5th St\, Lorain\, OH\, 44052\, United States
ATTACH;FMTTYPE=image/jpeg:https://speakofthedevillorain.com/wp-content/uploads/2018/04/Books.jpg
END:VEVENT
BEGIN:VEVENT
DTSTART;TZID=America/New_York:20191207T190000
DTEND;TZID=America/New_York:20191207T233000
DTSTAMP:20260422T042047
CREATED:20190927T132453Z
LAST-MODIFIED:20190927T132453Z
UID:1084-1575745200-1575761400@speakofthedevillorain.com
SUMMARY:A very quirky Christmas with DJ Max Payola
DESCRIPTION:It’s Max Xmas with DJ Max Payola!  Join us for a night of unusual\, unique and unexpected holiday music!
URL:https://speakofthedevillorain.com/event/a-very-quirky-christmas-with-dj-max-payola/
LOCATION:Speak of the Devil\, 201 W 5th St\, Lorain\, OH\, 44052\, United States
ATTACH;FMTTYPE=image/jpeg:https://speakofthedevillorain.com/wp-content/uploads/2019/09/MAXXMAS.jpg
END:VEVENT
BEGIN:VEVENT
DTSTART;TZID=America/New_York:20191205T170000
DTEND;TZID=America/New_York:20191205T230000
DTSTAMP:20260422T042047
CREATED:20190902T132149Z
LAST-MODIFIED:20190902T132149Z
UID:1068-1575565200-1575586800@speakofthedevillorain.com
SUMMARY:Repeal Day Celebration
DESCRIPTION:Celebrate the death of the 18th Amendment and the return to a more civil society! We will have a 5:32pm toast to Utah becoming the 36th state to ratify the 21st Amendment thus ending prohibition
URL:https://speakofthedevillorain.com/event/repeal-day-celebration-2/
LOCATION:Speak of the Devil\, 201 W 5th St\, Lorain\, OH\, 44052\, United States
ATTACH;FMTTYPE=image/jpeg:https://speakofthedevillorain.com/wp-content/uploads/2019/09/repeal-day-2019.jpg
END:VEVENT
BEGIN:VEVENT
DTSTART;TZID=America/New_York:20191129T170000
DTEND;TZID=America/New_York:20191130T235900
DTSTAMP:20260422T042047
CREATED:20190902T132021Z
LAST-MODIFIED:20190902T132021Z
UID:1065-1575046800-1575158340@speakofthedevillorain.com
SUMMARY:7th Annual Nog & Glogg
DESCRIPTION:It’s that time of year – the best egg nog\, glogg and coquito all weekend!
URL:https://speakofthedevillorain.com/event/7th-annual-nog-glogg/
LOCATION:Speak of the Devil\, 201 W 5th St\, Lorain\, OH\, 44052\, United States
ATTACH;FMTTYPE=image/jpeg:https://speakofthedevillorain.com/wp-content/uploads/2019/09/NogGlogg19.jpg
END:VEVENT
BEGIN:VEVENT
DTSTART;TZID=America/New_York:20191127T170000
DTEND;TZID=America/New_York:20191127T220000
DTSTAMP:20260422T042047
CREATED:20190902T131830Z
LAST-MODIFIED:20190902T131830Z
UID:1062-1574874000-1574892000@speakofthedevillorain.com
SUMMARY:(Wild) Turkey Time!
DESCRIPTION:Why go over the river and through the woods when you can celebrate Thanksgiving eve with some early Turkey?!?
URL:https://speakofthedevillorain.com/event/wild-turkey-time/
LOCATION:Speak of the Devil\, 201 W 5th St\, Lorain\, OH\, 44052\, United States
ATTACH;FMTTYPE=image/jpeg:https://speakofthedevillorain.com/wp-content/uploads/2019/09/turkey2019.jpg
END:VEVENT
BEGIN:VEVENT
DTSTART;TZID=America/New_York:20191123T190000
DTEND;TZID=America/New_York:20191123T220000
DTSTAMP:20260422T042047
CREATED:20190902T131637Z
LAST-MODIFIED:20190902T131637Z
UID:1059-1574535600-1574546400@speakofthedevillorain.com
SUMMARY:The Jonathon Hooper Jazz Trio
DESCRIPTION:Gear up for the holiday season with Jonathon Hooper and his classic three-piece jazz combo
URL:https://speakofthedevillorain.com/event/the-jonathon-hooper-jazz-trio/
LOCATION:Speak of the Devil\, 201 W 5th St\, Lorain\, OH\, 44052\, United States
ATTACH;FMTTYPE=image/jpeg:https://speakofthedevillorain.com/wp-content/uploads/2019/09/Untitled-1.jpg
END:VEVENT
BEGIN:VEVENT
DTSTART;TZID=America/New_York:20191120T170000
DTEND;TZID=America/New_York:20191120T200000
DTSTAMP:20260422T042047
CREATED:20190902T131510Z
LAST-MODIFIED:20190902T131510Z
UID:1056-1574269200-1574280000@speakofthedevillorain.com
SUMMARY:Holiday Wines Tasting
DESCRIPTION:Stop in and sample some gorgeous holiday and winter wines!
URL:https://speakofthedevillorain.com/event/holiday-wines-tasting/
LOCATION:Speak of the Devil\, 201 W 5th St\, Lorain\, OH\, 44052\, United States
ATTACH;FMTTYPE=image/jpeg:https://speakofthedevillorain.com/wp-content/uploads/2019/09/holiday-wines-1500x609.jpg
END:VEVENT
BEGIN:VEVENT
DTSTART;TZID=America/New_York:20191115T190000
DTEND;TZID=America/New_York:20191115T220000
DTSTAMP:20260422T042047
CREATED:20190902T131306Z
LAST-MODIFIED:20190902T131306Z
UID:1053-1573844400-1573855200@speakofthedevillorain.com
SUMMARY:The Pete Vardous Blues Project
DESCRIPTION:Lorain’s legendary guitarist Pete Vardous brings us his electric blues trio…not to be missed!
URL:https://speakofthedevillorain.com/event/the-pete-vardous-blues-project/
LOCATION:Speak of the Devil\, 201 W 5th St\, Lorain\, OH\, 44052\, United States
ATTACH;FMTTYPE=image/jpeg:https://speakofthedevillorain.com/wp-content/uploads/2019/09/vardous.jpg
END:VEVENT
BEGIN:VEVENT
DTSTART;TZID=America/New_York:20191113T183000
DTEND;TZID=America/New_York:20191113T200000
DTSTAMP:20260422T042047
CREATED:20190902T131114Z
LAST-MODIFIED:20190902T131114Z
UID:1051-1573669800-1573675200@speakofthedevillorain.com
SUMMARY:Books & Brews
DESCRIPTION:Join us and the Lorain Public Library’s Books & Brews to discuss “The Good Lord Bird” by James McBride
URL:https://speakofthedevillorain.com/event/books-brews-9/
LOCATION:Speak of the Devil\, 201 W 5th St\, Lorain\, OH\, 44052\, United States
ATTACH;FMTTYPE=image/jpeg:https://speakofthedevillorain.com/wp-content/uploads/2018/04/Books.jpg
END:VEVENT
BEGIN:VEVENT
DTSTART;TZID=America/New_York:20191106T170000
DTEND;TZID=America/New_York:20191106T200000
DTSTAMP:20260422T042047
CREATED:20191007T175738Z
LAST-MODIFIED:20191007T175738Z
UID:1107-1573059600-1573070400@speakofthedevillorain.com
SUMMARY:Meet & Mingle: Main Street Lorain
DESCRIPTION:Welcome one and all to another downtown Lorain Meet & Mingle! Come on out Wednesday November 6 to meet and mingle with downtown business interests as we introduce Lorain’s new Main Street Lorain organization!  Hear first hand from the folks involved about the mission and vision Main Street Lorain has for the future of Lorain!
URL:https://speakofthedevillorain.com/event/meet-mingle-main-street-lorain/
LOCATION:Speak of the Devil\, 201 W 5th St\, Lorain\, OH\, 44052\, United States
ATTACH;FMTTYPE=image/jpeg:https://speakofthedevillorain.com/wp-content/uploads/2019/10/MnM3.jpg
END:VEVENT
BEGIN:VEVENT
DTSTART;TZID=America/New_York:20191026T190000
DTEND;TZID=America/New_York:20191026T220000
DTSTAMP:20260422T042047
CREATED:20190902T133859Z
LAST-MODIFIED:20190902T133859Z
UID:1074-1572116400-1572127200@speakofthedevillorain.com
SUMMARY:Austin "Walkin" Cane: The ghosts of the blues
DESCRIPTION:The one and only Austin “Walkin” Cane returns to the Speak of the Devil stage for a night of haunting blues
URL:https://speakofthedevillorain.com/event/austin-walkin-cane-the-ghosts-of-the-blues/
LOCATION:Speak of the Devil\, 201 W 5th St\, Lorain\, OH\, 44052\, United States
ATTACH;FMTTYPE=image/jpeg:https://speakofthedevillorain.com/wp-content/uploads/2019/09/AustinWalkinCane-940.jpg
END:VEVENT
BEGIN:VEVENT
DTSTART;TZID=America/New_York:20191017T170000
DTEND;TZID=America/New_York:20191017T230000
DTSTAMP:20260422T042047
CREATED:20190812T115345Z
LAST-MODIFIED:20190812T115345Z
UID:1047-1571331600-1571353200@speakofthedevillorain.com
SUMMARY:Flyin' the Flannel: a return to grunge
DESCRIPTION:90’s grunge music\, Flannel Shirt cocktails\, flannel shirts…what more need said?
URL:https://speakofthedevillorain.com/event/flyin-the-flannel-a-return-to-grunge/
LOCATION:Speak of the Devil\, 201 W 5th St\, Lorain\, OH\, 44052\, United States
ATTACH;FMTTYPE=image/jpeg:https://speakofthedevillorain.com/wp-content/uploads/2019/08/flyin-the-flannelt.jpg
END:VEVENT
BEGIN:VEVENT
DTSTART;TZID=America/New_York:20191012T190000
DTEND;TZID=America/New_York:20191012T220000
DTSTAMP:20260422T042047
CREATED:20190902T133739Z
LAST-MODIFIED:20190902T134055Z
UID:1071-1570906800-1570917600@speakofthedevillorain.com
SUMMARY:Paul Wolf Christensen
DESCRIPTION:Join us as we welcome Lorain’s very own Paul Wolf Christensen back to Speak of the Devil!
URL:https://speakofthedevillorain.com/event/paul-wolf-christensen-2/
LOCATION:Speak of the Devil\, 201 W 5th St\, Lorain\, OH\, 44052\, United States
ATTACH;FMTTYPE=image/jpeg:https://speakofthedevillorain.com/wp-content/uploads/2019/09/paulcreturn.jpg
END:VEVENT
BEGIN:VEVENT
DTSTART;TZID=America/New_York:20191009T183000
DTEND;TZID=America/New_York:20191009T200000
DTSTAMP:20260422T042047
CREATED:20190812T115124Z
LAST-MODIFIED:20190812T115124Z
UID:1045-1570645800-1570651200@speakofthedevillorain.com
SUMMARY:Books & Brews
DESCRIPTION:Lit Happens! Join Books & Brews for the timely Halloween-time discussion of Mary Shelley’s classic “Frankenstein”
URL:https://speakofthedevillorain.com/event/books-brews-8/
LOCATION:Speak of the Devil\, 201 W 5th St\, Lorain\, OH\, 44052\, United States
ATTACH;FMTTYPE=image/jpeg:https://speakofthedevillorain.com/wp-content/uploads/2018/04/Books.jpg
END:VEVENT
BEGIN:VEVENT
DTSTART;TZID=America/New_York:20191005T200000
DTEND;TZID=America/New_York:20191005T233000
DTSTAMP:20260422T042047
CREATED:20190812T114951Z
LAST-MODIFIED:20190812T115511Z
UID:1042-1570305600-1570318200@speakofthedevillorain.com
SUMMARY:Soul Train Saturday w/ DJ Rey - Yo! MTV Raps Edition
DESCRIPTION:It’s Souuuuuuul Train Saturday with DJ Rey – Yo! MTV Raps Edition!  Shake your rumps to the classic rap and hip hop tracks that made Dre’ and Ed Lover household names!
URL:https://speakofthedevillorain.com/event/soul-train-saturday-w-dj-rey-yo-mtv-raps-edition/
LOCATION:Speak of the Devil\, 201 W 5th St\, Lorain\, OH\, 44052\, United States
ATTACH;FMTTYPE=image/jpeg:https://speakofthedevillorain.com/wp-content/uploads/2019/08/yo.jpg
END:VEVENT
BEGIN:VEVENT
DTSTART;TZID=America/New_York:20191002T200000
DTEND;TZID=America/New_York:20191002T210000
DTSTAMP:20260422T042047
CREATED:20190927T134148Z
LAST-MODIFIED:20190927T134148Z
UID:1101-1570046400-1570050000@speakofthedevillorain.com
SUMMARY:This Avenue Dark - EP listening party
DESCRIPTION:Get with us to listen to the remastered This Avenue Dark EP “Orbit” – plus a couple of new TAD Halloween tracks!!
URL:https://speakofthedevillorain.com/event/this-avenue-dark-ep-listening-party/
LOCATION:Speak of the Devil\, 201 W 5th St\, Lorain\, OH\, 44052\, United States
ATTACH;FMTTYPE=image/jpeg:https://speakofthedevillorain.com/wp-content/uploads/2019/09/fa665c_bb9b2d330e11452187280e6ee24664a7mv2.jpg
END:VEVENT
BEGIN:VEVENT
DTSTART;TZID=America/New_York:20190921T190000
DTEND;TZID=America/New_York:20190921T220000
DTSTAMP:20260422T042047
CREATED:20190812T114716Z
LAST-MODIFIED:20190812T114716Z
UID:1039-1569092400-1569103200@speakofthedevillorain.com
SUMMARY:Don Disantis Trio
DESCRIPTION:Don Disantis brings his trio back to Speak of the Devil for another night of old school Vegas-like lounge entertainment!
URL:https://speakofthedevillorain.com/event/don-disantis-trio-3/
LOCATION:Speak of the Devil\, 201 W 5th St\, Lorain\, OH\, 44052\, United States
ATTACH;FMTTYPE=image/jpeg:https://speakofthedevillorain.com/wp-content/uploads/2019/08/DD3.jpg
END:VEVENT
BEGIN:VEVENT
DTSTART;TZID=America/New_York:20190913T190000
DTEND;TZID=America/New_York:20190913T233000
DTSTAMP:20260422T042047
CREATED:20190812T114525Z
LAST-MODIFIED:20190812T114525Z
UID:1036-1568401200-1568417400@speakofthedevillorain.com
SUMMARY:SIMPLE: acoustic music
DESCRIPTION:SIMPLE returns to the Speak of the Devil stage for another night of music and fun!
URL:https://speakofthedevillorain.com/event/simple-acoustic-music/
LOCATION:Speak of the Devil\, 201 W 5th St\, Lorain\, OH\, 44052\, United States
ATTACH;FMTTYPE=image/jpeg:https://speakofthedevillorain.com/wp-content/uploads/2019/08/simple22.jpg
END:VEVENT
BEGIN:VEVENT
DTSTART;TZID=America/New_York:20190911T183000
DTEND;TZID=America/New_York:20190911T200000
DTSTAMP:20260422T042047
CREATED:20190812T114036Z
LAST-MODIFIED:20190812T114036Z
UID:1031-1568226600-1568232000@speakofthedevillorain.com
SUMMARY:Books & Brews
DESCRIPTION:Lit Happens! Books & Brews continues into fall 2019 with Septembers discussion of Jessica Bruder’s “Nomadland: Surviving America in the Twenty-First Century”
URL:https://speakofthedevillorain.com/event/books-brews-7/
LOCATION:Speak of the Devil\, 201 W 5th St\, Lorain\, OH\, 44052\, United States
ATTACH;FMTTYPE=image/jpeg:https://speakofthedevillorain.com/wp-content/uploads/2018/04/Books.jpg
END:VEVENT
END:VCALENDAR