BEGIN:VCALENDAR
VERSION:2.0
PRODID:-// - ECPv6.15.20//NONSGML v1.0//EN
CALSCALE:GREGORIAN
METHOD:PUBLISH
X-ORIGINAL-URL:https://speakofthedevillorain.com
X-WR-CALDESC:Events for 
REFRESH-INTERVAL;VALUE=DURATION:PT1H
X-Robots-Tag:noindex
X-PUBLISHED-TTL:PT1H
BEGIN:VTIMEZONE
TZID:America/New_York
BEGIN:DAYLIGHT
TZOFFSETFROM:-0500
TZOFFSETTO:-0400
TZNAME:EDT
DTSTART:20170312T070000
END:DAYLIGHT
BEGIN:STANDARD
TZOFFSETFROM:-0400
TZOFFSETTO:-0500
TZNAME:EST
DTSTART:20171105T060000
END:STANDARD
BEGIN:DAYLIGHT
TZOFFSETFROM:-0500
TZOFFSETTO:-0400
TZNAME:EDT
DTSTART:20180311T070000
END:DAYLIGHT
BEGIN:STANDARD
TZOFFSETFROM:-0400
TZOFFSETTO:-0500
TZNAME:EST
DTSTART:20181104T060000
END:STANDARD
BEGIN:DAYLIGHT
TZOFFSETFROM:-0500
TZOFFSETTO:-0400
TZNAME:EDT
DTSTART:20190310T070000
END:DAYLIGHT
BEGIN:STANDARD
TZOFFSETFROM:-0400
TZOFFSETTO:-0500
TZNAME:EST
DTSTART:20191103T060000
END:STANDARD
BEGIN:DAYLIGHT
TZOFFSETFROM:-0500
TZOFFSETTO:-0400
TZNAME:EDT
DTSTART:20200308T070000
END:DAYLIGHT
BEGIN:STANDARD
TZOFFSETFROM:-0400
TZOFFSETTO:-0500
TZNAME:EST
DTSTART:20201101T060000
END:STANDARD
END:VTIMEZONE
BEGIN:VEVENT
DTSTART;TZID=America/New_York:20190309T170000
DTEND;TZID=America/New_York:20190309T233000
DTSTAMP:20260422T113341
CREATED:20190222T150902Z
LAST-MODIFIED:20190222T150902Z
UID:956-1552150800-1552174200@speakofthedevillorain.com
SUMMARY:Mardi Gras Lorain County: NoLo Cocktails!
DESCRIPTION:A week of classic New Orleans cocktails for Lorain County Mardi Gras week!
URL:https://speakofthedevillorain.com/event/mardi-gras-lorain-county-nolo-cocktails-4/
LOCATION:Speak of the Devil\, 201 W 5th St\, Lorain\, OH\, 44052\, United States
ATTACH;FMTTYPE=image/png:https://speakofthedevillorain.com/wp-content/uploads/2019/02/51866014_10155945657707466_763687520721436672_o.png
END:VEVENT
BEGIN:VEVENT
DTSTART;TZID=America/New_York:20190308T170000
DTEND;TZID=America/New_York:20190308T233000
DTSTAMP:20260422T113341
CREATED:20190222T150742Z
LAST-MODIFIED:20190222T150742Z
UID:954-1552064400-1552087800@speakofthedevillorain.com
SUMMARY:Mardi Gras Lorain County: NoLo Cocktails!
DESCRIPTION:A week of classic New Orleans cocktails for Lorain County Mardi Gras week!
URL:https://speakofthedevillorain.com/event/mardi-gras-lorain-county-nolo-cocktails-3/
LOCATION:Speak of the Devil\, 201 W 5th St\, Lorain\, OH\, 44052\, United States
ATTACH;FMTTYPE=image/png:https://speakofthedevillorain.com/wp-content/uploads/2019/02/51866014_10155945657707466_763687520721436672_o.png
END:VEVENT
BEGIN:VEVENT
DTSTART;TZID=America/New_York:20190307T170000
DTEND;TZID=America/New_York:20190307T230000
DTSTAMP:20260422T113341
CREATED:20190222T150620Z
LAST-MODIFIED:20190222T152702Z
UID:952-1551978000-1551999600@speakofthedevillorain.com
SUMMARY:Mardi Gras Lorain County: NoLo Cocktails!
DESCRIPTION:A week of classic New Orleans cocktails for Lorain County Mardi Gras week!
URL:https://speakofthedevillorain.com/event/mardi-gras-lorain-county-nolo-cocktails-2/
LOCATION:Speak of the Devil\, 201 W 5th St\, Lorain\, OH\, 44052\, United States
ATTACH;FMTTYPE=image/png:https://speakofthedevillorain.com/wp-content/uploads/2019/02/51866014_10155945657707466_763687520721436672_o.png
END:VEVENT
BEGIN:VEVENT
DTSTART;TZID=America/New_York:20190306T170000
DTEND;TZID=America/New_York:20190306T220000
DTSTAMP:20260422T113341
CREATED:20190222T150448Z
LAST-MODIFIED:20190222T150448Z
UID:949-1551891600-1551909600@speakofthedevillorain.com
SUMMARY:Mardi Gras Lorain County: NoLo Cocktails!
DESCRIPTION:A week of classic New Orleans cocktails for Lorain County Mardi Gras week!
URL:https://speakofthedevillorain.com/event/mardi-gras-lorain-county-nolo-cocktails/
LOCATION:Speak of the Devil\, 201 W 5th St\, Lorain\, OH\, 44052\, United States
ATTACH;FMTTYPE=image/png:https://speakofthedevillorain.com/wp-content/uploads/2019/02/51866014_10155945657707466_763687520721436672_o.png
END:VEVENT
BEGIN:VEVENT
DTSTART;TZID=America/New_York:20190227T180000
DTEND;TZID=America/New_York:20190227T190000
DTSTAMP:20260422T113341
CREATED:20190104T171843Z
LAST-MODIFIED:20190104T171843Z
UID:906-1551290400-1551294000@speakofthedevillorain.com
SUMMARY:Climate & Cocktails
DESCRIPTION:Join Max Schaefer from the Ohio Environmental Council and SOTD for another season of Climate & Cocktails! Each event will feature a speaker discussing a specific topic that concerns our environment and its preservation.
URL:https://speakofthedevillorain.com/event/climate-cocktails-3/
LOCATION:Speak of the Devil\, 201 W 5th St\, Lorain\, OH\, 44052\, United States
ATTACH;FMTTYPE=image/jpeg:https://speakofthedevillorain.com/wp-content/uploads/2019/01/CC.jpg
END:VEVENT
BEGIN:VEVENT
DTSTART;TZID=America/New_York:20190215T190000
DTEND;TZID=America/New_York:20190215T220000
DTSTAMP:20260422T113341
CREATED:20190104T171649Z
LAST-MODIFIED:20190104T171649Z
UID:903-1550257200-1550268000@speakofthedevillorain.com
SUMMARY:Simple: Live at Speak of the Devil
DESCRIPTION:Bring your Valentine and join us as SIMPLE returns to the SOTD stage!
URL:https://speakofthedevillorain.com/event/simple-live-at-speak-of-the-devil/
LOCATION:Speak of the Devil\, 201 W 5th St\, Lorain\, OH\, 44052\, United States
ATTACH;FMTTYPE=image/jpeg:https://speakofthedevillorain.com/wp-content/uploads/2019/01/47687853_2053410894705084_26865767760789504_n.jpg
END:VEVENT
BEGIN:VEVENT
DTSTART;TZID=America/New_York:20190213T183000
DTEND;TZID=America/New_York:20190213T200000
DTSTAMP:20260422T113341
CREATED:20190104T171516Z
LAST-MODIFIED:20190104T171516Z
UID:901-1550082600-1550088000@speakofthedevillorain.com
SUMMARY:Books & Brews: "Born a Crime" by Trevor Noah
DESCRIPTION:Lit Happens! Join SOTD and the Lorain Public Library for Books & Brews. This month’s selection “Born a Crime” by Trevor Noah
URL:https://speakofthedevillorain.com/event/books-brews-born-a-crime-by-trevor-noah/
LOCATION:Speak of the Devil\, 201 W 5th St\, Lorain\, OH\, 44052\, United States
ATTACH;FMTTYPE=image/jpeg:https://speakofthedevillorain.com/wp-content/uploads/2018/04/Books.jpg
END:VEVENT
BEGIN:VEVENT
DTSTART;TZID=America/New_York:20190213T180000
DTEND;TZID=America/New_York:20190213T200000
DTSTAMP:20260422T113341
CREATED:20190111T153747Z
LAST-MODIFIED:20190111T153747Z
UID:922-1550080800-1550088000@speakofthedevillorain.com
SUMMARY:Days of Wine and Roses: A Valentine's Eve Cabernet Tasting
DESCRIPTION:Join us and our fabulous wine gal Courtney for a Valentine’s eve of delicious Cabernet Sauvignon tasting. Pick out a favorite bottle for YOUR Valentine!
URL:https://speakofthedevillorain.com/event/days-of-wine-and-roses-a-valentines-eve-cabernet-tasting/
LOCATION:Speak of the Devil\, 201 W 5th St\, Lorain\, OH\, 44052\, United States
ATTACH;FMTTYPE=image/jpeg:https://speakofthedevillorain.com/wp-content/uploads/2019/01/wineroses.jpg
END:VEVENT
BEGIN:VEVENT
DTSTART;TZID=America/New_York:20190202T170000
DTEND;TZID=America/New_York:20190202T233000
DTSTAMP:20260422T113341
CREATED:20190104T171201Z
LAST-MODIFIED:20190104T171201Z
UID:899-1549126800-1549150200@speakofthedevillorain.com
SUMMARY:Speak of the Devil Tiki Week 2019
DESCRIPTION:Come warm away the winter blues with us – Painkiller’s\, Zombies and Blue Hawaii’s for all!
URL:https://speakofthedevillorain.com/event/speak-of-the-devil-tiki-week-2019-3/
LOCATION:Speak of the Devil\, 201 W 5th St\, Lorain\, OH\, 44052\, United States
ATTACH;FMTTYPE=image/jpeg:https://speakofthedevillorain.com/wp-content/uploads/2019/01/TikiTanks_smallbanner_B.jpg
END:VEVENT
BEGIN:VEVENT
DTSTART;TZID=America/New_York:20190201T170000
DTEND;TZID=America/New_York:20190201T233000
DTSTAMP:20260422T113341
CREATED:20190104T171118Z
LAST-MODIFIED:20190104T171118Z
UID:897-1549040400-1549063800@speakofthedevillorain.com
SUMMARY:Speak of the Devil Tiki Week 2019
DESCRIPTION:Come warm away the winter blues with us – Painkiller’s\, Zombies and Blue Hawaii’s for all!
URL:https://speakofthedevillorain.com/event/speak-of-the-devil-tiki-week-2019-2/
LOCATION:Speak of the Devil\, 201 W 5th St\, Lorain\, OH\, 44052\, United States
ATTACH;FMTTYPE=image/jpeg:https://speakofthedevillorain.com/wp-content/uploads/2019/01/TikiTanks_smallbanner_B.jpg
END:VEVENT
BEGIN:VEVENT
DTSTART;TZID=America/New_York:20190131T170000
DTEND;TZID=America/New_York:20190131T230000
DTSTAMP:20260422T113341
CREATED:20190104T171028Z
LAST-MODIFIED:20190104T171028Z
UID:894-1548954000-1548975600@speakofthedevillorain.com
SUMMARY:Speak of the Devil Tiki Week 2019
DESCRIPTION:Come warm away the winter blues with us – Painkiller’s\, Zombies and Blue Hawaii’s for all!
URL:https://speakofthedevillorain.com/event/speak-of-the-devil-tiki-week-2019/
LOCATION:Speak of the Devil\, 201 W 5th St\, Lorain\, OH\, 44052\, United States
ATTACH;FMTTYPE=image/jpeg:https://speakofthedevillorain.com/wp-content/uploads/2019/01/TikiTanks_smallbanner_B.jpg
END:VEVENT
BEGIN:VEVENT
DTSTART;TZID=America/New_York:20190130T050000
DTEND;TZID=America/New_York:20190130T220000
DTSTAMP:20260422T113341
CREATED:20190104T165709Z
LAST-MODIFIED:20190104T165709Z
UID:891-1548824400-1548885600@speakofthedevillorain.com
SUMMARY:Tiki Week 2019: Porco's Return!
DESCRIPTION:PORCO’S RETURN…unfinished business! Kick off Speak of the Devil’s “Tiki Week 2019” with the mad masters of the tiki craft from Cleveland’s Porco Lounge & Tiki Room as they come west once again to take over Speak of the Devil’s bar and menu for one night and one night only – Wednesday\, January 30\, 2019. This is gonna be epic!
URL:https://speakofthedevillorain.com/event/tiki-week-2019-porcos-return/
LOCATION:Speak of the Devil\, 201 W 5th St\, Lorain\, OH\, 44052\, United States
ATTACH;FMTTYPE=image/jpeg:https://speakofthedevillorain.com/wp-content/uploads/2019/01/PorcoFun.jpg
END:VEVENT
BEGIN:VEVENT
DTSTART;TZID=America/New_York:20190124T183000
DTEND;TZID=America/New_York:20190124T200000
DTSTAMP:20260422T113341
CREATED:20190104T164338Z
LAST-MODIFIED:20190104T164338Z
UID:878-1548354600-1548360000@speakofthedevillorain.com
SUMMARY:We're No Angels: An evening of poetry performances
DESCRIPTION:NightBallet Press and Speak of the Devil proudly present three dynamic and entertaining poetry performers: Dianne Borsenik\, John Burroughs\, and Ohio Poet Laureate Dave Lucas\, for this first of its kind event in Lorain! Do not miss this evening of extraordinarily unique and entertaining poetry!!
URL:https://speakofthedevillorain.com/event/were-no-angels-an-evening-of-poetry-performances/
LOCATION:Speak of the Devil\, 201 W 5th St\, Lorain\, OH\, 44052\, United States
ATTACH;FMTTYPE=image/jpeg:https://speakofthedevillorain.com/wp-content/uploads/2019/01/NoAngels.jpg
END:VEVENT
BEGIN:VEVENT
DTSTART;TZID=America/New_York:20190123T180000
DTEND;TZID=America/New_York:20190123T190000
DTSTAMP:20260422T113341
CREATED:20190104T165521Z
LAST-MODIFIED:20190104T165521Z
UID:888-1548266400-1548270000@speakofthedevillorain.com
SUMMARY:Climate & Cocktails
DESCRIPTION:Join Max Schaefer from the Ohio Environmental Council and SOTD for another season of Climate & Cocktails! Each event will feature a speaker discussing a specific topic that concerns our environment and its preservation. Featured speakers:  Rust Belt Riders (sustainable composting) from Cleveland!
URL:https://speakofthedevillorain.com/event/climate-cocktails-2/
LOCATION:Speak of the Devil\, 201 W 5th St\, Lorain\, OH\, 44052\, United States
ATTACH;FMTTYPE=image/jpeg:https://speakofthedevillorain.com/wp-content/uploads/2019/01/CC.jpg
END:VEVENT
BEGIN:VEVENT
DTSTART;TZID=America/New_York:20190117T170000
DTEND;TZID=America/New_York:20190117T230000
DTSTAMP:20260422T113341
CREATED:20190104T165243Z
LAST-MODIFIED:20190104T165243Z
UID:885-1547744400-1547766000@speakofthedevillorain.com
SUMMARY:Franklin Brewing Company Tap Takeover
DESCRIPTION:Join us as we welcome our friends from Franklin Brewing Company to Speak of the Devil for a 4 tap takeover! Taste their delicious beers and meet the brewers!
URL:https://speakofthedevillorain.com/event/franklin-brewing-company-tap-takeover/
LOCATION:OH
ATTACH;FMTTYPE=image/jpeg:https://speakofthedevillorain.com/wp-content/uploads/2019/01/takeover.jpg
END:VEVENT
BEGIN:VEVENT
DTSTART;TZID=America/New_York:20190112T200000
DTEND;TZID=America/New_York:20190112T230000
DTSTAMP:20260422T113341
CREATED:20181101T142520Z
LAST-MODIFIED:20181101T142520Z
UID:864-1547323200-1547334000@speakofthedevillorain.com
SUMMARY:Soul Train Saturday 2: The 80's Edition w/DJ Rey
DESCRIPTION:It’s BACK! Soul Train Saturday 80’s Edition! Hop on board the Soul Train as DJ Rey and Speak of the Devil take you on a funky little trip back to the future! Neon\, Swatches\, acid wash jeans\, and members only jackets are encouraged!
URL:https://speakofthedevillorain.com/event/soul-train-saturday-2-the-80s-edition-w-dj-rey/
LOCATION:Speak of the Devil\, 201 W 5th St\, Lorain\, OH\, 44052\, United States
ATTACH;FMTTYPE=image/jpeg:https://speakofthedevillorain.com/wp-content/uploads/2018/11/soultrain2a.jpg
END:VEVENT
BEGIN:VEVENT
DTSTART;TZID=America/New_York:20190110T170000
DTEND;TZID=America/New_York:20190110T200000
DTSTAMP:20260422T113341
CREATED:20181101T142711Z
LAST-MODIFIED:20181101T142711Z
UID:867-1547139600-1547150400@speakofthedevillorain.com
SUMMARY:Meet & Mingle: Welcome to the DownLo
DESCRIPTION:Join us for our second Meet and Mingle! A lot of things are happening in the DownLo! Downtown Lorain is experiencing some exciting changes: new business/building owners; UnionTown Provisions\, Brew & Stew – and along with the existing legacies and the pioneer businesses there is an exciting and hopeful future in Downtown Lorain! We are inviting business and building owners from around Lorain to come together to meet each other and the public! Stop in\, mingle and find out what is REALLY going on in your downtown!
URL:https://speakofthedevillorain.com/event/meet-mingle-welcome-to-the-downlo/
LOCATION:Speak of the Devil\, 201 W 5th St\, Lorain\, OH\, 44052\, United States
ATTACH;FMTTYPE=image/jpeg:https://speakofthedevillorain.com/wp-content/uploads/2018/11/MnM.jpg
END:VEVENT
BEGIN:VEVENT
DTSTART;TZID=America/New_York:20190109T183000
DTEND;TZID=America/New_York:20190109T200000
DTSTAMP:20260422T113341
CREATED:20190104T165039Z
LAST-MODIFIED:20190104T165039Z
UID:882-1547058600-1547064000@speakofthedevillorain.com
SUMMARY:Books & Brews: "The Maltese Falcon" by Dashiell Hammett
DESCRIPTION:Lit Happens! Join SOTD and the Lorain Public Library for Books & Brews – this months selection\, “The Maltese Falcon” by Dashiell Hammett
URL:https://speakofthedevillorain.com/event/books-brews-the-maltese-falcon-by-dashiell-hammett/
LOCATION:Speak of the Devil\, 201 W 5th St\, Lorain\, OH\, 44052\, United States
ATTACH;FMTTYPE=image/jpeg:https://speakofthedevillorain.com/wp-content/uploads/2018/04/Books.jpg
END:VEVENT
BEGIN:VEVENT
DTSTART;TZID=America/New_York:20181222T190000
DTEND;TZID=America/New_York:20181222T220000
DTSTAMP:20260422T113341
CREATED:20180828T205438Z
LAST-MODIFIED:20180916T145934Z
UID:796-1545505200-1545516000@speakofthedevillorain.com
SUMMARY:CITY: Live Christmas Jazz at Speak of the Devil!
DESCRIPTION:Join us in celebrating the season as City takes to the SOTD stage for a night of jazzy Christmas classics and some seasonal standards!
URL:https://speakofthedevillorain.com/event/city-live-christmas-jazz-at-speak-of-the-devil/
LOCATION:Speak of the Devil\, 201 W 5th St\, Lorain\, OH\, 44052\, United States
ATTACH;FMTTYPE=image/jpeg:https://speakofthedevillorain.com/wp-content/uploads/2018/08/City-1.jpg
END:VEVENT
BEGIN:VEVENT
DTSTART;TZID=America/New_York:20181221T170000
DTEND;TZID=America/New_York:20181222T235900
DTSTAMP:20260422T113341
CREATED:20181009T125218Z
LAST-MODIFIED:20181009T125218Z
UID:851-1545411600-1545523140@speakofthedevillorain.com
SUMMARY:ONE: OMG we made it one year! SOTD Anniversary weekend
DESCRIPTION:OMG we made it one  year!  What a wild\, wooly and amazing year it was! Come celebrate with us and walk down memory lane!
URL:https://speakofthedevillorain.com/event/one-omg-we-made-it-one-year-sotd-anniversary-weekend/
LOCATION:Speak of the Devil\, 201 W 5th St\, Lorain\, OH\, 44052\, United States
ATTACH;FMTTYPE=image/png:https://speakofthedevillorain.com/wp-content/uploads/2018/10/ONE_12x6@2x.png
END:VEVENT
BEGIN:VEVENT
DTSTART;TZID=America/New_York:20181220T170000
DTEND;TZID=America/New_York:20181220T230000
DTSTAMP:20260422T113341
CREATED:20180902T181239Z
LAST-MODIFIED:20180902T181239Z
UID:808-1545325200-1545346800@speakofthedevillorain.com
SUMMARY:Christmas (W)Rap Party (and Ugly Sweater Contest)
DESCRIPTION:Wrap your presents and sport your ugliest Christmas sweater while listening to Christmas Rap! Speak of the Devil provides the wrappin’s – wrapping paper\, bows\, to’s and from’s – all while DJ Super Dave Andrews spins the Christmas rappin’s!   That’s right\, wrap your presents to Xmas rap – from Easy E to Run DMC!
URL:https://speakofthedevillorain.com/event/christmas-wrap-party-and-ugly-sweater-contest/
LOCATION:Speak of the Devil\, 201 W 5th St\, Lorain\, OH\, 44052\, United States
ATTACH;FMTTYPE=image/jpeg:https://speakofthedevillorain.com/wp-content/uploads/2018/09/wrap.jpg
END:VEVENT
BEGIN:VEVENT
DTSTART;TZID=America/New_York:20181215T190000
DTEND;TZID=America/New_York:20181215T220000
DTSTAMP:20260422T113341
CREATED:20180722T143345Z
LAST-MODIFIED:20180916T150137Z
UID:778-1544900400-1544911200@speakofthedevillorain.com
SUMMARY:Harry Bacharach
DESCRIPTION:Christmas with Harry! Join us as the man with the hat behind the keys – “the baby daddy of heavy easy-listening” – returns to Speak of the Devil with a smidgen of Christmas magic!
URL:https://speakofthedevillorain.com/event/harry-bacharach-2/
LOCATION:Speak of the Devil\, 201 W 5th St\, Lorain\, OH\, 44052\, United States
ATTACH;FMTTYPE=image/jpeg:https://speakofthedevillorain.com/wp-content/uploads/2018/07/harryxmas.jpg
END:VEVENT
BEGIN:VEVENT
DTSTART;TZID=America/New_York:20181213T190000
DTEND;TZID=America/New_York:20181213T203000
DTSTAMP:20260422T113341
CREATED:20180913T164644Z
LAST-MODIFIED:20180913T164644Z
UID:820-1544727600-1544733000@speakofthedevillorain.com
SUMMARY:Old Fashioned Comedy Night: Holiday Edition
DESCRIPTION:Join us for a Holiday Edition of the always fun and popular Old Fashioned Comedy Night! This is a FREE SHOW!
URL:https://speakofthedevillorain.com/event/old-fashioned-comedy-night-holiday-edition/
LOCATION:Speak of the Devil\, 201 W 5th St\, Lorain\, OH\, 44052\, United States
ATTACH;FMTTYPE=image/jpeg:https://speakofthedevillorain.com/wp-content/uploads/2018/09/xmas-comedy.jpg
END:VEVENT
BEGIN:VEVENT
DTSTART;TZID=America/New_York:20181208T190000
DTEND;TZID=America/New_York:20181208T220000
DTSTAMP:20260422T113341
CREATED:20180929T152706Z
LAST-MODIFIED:20180929T152706Z
UID:836-1544295600-1544306400@speakofthedevillorain.com
SUMMARY:Don Disantis Trio
DESCRIPTION:Join us for a night of Vegas-style holiday season entertainment as we welcome the inimitable Don Disantis to the Speak of the Devil stage!
URL:https://speakofthedevillorain.com/event/don-disantis-trio/
LOCATION:Speak of the Devil\, 201 W 5th St\, Lorain\, OH\, 44052\, United States
ATTACH;FMTTYPE=image/jpeg:https://speakofthedevillorain.com/wp-content/uploads/2018/09/disantis.jpg
END:VEVENT
BEGIN:VEVENT
DTSTART;TZID=America/New_York:20181206T180000
DTEND;TZID=America/New_York:20181206T200000
DTSTAMP:20260422T113341
CREATED:20181115T130458Z
LAST-MODIFIED:20181115T130458Z
UID:874-1544119200-1544126400@speakofthedevillorain.com
SUMMARY:The Bonsai Project: 2 Breweries\, 2 Beers\, OH MI!
DESCRIPTION:Ohio vs. Michigan…it’s an age old story. But\, what happens when two incredible craft breweries – Short’s of Bellaire\, MI and Cincy Ohio’s own Mad Tree – get together for a few gin & tonics?! The Bonsai Project (get it? short…trees\, ahem)\, of course! Two separate brews designed to be layered together to create one gin & tonic-y beer! We could not miss out on this one\, it makes too much sense! So join us as we welcome Short’s Brewing and Mad Tree Brewery to Speak of the Devil to introduce and unveil this way cool collaboration! (rumor has it there will even be a magic “Prize Wheel” on the SOTD stage for y’all to spin for some free swag!)
URL:https://speakofthedevillorain.com/event/the-bonsai-project-2-breweries-2-beers-oh-mi/
LOCATION:Speak of the Devil\, 201 W 5th St\, Lorain\, OH\, 44052\, United States
ATTACH;FMTTYPE=image/jpeg:https://speakofthedevillorain.com/wp-content/uploads/2018/11/Website-Featured-Image_Bonsai-Website-Graphic.jpg
END:VEVENT
BEGIN:VEVENT
DTSTART;TZID=America/New_York:20181205T050000
DTEND;TZID=America/New_York:20181205T220000
DTSTAMP:20260422T113341
CREATED:20181025T131111Z
LAST-MODIFIED:20181025T131111Z
UID:858-1543986000-1544047200@speakofthedevillorain.com
SUMMARY:Repeal Day Celebration!
DESCRIPTION:Join us as we celebrate 85 “wet” years of the 21st Amendment to the United States Constitution! Come in style you flappers and scofflaws…for tonight\, we can drink again!
URL:https://speakofthedevillorain.com/event/repeal-day-celebration/
LOCATION:Speak of the Devil\, 201 W 5th St\, Lorain\, OH\, 44052\, United States
ATTACH;FMTTYPE=image/jpeg:https://speakofthedevillorain.com/wp-content/uploads/2018/10/Prohibition.jpg
END:VEVENT
BEGIN:VEVENT
DTSTART;TZID=America/New_York:20181129T170000
DTEND;TZID=America/New_York:20181129T230000
DTSTAMP:20260422T113341
CREATED:20181025T130807Z
LAST-MODIFIED:20181025T130807Z
UID:855-1543510800-1543532400@speakofthedevillorain.com
SUMMARY:Western Reserve Distillers punk up Speak of the Devil
DESCRIPTION:Join us as we welcome Western Reserve Distillers to Speak of the Devil and we take a cue from Drinksmith Tim Harnett’s Cleveland punk-centric cocktail menu and punk the place up a bit!
URL:https://speakofthedevillorain.com/event/western-reserve-distillers-punk-up-speak-of-the-devil/
LOCATION:Speak of the Devil\, 201 W 5th St\, Lorain\, OH\, 44052\, United States
ATTACH;FMTTYPE=image/jpeg:https://speakofthedevillorain.com/wp-content/uploads/2018/10/WRD.jpg
END:VEVENT
BEGIN:VEVENT
DTSTART;TZID=America/New_York:20181124T190000
DTEND;TZID=America/New_York:20181124T220000
DTSTAMP:20260422T113341
CREATED:20180611T135407Z
LAST-MODIFIED:20180916T150211Z
UID:759-1543086000-1543096800@speakofthedevillorain.com
SUMMARY:A Very Cool Yule: Holiday Jazz with Eric Everett Jazz
DESCRIPTION:Eric Everett Jazz brings the jazzy holiday spirit to Speak of the Devil!
URL:https://speakofthedevillorain.com/event/a-very-cool-yule-holiday-jazz-with-eric-everett-jazz/
LOCATION:Speak of the Devil\, 201 W 5th St\, Lorain\, OH\, 44052\, United States
ATTACH;FMTTYPE=image/jpeg:https://speakofthedevillorain.com/wp-content/uploads/2018/06/jazzholiday-1.jpg
END:VEVENT
BEGIN:VEVENT
DTSTART;TZID=America/New_York:20181124T170000
DTEND;TZID=America/New_York:20181124T233000
DTSTAMP:20260422T113341
CREATED:20181009T124348Z
LAST-MODIFIED:20181009T124348Z
UID:848-1543078800-1543102200@speakofthedevillorain.com
SUMMARY:6th Annual Holiday NOG & GLOGG
DESCRIPTION:Kick of the holiday season in the same old style you’ve been for the past 6 years – with the Speak of the Devil Nog & Glogg!   Our house egg nog and favorite glogg is joined once again by Angie’s AMAZING coquito!
URL:https://speakofthedevillorain.com/event/6th-annual-holiday-nog-glogg/
LOCATION:Speak of the Devil\, 201 W 5th St\, Lorain\, OH\, 44052\, United States
ATTACH;FMTTYPE=image/jpeg:https://speakofthedevillorain.com/wp-content/uploads/2018/10/NogGlogg18.jpg
END:VEVENT
BEGIN:VEVENT
DTSTART;TZID=America/New_York:20181115T170000
DTEND;TZID=America/New_York:20181115T230000
DTSTAMP:20260422T113341
CREATED:20181027T133359Z
LAST-MODIFIED:20181027T133359Z
UID:861-1542301200-1542322800@speakofthedevillorain.com
SUMMARY:Girls Rule! This is how WE do Ladies Night
DESCRIPTION:This is how WE do Ladies Night – so mark it down ladies (yeah\, you guys are welcome too)!! That’s right\, our girls are badass and they are taking OVER Speak of the Devil! Angie and Page will be crafting a small special drinks menu and tending bar (yes\, Page will be back behind the bar where she started!!!) Stephanee takes charge of the floor! And\, well\, um\, I guess Stropko in a dress or nice pants suit in the kitchen!
URL:https://speakofthedevillorain.com/event/girls-rule-this-is-how-we-do-ladies-night/
LOCATION:Speak of the Devil\, 201 W 5th St\, Lorain\, OH\, 44052\, United States
ATTACH;FMTTYPE=image/jpeg:https://speakofthedevillorain.com/wp-content/uploads/2018/10/Girls.jpg
END:VEVENT
END:VCALENDAR