BEGIN:VCALENDAR
VERSION:2.0
PRODID:-// - ECPv6.15.20//NONSGML v1.0//EN
CALSCALE:GREGORIAN
METHOD:PUBLISH
X-ORIGINAL-URL:https://speakofthedevillorain.com
X-WR-CALDESC:Events for 
REFRESH-INTERVAL;VALUE=DURATION:PT1H
X-Robots-Tag:noindex
X-PUBLISHED-TTL:PT1H
BEGIN:VTIMEZONE
TZID:America/New_York
BEGIN:DAYLIGHT
TZOFFSETFROM:-0500
TZOFFSETTO:-0400
TZNAME:EDT
DTSTART:20170312T070000
END:DAYLIGHT
BEGIN:STANDARD
TZOFFSETFROM:-0400
TZOFFSETTO:-0500
TZNAME:EST
DTSTART:20171105T060000
END:STANDARD
BEGIN:DAYLIGHT
TZOFFSETFROM:-0500
TZOFFSETTO:-0400
TZNAME:EDT
DTSTART:20180311T070000
END:DAYLIGHT
BEGIN:STANDARD
TZOFFSETFROM:-0400
TZOFFSETTO:-0500
TZNAME:EST
DTSTART:20181104T060000
END:STANDARD
BEGIN:DAYLIGHT
TZOFFSETFROM:-0500
TZOFFSETTO:-0400
TZNAME:EDT
DTSTART:20190310T070000
END:DAYLIGHT
BEGIN:STANDARD
TZOFFSETFROM:-0400
TZOFFSETTO:-0500
TZNAME:EST
DTSTART:20191103T060000
END:STANDARD
END:VTIMEZONE
BEGIN:VEVENT
DTSTART;TZID=America/New_York:20180406T160000
DTEND;TZID=America/New_York:20180406T193000
DTSTAMP:20260424T221606
CREATED:20180327T115220Z
LAST-MODIFIED:20180327T131842Z
UID:580-1523030400-1523043000@speakofthedevillorain.com
SUMMARY:Indians Home Opener Listening Party
DESCRIPTION:Come cheer on the Tribe old school style – on the radio! –  as they open the 2018 home baseball season!
URL:https://speakofthedevillorain.com/event/indians-home-opener-listening-party/
LOCATION:Speak of the Devil\, 201 W 5th St\, Lorain\, OH\, 44052\, United States
ATTACH;FMTTYPE=image/jpeg:https://speakofthedevillorain.com/wp-content/uploads/2018/03/indianslogo.jpg
END:VEVENT
BEGIN:VEVENT
DTSTART;TZID=America/New_York:20180328T180000
DTEND;TZID=America/New_York:20180328T200000
DTSTAMP:20260424T221606
CREATED:20180327T120425Z
LAST-MODIFIED:20180327T120425Z
UID:591-1522260000-1522267200@speakofthedevillorain.com
SUMMARY:Climate & Cocktails: Wildlife in NEO
DESCRIPTION:Join the Ohio Environmental Council at Speak of the Devil for the next installment of Northeast Ohio’s best “Green” speaker series! This month we will be hearing from Amy LeMonds\, Director of Wildlife at the Lake Erie Nature and Science Center. Amy will be speaking about the LENSC rehabilitation center and human impact on wildlife in Northeast Ohio. \nDoors open at 6pm; buy a hand-crafted cocktail and mingle. The speech and Q&A are from 6:30-7:00pm\, and the night will wrap up with networking for the last hour. \nSpecial guests Robb and Stephanee Koscho will be on site to discuss and register folks for the 6th Annual Black River Clean Up in Lorain. \nBring a friend\, grab a drink\, and let’s talk climate!
URL:https://speakofthedevillorain.com/event/climate-cocktails-wildlife-in-neo/
LOCATION:OH
END:VEVENT
END:VCALENDAR