BEGIN:VCALENDAR
VERSION:2.0
PRODID:-// - ECPv6.15.20//NONSGML v1.0//EN
CALSCALE:GREGORIAN
METHOD:PUBLISH
X-ORIGINAL-URL:https://speakofthedevillorain.com
X-WR-CALDESC:Events for 
REFRESH-INTERVAL;VALUE=DURATION:PT1H
X-Robots-Tag:noindex
X-PUBLISHED-TTL:PT1H
BEGIN:VTIMEZONE
TZID:America/New_York
BEGIN:DAYLIGHT
TZOFFSETFROM:-0500
TZOFFSETTO:-0400
TZNAME:EDT
DTSTART:20170312T070000
END:DAYLIGHT
BEGIN:STANDARD
TZOFFSETFROM:-0400
TZOFFSETTO:-0500
TZNAME:EST
DTSTART:20171105T060000
END:STANDARD
BEGIN:DAYLIGHT
TZOFFSETFROM:-0500
TZOFFSETTO:-0400
TZNAME:EDT
DTSTART:20180311T070000
END:DAYLIGHT
BEGIN:STANDARD
TZOFFSETFROM:-0400
TZOFFSETTO:-0500
TZNAME:EST
DTSTART:20181104T060000
END:STANDARD
BEGIN:DAYLIGHT
TZOFFSETFROM:-0500
TZOFFSETTO:-0400
TZNAME:EDT
DTSTART:20190310T070000
END:DAYLIGHT
BEGIN:STANDARD
TZOFFSETFROM:-0400
TZOFFSETTO:-0500
TZNAME:EST
DTSTART:20191103T060000
END:STANDARD
END:VTIMEZONE
BEGIN:VEVENT
DTSTART;TZID=America/New_York:20180927T183000
DTEND;TZID=America/New_York:20180927T200000
DTSTAMP:20260422T142253
CREATED:20180913T164325Z
LAST-MODIFIED:20180913T164325Z
UID:817-1538073000-1538078400@speakofthedevillorain.com
SUMMARY:Trivia Night: What do YOU know?  Lorain Lighthouse Edition
DESCRIPTION:Trivia nights return! What do YOU know? Think you know the Lorain Lighthouse? PROVE it! Join us and the Lorain Lighthouse Foundation for another night of local trivia and history about our beloved lighthouse!
URL:https://speakofthedevillorain.com/event/trivia-night-what-do-you-know-lorain-lighthouse-edition/
LOCATION:Speak of the Devil\, 201 W 5th St\, Lorain\, OH\, 44052\, United States
ATTACH;FMTTYPE=image/jpeg:https://speakofthedevillorain.com/wp-content/uploads/2018/09/lighttriv.jpg
END:VEVENT
BEGIN:VEVENT
DTSTART;TZID=America/New_York:20180922T200000
DTEND;TZID=America/New_York:20180922T230000
DTSTAMP:20260422T142253
CREATED:20180722T143127Z
LAST-MODIFIED:20180722T143127Z
UID:776-1537646400-1537657200@speakofthedevillorain.com
SUMMARY:Harry Bacharach
DESCRIPTION:Join us as the man with the hat behind the keys – “the baby daddy of heavy easy-listening” – returns to Speak of the Devil!
URL:https://speakofthedevillorain.com/event/harry-bacharach/
LOCATION:Speak of the Devil\, 201 W 5th St\, Lorain\, OH\, 44052\, United States
ATTACH;FMTTYPE=image/jpeg:https://speakofthedevillorain.com/wp-content/uploads/2018/05/CainPark_07202010-13.jpg
END:VEVENT
BEGIN:VEVENT
DTSTART;TZID=America/New_York:20180915T200000
DTEND;TZID=America/New_York:20180915T230000
DTSTAMP:20260422T142253
CREATED:20180804T212646Z
LAST-MODIFIED:20180804T212646Z
UID:782-1537041600-1537052400@speakofthedevillorain.com
SUMMARY:SIMPLE: acoustic music live
DESCRIPTION:Always a good time\, join us as we welcome SIMPLE to SOTD for the first time!
URL:https://speakofthedevillorain.com/event/simple-acoustic-music-live/
LOCATION:Speak of the Devil\, 201 W 5th St\, Lorain\, OH\, 44052\, United States
ATTACH;FMTTYPE=image/jpeg:https://speakofthedevillorain.com/wp-content/uploads/2018/08/Simple.jpg
END:VEVENT
BEGIN:VEVENT
DTSTART;TZID=America/New_York:20180908T200000
DTEND;TZID=America/New_York:20180908T230000
DTSTAMP:20260422T142253
CREATED:20180531T124412Z
LAST-MODIFIED:20180531T124412Z
UID:747-1536436800-1536447600@speakofthedevillorain.com
SUMMARY:Shannon Eller Group LIVE!
DESCRIPTION:Join us as we welcome Shanon Eller and her trio back to Lorain!  Jazz and jazz singing at its finest! A not to be missed night at Speak of the Devil!
URL:https://speakofthedevillorain.com/event/shannon-eller-group-live/
LOCATION:Speak of the Devil\, 201 W 5th St\, Lorain\, OH\, 44052\, United States
ATTACH;FMTTYPE=image/png:https://speakofthedevillorain.com/wp-content/uploads/2018/05/Screenshot_2014-12-09-21-14-39-1.png
END:VEVENT
BEGIN:VEVENT
DTSTART;TZID=America/New_York:20180907T170000
DTEND;TZID=America/New_York:20180907T233000
DTSTAMP:20260422T142253
CREATED:20180805T145656Z
LAST-MODIFIED:20180805T145656Z
UID:786-1536339600-1536363000@speakofthedevillorain.com
SUMMARY:End of Summer Party featuring the music of the Beach Boys
DESCRIPTION:Shake your post-Labor Day blues with some tasty end of summer cocktails and a full on Beach Boys soundtrack!
URL:https://speakofthedevillorain.com/event/end-of-summer-party-featuring-the-music-of-the-beach-boys/
LOCATION:Speak of the Devil\, 201 W 5th St\, Lorain\, OH\, 44052\, United States
ATTACH;FMTTYPE=image/jpeg:https://speakofthedevillorain.com/wp-content/uploads/2018/08/s-l1000.jpg
END:VEVENT
BEGIN:VEVENT
DTSTART;TZID=America/New_York:20180906T170000
DTEND;TZID=America/New_York:20180906T200000
DTSTAMP:20260422T142253
CREATED:20180902T150134Z
LAST-MODIFIED:20180902T150928Z
UID:804-1536253200-1536264000@speakofthedevillorain.com
SUMMARY:Welcome to the DownLo: a downtown Lorain business Meet & Mingle
DESCRIPTION:Stop in at Speak of the Devil for a DownLo Meet & Mingle and get to know what’s happening in downtown Lorain and who is making it happen!
URL:https://speakofthedevillorain.com/event/welcome-to-the-downlo-a-downtown-lorain-business-meet-mingle/
LOCATION:Speak of the Devil\, 201 W 5th St\, Lorain\, OH\, 44052\, United States
ATTACH;FMTTYPE=image/jpeg:https://speakofthedevillorain.com/wp-content/uploads/2018/09/40143588_2232626256766917_556620438642360320_n.jpg
END:VEVENT
BEGIN:VEVENT
DTSTART;TZID=America/New_York:20180829T183000
DTEND;TZID=America/New_York:20180829T193000
DTSTAMP:20260422T142253
CREATED:20180501T113739Z
LAST-MODIFIED:20180508T175437Z
UID:712-1535567400-1535571000@speakofthedevillorain.com
SUMMARY:What Do You Know? Trivia Night with the Lorain Historical Society
DESCRIPTION:Think you know a lot about Lorain? Prove it!
URL:https://speakofthedevillorain.com/event/what-do-you-know-trivia-night-with-the-lorain-historical-society-3/
LOCATION:Speak of the Devil\, 201 W 5th St\, Lorain\, OH\, 44052\, United States
END:VEVENT
BEGIN:VEVENT
DTSTART;TZID=America/New_York:20180823T190000
DTEND;TZID=America/New_York:20180823T210000
DTSTAMP:20260422T142253
CREATED:20180501T114709Z
LAST-MODIFIED:20180501T114709Z
UID:714-1535050800-1535058000@speakofthedevillorain.com
SUMMARY:Old Fashioned Comedy Night
DESCRIPTION:Join us for our second night of serious laughs!  Lorain funnyman David Morales brings live comedy back to the SOTD stage!
URL:https://speakofthedevillorain.com/event/old-fashioned-comedy-night/
LOCATION:Speak of the Devil\, 201 W 5th St\, Lorain\, OH\, 44052\, United States
ATTACH;FMTTYPE=image/jpeg:https://speakofthedevillorain.com/wp-content/uploads/2018/05/OldFashioned2.jpg
END:VEVENT
BEGIN:VEVENT
DTSTART;TZID=America/New_York:20180818T180000
DTEND;TZID=America/New_York:20180818T233000
DTSTAMP:20260422T142253
CREATED:20180629T141303Z
LAST-MODIFIED:20180629T141617Z
UID:763-1534615200-1534635000@speakofthedevillorain.com
SUMMARY:The Real Nitty Gritty: DJ's Thomas Torment and Real Nitty Gritty Tonia Spinning 45's
DESCRIPTION:Greasy rock’n’roll! Gut-bucket blues! Searing surf! Scalding hot soul!  Don;t miss this loud and raucous night of real nitty gritty rock and soul!
URL:https://speakofthedevillorain.com/event/the-real-nitty-gritty-djs-thomas-torment-and-real-nitty-gritty-tonia-spinning-45s/
LOCATION:Speak of the Devil\, 201 W 5th St\, Lorain\, OH\, 44052\, United States
ATTACH;FMTTYPE=image/jpeg:https://speakofthedevillorain.com/wp-content/uploads/2018/06/RNG.jpg
END:VEVENT
BEGIN:VEVENT
DTSTART;TZID=America/New_York:20180811T200000
DTEND;TZID=America/New_York:20180811T230000
DTSTAMP:20260422T142253
CREATED:20180605T135055Z
LAST-MODIFIED:20180605T135705Z
UID:753-1534017600-1534028400@speakofthedevillorain.com
SUMMARY:Twenty One Five  - acoustic rock/alternative
DESCRIPTION:Acoustic rock and alternative duo Twenty One Five debuts on the SOTD stage!
URL:https://speakofthedevillorain.com/event/twenty-one-five-acoustic-rock-alternative/
LOCATION:Speak of the Devil\, 201 W 5th St\, Lorain\, OH\, 44052\, United States
END:VEVENT
BEGIN:VEVENT
DTSTART;TZID=America/New_York:20180808T200000
DTEND;TZID=America/New_York:20180808T230000
DTSTAMP:20260422T142253
CREATED:20180501T112408Z
LAST-MODIFIED:20180501T112408Z
UID:706-1533758400-1533769200@speakofthedevillorain.com
SUMMARY:This Is Your Brain On Music: EMO Night hosted by Super Dave Andrews
DESCRIPTION:All of the hits that the sad kids want to hear (and sing)!
URL:https://speakofthedevillorain.com/event/this-is-your-brain-on-music-emo-night-hosted-by-super-dave-andrews-3/
LOCATION:Speak of the Devil\, 201 W 5th St\, Lorain\, OH\, 44052\, United States
END:VEVENT
BEGIN:VEVENT
DTSTART;TZID=America/New_York:20180808T183000
DTEND;TZID=America/New_York:20180808T200000
DTSTAMP:20260422T142253
CREATED:20180411T115226Z
LAST-MODIFIED:20180411T120512Z
UID:692-1533753000-1533758400@speakofthedevillorain.com
SUMMARY:Books & Brews
DESCRIPTION:This months selection (Kurt approved!) The Devil in the White City: Murder\, Magic and Madness at the Fair That Changed America by Erik Larson. Join us in reading and discussing this modern classic!
URL:https://speakofthedevillorain.com/event/books-brews-3/
LOCATION:Speak of the Devil\, 201 W 5th St\, Lorain\, OH\, 44052\, United States
ATTACH;FMTTYPE=image/jpeg:https://speakofthedevillorain.com/wp-content/uploads/2018/04/Books.jpg
END:VEVENT
BEGIN:VEVENT
DTSTART;TZID=America/New_York:20180728T200000
DTEND;TZID=America/New_York:20180728T220000
DTSTAMP:20260422T142253
CREATED:20180501T115155Z
LAST-MODIFIED:20180501T115155Z
UID:717-1532808000-1532815200@speakofthedevillorain.com
SUMMARY:Anthony Scrofano
DESCRIPTION:Singer/songwriter Anthony Scrofano returns to the SOTD stage!
URL:https://speakofthedevillorain.com/event/anthony-scrofano/
LOCATION:Speak of the Devil\, 201 W 5th St\, Lorain\, OH\, 44052\, United States
ATTACH;FMTTYPE=image/jpeg:https://speakofthedevillorain.com/wp-content/uploads/2018/05/AS2.jpg
END:VEVENT
BEGIN:VEVENT
DTSTART;TZID=America/New_York:20180725T183000
DTEND;TZID=America/New_York:20180725T193000
DTSTAMP:20260422T142253
CREATED:20180501T113105Z
LAST-MODIFIED:20180508T175400Z
UID:710-1532543400-1532547000@speakofthedevillorain.com
SUMMARY:What Do You Know?  Trivia Night with the Lorain Historical Society
DESCRIPTION:Think you know a lot about Lorain? Prove it!
URL:https://speakofthedevillorain.com/event/what-do-you-know-trivia-night-with-the-lorain-historical-society-2/
LOCATION:Speak of the Devil\, 201 W 5th St\, Lorain\, OH\, 44052\, United States
END:VEVENT
BEGIN:VEVENT
DTSTART;TZID=America/New_York:20180718T180000
DTEND;TZID=America/New_York:20180718T200000
DTSTAMP:20260422T142253
CREATED:20180708T151254Z
LAST-MODIFIED:20180708T151254Z
UID:772-1531936800-1531944000@speakofthedevillorain.com
SUMMARY:Everything is coming up Rose' - a rose' wine tasting
DESCRIPTION:Join us as Nikki Dyke from Heidelberg Distributing takes us on a little tour of rose’ wines from France to California and places in between!
URL:https://speakofthedevillorain.com/event/everything-is-coming-up-rose-a-rose-wine-tasting/
LOCATION:Speak of the Devil\, 201 W 5th St\, Lorain\, OH\, 44052\, United States
ATTACH;FMTTYPE=image/jpeg:https://speakofthedevillorain.com/wp-content/uploads/2018/07/Rose-Wine-Glasses-Copy.jpg
END:VEVENT
BEGIN:VEVENT
DTSTART;TZID=America/New_York:20180718T140000
DTEND;TZID=America/New_York:20180718T160000
DTSTAMP:20260422T142253
CREATED:20180629T141529Z
LAST-MODIFIED:20180629T141529Z
UID:766-1531922400-1531929600@speakofthedevillorain.com
SUMMARY:Limestone Branch Distillery's Stephen Beam Talks Whiskey
DESCRIPTION:Please join us in welcoming Mr. Stephen Beam – 7th generation Beam family master distiller and founder of Limestone Branch Distillery – to Ohio! Stephen will be talking about the founding of his boutique distillery and there will be tasting of his Yellowstone bourbons and his Minor Case rye whiskey. Light hors d’oeuvres will be served.
URL:https://speakofthedevillorain.com/event/limestone-branch-distillerys-stephen-beam-talks-whiskey/
LOCATION:Speak of the Devil\, 201 W 5th St\, Lorain\, OH\, 44052\, United States
ATTACH;FMTTYPE=image/jpeg:https://speakofthedevillorain.com/wp-content/uploads/2018/06/limestone-branch-distillery-minor-case-straight-rye-whiskey-sherry-cask-finished-cover.jpg
END:VEVENT
BEGIN:VEVENT
DTSTART;TZID=America/New_York:20180711T200000
DTEND;TZID=America/New_York:20180711T230000
DTSTAMP:20260422T142253
CREATED:20180501T112229Z
LAST-MODIFIED:20180501T112229Z
UID:704-1531339200-1531350000@speakofthedevillorain.com
SUMMARY:This Is Your Brain On Music: EMO night hosted by Super Dave Andrews
DESCRIPTION:All of the hits that the sad kids want to hear (and sing)!
URL:https://speakofthedevillorain.com/event/this-is-your-brain-on-music-emo-night-hosted-by-super-dave-andrews-2/
LOCATION:Speak of the Devil\, 201 W 5th St\, Lorain\, OH\, 44052\, United States
END:VEVENT
BEGIN:VEVENT
DTSTART;TZID=America/New_York:20180711T183000
DTEND;TZID=America/New_York:20180711T200000
DTSTAMP:20260422T142253
CREATED:20180411T115046Z
LAST-MODIFIED:20180411T115046Z
UID:690-1531333800-1531339200@speakofthedevillorain.com
SUMMARY:Books & Brews
DESCRIPTION:This months selection for reading and discussion: Richard Adams’ Watership Down   Join us and the Lorain Public Library for Books & Brews!!!
URL:https://speakofthedevillorain.com/event/books-brews-2/
LOCATION:Speak of the Devil\, 201 W 5th St\, Lorain\, OH\, 44052\, United States
ATTACH;FMTTYPE=image/jpeg:https://speakofthedevillorain.com/wp-content/uploads/2018/04/Books.jpg
END:VEVENT
BEGIN:VEVENT
DTSTART;TZID=America/New_York:20180627T183000
DTEND;TZID=America/New_York:20180627T193000
DTSTAMP:20260422T142253
CREATED:20180501T112937Z
LAST-MODIFIED:20180508T201507Z
UID:708-1530124200-1530127800@speakofthedevillorain.com
SUMMARY:What Do You Know? Trivia Night with the Lorain Historical Society
DESCRIPTION:Think you know a lot about Lorain? Prove it!
URL:https://speakofthedevillorain.com/event/what-do-you-know-trivia-night-with-the-lorain-historical-society/
LOCATION:Speak of the Devil\, 201 W 5th St\, Lorain\, OH\, 44052\, United States
END:VEVENT
BEGIN:VEVENT
DTSTART;TZID=America/New_York:20180623T200000
DTEND;TZID=America/New_York:20180623T230000
DTSTAMP:20260422T142253
CREATED:20180531T123839Z
LAST-MODIFIED:20180531T123839Z
UID:744-1529784000-1529794800@speakofthedevillorain.com
SUMMARY:Harry Bacharach - The Baby Daddy of Heavy Easy Listening LIVE!
DESCRIPTION:Dubbed “CLEVELAND’S KING OF COOL”  by the Cleveland Plain Dealer\, Harry Bacharach takes to the Speak of the Devil stage to tickle the ivories and transport you to Lounge Lizard USA!\n \n 
URL:https://speakofthedevillorain.com/event/harry-bacharach-the-baby-daddy-of-heavy-easy-listening-live/
LOCATION:Speak of the Devil\, 201 W 5th St\, Lorain\, OH\, 44052\, United States
ATTACH;FMTTYPE=image/jpeg:https://speakofthedevillorain.com/wp-content/uploads/2018/05/CainPark_07202010-13.jpg
END:VEVENT
BEGIN:VEVENT
DTSTART;TZID=America/New_York:20180622T193000
DTEND;TZID=America/New_York:20180622T233000
DTSTAMP:20260422T142253
CREATED:20180611T132659Z
LAST-MODIFIED:20180611T132812Z
UID:756-1529695800-1529710200@speakofthedevillorain.com
SUMMARY:Pop Up Comedy: Jason Lawhead and Jimmy Schubert
DESCRIPTION:Joins us as national act Jimmy Schubert and hometown hero Jason Lawhead take to the SOTD stage for one very special night of comedy! TWO shows\, 7:30pm and 9:30 pm!!  With special guest host David Morales!
URL:https://speakofthedevillorain.com/event/pop-up-comedy-jason-lawhead-and-jimmy-schubert/
LOCATION:Speak of the Devil\, 201 W 5th St\, Lorain\, OH\, 44052\, United States
ATTACH;FMTTYPE=image/jpeg:https://speakofthedevillorain.com/wp-content/uploads/2018/06/jasonL.jpg
END:VEVENT
BEGIN:VEVENT
DTSTART;TZID=America/New_York:20180613T183000
DTEND;TZID=America/New_York:20180613T200000
DTSTAMP:20260422T142253
CREATED:20180411T114818Z
LAST-MODIFIED:20180411T114818Z
UID:687-1528914600-1528920000@speakofthedevillorain.com
SUMMARY:Books & Brews
DESCRIPTION:The first installment of Speak of the Devil and the Lorain Public Library’s book club!  Join in as we read and discuss (and have a drink) Clevelander Celeste Ng’s Little Fires Everywhere 
URL:https://speakofthedevillorain.com/event/books-brews/
LOCATION:Speak of the Devil\, 201 W 5th St\, Lorain\, OH\, 44052\, United States
ATTACH;FMTTYPE=image/jpeg:https://speakofthedevillorain.com/wp-content/uploads/2018/04/Books.jpg
END:VEVENT
BEGIN:VEVENT
DTSTART;TZID=America/New_York:20180606T200000
DTEND;TZID=America/New_York:20180606T230000
DTSTAMP:20260422T142253
CREATED:20180501T111949Z
LAST-MODIFIED:20180501T112247Z
UID:702-1528315200-1528326000@speakofthedevillorain.com
SUMMARY:This Is Your Brain on Music: EMO night hosted by Super Dave Andrews
DESCRIPTION:All of the hits that the sad kids want to hear (and sing out loud)!
URL:https://speakofthedevillorain.com/event/this-is-your-brain-on-music-emo-night-hosted-by-super-dave-andrews/
LOCATION:Speak of the Devil\, 201 W 5th St\, Lorain\, OH\, 44052\, United States
END:VEVENT
BEGIN:VEVENT
DTSTART;TZID=America/New_York:20180523T180000
DTEND;TZID=America/New_York:20180523T200000
DTSTAMP:20260422T142253
CREATED:20180501T111008Z
LAST-MODIFIED:20180501T111008Z
UID:698-1527098400-1527105600@speakofthedevillorain.com
SUMMARY:Climate & Cocktails
DESCRIPTION:Join us for the last installment of this popular spring speaking series!
URL:https://speakofthedevillorain.com/event/climate-cocktails/
LOCATION:Speak of the Devil\, 201 W 5th St\, Lorain\, OH\, 44052\, United States
END:VEVENT
BEGIN:VEVENT
DTSTART;TZID=America/New_York:20180519T200000
DTEND;TZID=America/New_York:20180519T233000
DTSTAMP:20260422T142253
CREATED:20180501T111708Z
LAST-MODIFIED:20180501T130013Z
UID:700-1526760000-1526772600@speakofthedevillorain.com
SUMMARY:I Am Tha DJ hosts: The Birth of Hip Hop: From Herc to Hard Knock Life
DESCRIPTION:Cool classics that created the artform we all know as hip-hop as spun by Desmond “I Am Tha DJ” Carter
URL:https://speakofthedevillorain.com/event/i-am-tha-dj-hosts-the-birth-of-hip-hop-from-herc-to-hard-knock-life/
LOCATION:OH
ATTACH;FMTTYPE=image/jpeg:https://speakofthedevillorain.com/wp-content/uploads/2018/05/Birth.jpg
END:VEVENT
BEGIN:VEVENT
DTSTART;TZID=America/New_York:20180519T120000
DTEND;TZID=America/New_York:20180519T200000
DTSTAMP:20260422T142253
CREATED:20180327T140232Z
LAST-MODIFIED:20180327T140232Z
UID:618-1526731200-1526760000@speakofthedevillorain.com
SUMMARY:Lorain Better Block Event
DESCRIPTION:Experience what a “better block” in downtown Lorain looks\, sounds\, smells\, tastes and feels like!  Come downtown for this very cool daylong experience. Stop in to Speak of the Devil to be a part of our “better block” experience!
URL:https://speakofthedevillorain.com/event/lorain-better-block-event/
LOCATION:Speak of the Devil\, 201 W 5th St\, Lorain\, OH\, 44052\, United States
ATTACH;FMTTYPE=image/jpeg:https://speakofthedevillorain.com/wp-content/uploads/2018/03/29244483_10215456569870437_4302784763543945216_n.jpg
END:VEVENT
BEGIN:VEVENT
DTSTART;TZID=America/New_York:20180502T170000
DTEND;TZID=America/New_York:20180502T230000
DTSTAMP:20260422T142253
CREATED:20180327T120605Z
LAST-MODIFIED:20180327T131150Z
UID:593-1525280400-1525302000@speakofthedevillorain.com
SUMMARY:LBM Bar Takeover
DESCRIPTION:LBM comes west to pillage\, plunder and takeover SOTD!\nLakewood’s amazing and oft-talked about friendly (?) neighborhood viking cocktail bar rig their knarr and set sail for Lorain to plunder and pillage and conquer Speak of the Devil’s bar for the evening!
URL:https://speakofthedevillorain.com/event/lbm-bar-takeover/
LOCATION:Speak of the Devil\, 201 W 5th St\, Lorain\, OH\, 44052\, United States
ATTACH;FMTTYPE=image/jpeg:https://speakofthedevillorain.com/wp-content/uploads/2018/03/invade.jpg
END:VEVENT
BEGIN:VEVENT
DTSTART;TZID=America/New_York:20180428T200000
DTEND;TZID=America/New_York:20180428T223000
DTSTAMP:20260422T142253
CREATED:20180327T131015Z
LAST-MODIFIED:20180327T135909Z
UID:606-1524945600-1524954600@speakofthedevillorain.com
SUMMARY:LIVE MUSIC: Eric Everett Jazz featuring vocalist Emily Jane Zart
DESCRIPTION:Join us for an evening of live jazz music with Eric Everett Jazz featuring the vocal styling of Miss Emily Jane Zart.
URL:https://speakofthedevillorain.com/event/live-music-eric-everett-jazz-featuring-vocalist-emily-jane-zart/
LOCATION:Speak of the Devil\, 201 W 5th St\, Lorain\, OH\, 44052\, United States
ATTACH;FMTTYPE=image/jpeg:https://speakofthedevillorain.com/wp-content/uploads/2018/03/EEJAZZ.jpg
END:VEVENT
BEGIN:VEVENT
DTSTART;TZID=America/New_York:20180421T170000
DTEND;TZID=America/New_York:20180421T233000
DTSTAMP:20260422T142253
CREATED:20180327T120210Z
LAST-MODIFIED:20180327T141040Z
UID:588-1524330000-1524353400@speakofthedevillorain.com
SUMMARY:The music of Prince
DESCRIPTION:Two years to the day of his untimely and tragic death\, we remember the brilliant musical life of Prince
URL:https://speakofthedevillorain.com/event/remembering-the-music-of-prince/
LOCATION:Speak of the Devil\, 201 W 5th St\, Lorain\, OH\, 44052\, United States
ATTACH;FMTTYPE=image/jpeg:https://speakofthedevillorain.com/wp-content/uploads/2018/03/princeart2.jpg
END:VEVENT
BEGIN:VEVENT
DTSTART;TZID=America/New_York:20180419T180000
DTEND;TZID=America/New_York:20180419T200000
DTSTAMP:20260422T142253
CREATED:20180329T142632Z
LAST-MODIFIED:20180329T142632Z
UID:684-1524160800-1524168000@speakofthedevillorain.com
SUMMARY:Climate&Cocktails
DESCRIPTION:Join us at 6pm for this amazing ongoing series and discussions about the environment we live in!
URL:https://speakofthedevillorain.com/event/climatecocktails/
LOCATION:Speak of the Devil\, 201 W 5th St\, Lorain\, OH\, 44052\, United States
END:VEVENT
END:VCALENDAR