BEGIN:VCALENDAR
VERSION:2.0
PRODID:-// - ECPv6.15.20//NONSGML v1.0//EN
CALSCALE:GREGORIAN
METHOD:PUBLISH
X-ORIGINAL-URL:https://speakofthedevillorain.com
X-WR-CALDESC:Events for 
REFRESH-INTERVAL;VALUE=DURATION:PT1H
X-Robots-Tag:noindex
X-PUBLISHED-TTL:PT1H
BEGIN:VTIMEZONE
TZID:America/New_York
BEGIN:DAYLIGHT
TZOFFSETFROM:-0500
TZOFFSETTO:-0400
TZNAME:EDT
DTSTART:20240310T070000
END:DAYLIGHT
BEGIN:STANDARD
TZOFFSETFROM:-0400
TZOFFSETTO:-0500
TZNAME:EST
DTSTART:20241103T060000
END:STANDARD
BEGIN:DAYLIGHT
TZOFFSETFROM:-0500
TZOFFSETTO:-0400
TZNAME:EDT
DTSTART:20250309T070000
END:DAYLIGHT
BEGIN:STANDARD
TZOFFSETFROM:-0400
TZOFFSETTO:-0500
TZNAME:EST
DTSTART:20251102T060000
END:STANDARD
BEGIN:DAYLIGHT
TZOFFSETFROM:-0500
TZOFFSETTO:-0400
TZNAME:EDT
DTSTART:20260308T070000
END:DAYLIGHT
BEGIN:STANDARD
TZOFFSETFROM:-0400
TZOFFSETTO:-0500
TZNAME:EST
DTSTART:20261101T060000
END:STANDARD
END:VTIMEZONE
BEGIN:VEVENT
DTSTART;TZID=America/New_York:20250612T183000
DTEND;TZID=America/New_York:20250612T200000
DTSTAMP:20260420T213207
CREATED:20250405T210011Z
LAST-MODIFIED:20250405T210011Z
UID:2707-1749753000-1749758400@speakofthedevillorain.com
SUMMARY:BOOKS & BREWS
DESCRIPTION:Hang out with us and the Lorain Public Library for a discussion about “Do I Know You? A Faceblind Reporter’s Journey Into The Science of Sight\, Memory and Imagination” by Sadie Dingfelder
URL:https://speakofthedevillorain.com/event/books-brews-22/
LOCATION:Speak of the Devil\, 201 W 5th St\, Lorain\, OH\, 44052\, United States
ATTACH;FMTTYPE=image/jpeg:https://speakofthedevillorain.com/wp-content/uploads/2024/03/429780136_912590617538637_6219091756627812402_n.jpg
END:VEVENT
BEGIN:VEVENT
DTSTART;TZID=America/New_York:20250610T170000
DTEND;TZID=America/New_York:20250610T220000
DTSTAMP:20260420T213207
CREATED:20250405T205910Z
LAST-MODIFIED:20250405T205910Z
UID:2705-1749574800-1749592800@speakofthedevillorain.com
SUMMARY:TURNTABLE TUESDAY
DESCRIPTION:BYOV (bring your own vinyl) and we will play the side of your choosing! Or\, cruise our carefully curated crates and pick something to spin. Also\, Ship to Shore has a pop up shop under the chandelier – buy vinyl from them and head straight to the front of the turntable queue!
URL:https://speakofthedevillorain.com/event/turntable-tuesday-17/
LOCATION:Speak of the Devil\, 201 W 5th St\, Lorain\, OH\, 44052\, United States
ATTACH;FMTTYPE=image/jpeg:https://speakofthedevillorain.com/wp-content/uploads/2025/02/MARATHON-BANNER.jpg
END:VEVENT
BEGIN:VEVENT
DTSTART;TZID=America/New_York:20250604T050000
DTEND;TZID=America/New_York:20250604T220000
DTSTAMP:20260420T213207
CREATED:20250405T205713Z
LAST-MODIFIED:20250405T205713Z
UID:2701-1749013200-1749074400@speakofthedevillorain.com
SUMMARY:6/4/74 NIGHT
DESCRIPTION:It’s 6/4 – let’s celebrate! $10 6/4/74’s all night long!
URL:https://speakofthedevillorain.com/event/6-4-74-night/
LOCATION:Speak of the Devil\, 201 W 5th St\, Lorain\, OH\, 44052\, United States
ATTACH;FMTTYPE=image/jpeg:https://speakofthedevillorain.com/wp-content/uploads/2025/04/bible-study.jpg
END:VEVENT
BEGIN:VEVENT
DTSTART;TZID=America/New_York:20250601T130000
DTEND;TZID=America/New_York:20250601T180000
DTSTAMP:20260420T213207
CREATED:20250405T205612Z
LAST-MODIFIED:20250405T205612Z
UID:2699-1748782800-1748800800@speakofthedevillorain.com
SUMMARY:BLACK VULTURE RAMEN BRUNCH
DESCRIPTION:Another amazing Black Vulture Ramen brunch!
URL:https://speakofthedevillorain.com/event/black-vulture-ramen-brunch-9/
LOCATION:Speak of the Devil\, 201 W 5th St\, Lorain\, OH\, 44052\, United States
ATTACH;FMTTYPE=image/jpeg:https://speakofthedevillorain.com/wp-content/uploads/2024/10/Ramen2.jpg
END:VEVENT
BEGIN:VEVENT
DTSTART;TZID=America/New_York:20250522T170000
DTEND;TZID=America/New_York:20250522T220000
DTSTAMP:20260420T213207
CREATED:20250405T205343Z
LAST-MODIFIED:20250405T205343Z
UID:2694-1747933200-1747951200@speakofthedevillorain.com
SUMMARY:SUMMER SMOKE
DESCRIPTION:Our popular patio Summer Smoke series returns! Hand rolled cigars and premium spirits in a can’t be beat urban patio setting!
URL:https://speakofthedevillorain.com/event/summer-smoke-6/
LOCATION:Speak of the Devil\, 201 W 5th St\, Lorain\, OH\, 44052\, United States
ATTACH;FMTTYPE=image/jpeg:https://speakofthedevillorain.com/wp-content/uploads/2025/04/Cigar.jpg
END:VEVENT
BEGIN:VEVENT
DTSTART;TZID=America/New_York:20250521T170000
DTEND;TZID=America/New_York:20250521T220000
DTSTAMP:20260420T213207
CREATED:20250405T205234Z
LAST-MODIFIED:20250405T205234Z
UID:2691-1747846800-1747864800@speakofthedevillorain.com
SUMMARY:WINES OF SUMMER
DESCRIPTION:Join us in hanging out with Mary Ellen from Vintage Wine as we cruise through some wine’s of the summer!
URL:https://speakofthedevillorain.com/event/wines-of-summer-3/
LOCATION:Speak of the Devil\, 201 W 5th St\, Lorain\, OH\, 44052\, United States
ATTACH;FMTTYPE=image/jpeg:https://speakofthedevillorain.com/wp-content/uploads/2025/04/wines.jpg
END:VEVENT
BEGIN:VEVENT
DTSTART;TZID=America/New_York:20250514T170000
DTEND;TZID=America/New_York:20250514T220000
DTSTAMP:20260420T213207
CREATED:20250405T205140Z
LAST-MODIFIED:20250405T205140Z
UID:2687-1747242000-1747260000@speakofthedevillorain.com
SUMMARY:OHIO DISTILLER'S DAY: MINGLEWOOD DISTILLERY
DESCRIPTION:Join us and Main Street Lorain in welcoming Minglewood Distilling to Lorain! Taste their spirits and enjoy cocktails made with their products!
URL:https://speakofthedevillorain.com/event/ohio-distillers-day-minglewood-distillery/
LOCATION:Speak of the Devil\, 201 W 5th St\, Lorain\, OH\, 44052\, United States
ATTACH;FMTTYPE=image/jpeg:https://speakofthedevillorain.com/wp-content/uploads/2025/04/ChristmasChristmas-retailevent.jpg
END:VEVENT
BEGIN:VEVENT
DTSTART;TZID=America/New_York:20250513T170000
DTEND;TZID=America/New_York:20250513T220000
DTSTAMP:20260420T213207
CREATED:20250405T205021Z
LAST-MODIFIED:20250405T205021Z
UID:2685-1747155600-1747173600@speakofthedevillorain.com
SUMMARY:TURNTABLE TUESDAY
DESCRIPTION:Vinyl night at Speak! Bring your own vinyl or choose from our carefully curated crates! Spin a side and shop Ship to Shore’s mini pop up under the chandelier!
URL:https://speakofthedevillorain.com/event/turntable-tuesday-16/
LOCATION:Speak of the Devil\, 201 W 5th St\, Lorain\, OH\, 44052\, United States
ATTACH;FMTTYPE=image/jpeg:https://speakofthedevillorain.com/wp-content/uploads/2025/02/MARATHON-BANNER.jpg
END:VEVENT
BEGIN:VEVENT
DTSTART;TZID=America/New_York:20250510T193000
DTEND;TZID=America/New_York:20250510T223000
DTSTAMP:20260420T213207
CREATED:20250405T204929Z
LAST-MODIFIED:20250405T204929Z
UID:2682-1746905400-1746916200@speakofthedevillorain.com
SUMMARY:JAZZ CABBAGE
DESCRIPTION:Rockabilly\, roots rock stomp with a jazz twist from the cats who bring us The Dirty Little Blues Band!
URL:https://speakofthedevillorain.com/event/jazz-cabbage-2/
LOCATION:Speak of the Devil\, 201 W 5th St\, Lorain\, OH\, 44052\, United States
ATTACH;FMTTYPE=image/jpeg:https://speakofthedevillorain.com/wp-content/uploads/2025/04/CHURCH-LIVE-ONLINE-SERMON-TEMPLATE.jpg
END:VEVENT
BEGIN:VEVENT
DTSTART;TZID=America/New_York:20250508T190000
DTEND;TZID=America/New_York:20250508T220000
DTSTAMP:20260420T213207
CREATED:20250405T204753Z
LAST-MODIFIED:20250405T204753Z
UID:2680-1746730800-1746741600@speakofthedevillorain.com
SUMMARY:KARAOKE NIGHT - SHOW TUNES!
DESCRIPTION:Karaoke Khrist brings Broadway to Broadway!
URL:https://speakofthedevillorain.com/event/karaoke-night-show-tunes/
LOCATION:Speak of the Devil\, 201 W 5th St\, Lorain\, OH\, 44052\, United States
ATTACH;FMTTYPE=image/jpeg:https://speakofthedevillorain.com/wp-content/uploads/2025/02/KARAOKE-KHRISTMAS.jpg
END:VEVENT
BEGIN:VEVENT
DTSTART;TZID=America/New_York:20250508T183000
DTEND;TZID=America/New_York:20250508T200000
DTSTAMP:20260420T213207
CREATED:20250405T204650Z
LAST-MODIFIED:20250405T204650Z
UID:2678-1746729000-1746734400@speakofthedevillorain.com
SUMMARY:BOOKS & BREWS
DESCRIPTION:Join us and the Lorain Public Library as we discuss “Brooklyn” by Colm Toibin
URL:https://speakofthedevillorain.com/event/books-brews-21/
LOCATION:Speak of the Devil\, 201 W 5th St\, Lorain\, OH\, 44052\, United States
ATTACH;FMTTYPE=image/jpeg:https://speakofthedevillorain.com/wp-content/uploads/2024/03/429780136_912590617538637_6219091756627812402_n.jpg
END:VEVENT
BEGIN:VEVENT
DTSTART;TZID=America/New_York:20250506T190000
DTEND;TZID=America/New_York:20250506T210000
DTSTAMP:20260420T213207
CREATED:20250405T204541Z
LAST-MODIFIED:20250405T204541Z
UID:2675-1746558000-1746565200@speakofthedevillorain.com
SUMMARY:TEQUILA TASTING: JOSE CUERVO'S RESERVA DE LA FAMILIA EXTRA ANEJO & ANEJO CRISTALINO
DESCRIPTION:Join us and our Jose Cuervo representative Dan for a night of high end tequila sipping! Jose Cuervo’s De La Familia line is world renowned and the world’s first extra anejo tequila is a part of it! We will be enjoying a cocktail with Jose Cuervo Tradicional\, then sipping three tasting bottles! Our dear friends at Poppy will be creating bar snacks for the event. $100/per – limited seating! Tell our staff or inbox us for your reservation here\, on instagram or email us at speakofthedevilcocktails@gmail.com.
URL:https://speakofthedevillorain.com/event/tequila-tasting-jose-cuervos-reserva-de-la-familia-extra-anejo-anejo-cristalino/
LOCATION:Speak of the Devil\, 201 W 5th St\, Lorain\, OH\, 44052\, United States
ATTACH;FMTTYPE=image/jpeg:https://speakofthedevillorain.com/wp-content/uploads/2025/04/Merry-Christmas.jpg
END:VEVENT
BEGIN:VEVENT
DTSTART;TZID=America/New_York:20250504T130000
DTEND;TZID=America/New_York:20250504T180000
DTSTAMP:20260420T213207
CREATED:20250405T204328Z
LAST-MODIFIED:20250405T204328Z
UID:2673-1746363600-1746381600@speakofthedevillorain.com
SUMMARY:BLACK VULTURE RAMEN BRUNCH
DESCRIPTION:Another amazing Black Vulture Ramen brunch!
URL:https://speakofthedevillorain.com/event/black-vulture-ramen-brunch-8/
LOCATION:Speak of the Devil\, 201 W 5th St\, Lorain\, OH\, 44052\, United States
ATTACH;FMTTYPE=image/jpeg:https://speakofthedevillorain.com/wp-content/uploads/2024/09/Ramen1.jpg
END:VEVENT
BEGIN:VEVENT
DTSTART;TZID=America/New_York:20250503T200000
DTEND;TZID=America/New_York:20250503T220000
DTSTAMP:20260420T213207
CREATED:20250405T204236Z
LAST-MODIFIED:20250405T204236Z
UID:2670-1746302400-1746309600@speakofthedevillorain.com
SUMMARY:QUEEN BEE CABARET: A FAR OUT NIGHT OF BURLESQUE
DESCRIPTION:Help us once again welcome our dear friends from Queen Bee Cabaret for a night of amazing and unforgettable burlesque!
URL:https://speakofthedevillorain.com/event/queen-bee-cabaret-a-far-out-night-of-burlesque/
LOCATION:Speak of the Devil\, 201 W 5th St\, Lorain\, OH\, 44052\, United States
ATTACH;FMTTYPE=image/jpeg:https://speakofthedevillorain.com/wp-content/uploads/2025/04/Valentines-Day-Party-Facebook-Shared-Image.jpg
END:VEVENT
BEGIN:VEVENT
DTSTART;TZID=America/New_York:20250430T170000
DTEND;TZID=America/New_York:20250430T220000
DTSTAMP:20260420T213207
CREATED:20250405T204129Z
LAST-MODIFIED:20250405T204129Z
UID:2667-1746032400-1746050400@speakofthedevillorain.com
SUMMARY:JACK'S WHISKEY WEDNESDAY: FINISHED WHISKEY'S
DESCRIPTION:Flights of finished whiskey’s and tasting pours as Jack talks finished whiskey with you!
URL:https://speakofthedevillorain.com/event/jacks-whiskey-wednesday-finished-whiskeys/
LOCATION:Speak of the Devil\, 201 W 5th St\, Lorain\, OH\, 44052\, United States
ATTACH;FMTTYPE=image/jpeg:https://speakofthedevillorain.com/wp-content/uploads/2025/04/Thanksgiving-Church-Service.jpg
END:VEVENT
BEGIN:VEVENT
DTSTART;TZID=America/New_York:20250426T193000
DTEND;TZID=America/New_York:20250426T223000
DTSTAMP:20260420T213207
CREATED:20250303T212106Z
LAST-MODIFIED:20250303T212106Z
UID:2654-1745695800-1745706600@speakofthedevillorain.com
SUMMARY:DJ TEDDY EISENBERG
DESCRIPTION:Another groove filled and eclectic night of dope drops!
URL:https://speakofthedevillorain.com/event/dj-teddy-eisenberg-4/
LOCATION:Speak of the Devil\, 201 W 5th St\, Lorain\, OH\, 44052\, United States
ATTACH;FMTTYPE=image/jpeg:https://speakofthedevillorain.com/wp-content/uploads/2025/03/DJ-TEDDY.jpg
END:VEVENT
BEGIN:VEVENT
DTSTART;TZID=America/New_York:20250425T073000
DTEND;TZID=America/New_York:20250425T230000
DTSTAMP:20260420T213207
CREATED:20250303T212004Z
LAST-MODIFIED:20250303T212004Z
UID:2651-1745566200-1745622000@speakofthedevillorain.com
SUMMARY:DISCO DOESN'T SUCK 2
DESCRIPTION:The disco ball will be spinning above the dance floor for Disco Doesn’t Suck 2. A night of 70’s disco vibes\, dancing and drinks!
URL:https://speakofthedevillorain.com/event/disco-doesnt-suck-2/
LOCATION:Speak of the Devil\, 201 W 5th St\, Lorain\, OH\, 44052\, United States
ATTACH;FMTTYPE=image/jpeg:https://speakofthedevillorain.com/wp-content/uploads/2025/03/Virtual-Trivia-Night-Facebook-Post-Template.jpg
END:VEVENT
BEGIN:VEVENT
DTSTART;TZID=America/New_York:20250424T200000
DTEND;TZID=America/New_York:20250424T220000
DTSTAMP:20260420T213207
CREATED:20250303T211806Z
LAST-MODIFIED:20250303T211806Z
UID:2648-1745524800-1745532000@speakofthedevillorain.com
SUMMARY:MOVIE NIGHTS OUT IN THE PATIO
DESCRIPTION:Another Lorain Cinematheque/Mark Fletcher Movie night!
URL:https://speakofthedevillorain.com/event/movie-nights-out-in-the-patio/
LOCATION:Speak of the Devil\, 201 W 5th St\, Lorain\, OH\, 44052\, United States
ATTACH;FMTTYPE=image/jpeg:https://speakofthedevillorain.com/wp-content/uploads/2025/03/Comedy-Comedian-Stand-up-Show-Night-Club-Ad.jpg
END:VEVENT
BEGIN:VEVENT
DTSTART;TZID=America/New_York:20250419T193000
DTEND;TZID=America/New_York:20250419T223000
DTSTAMP:20260420T213207
CREATED:20250303T211651Z
LAST-MODIFIED:20250303T211651Z
UID:2645-1745091000-1745101800@speakofthedevillorain.com
SUMMARY:AANYA SENGUPTA JAZZ DUO
DESCRIPTION:Please join us in welcoming the very talented jazz singer Aanya Sengupta to the SOTD stage for the very first time!
URL:https://speakofthedevillorain.com/event/aanya-sengupta-jazz-duo/
LOCATION:Speak of the Devil\, 201 W 5th St\, Lorain\, OH\, 44052\, United States
ATTACH;FMTTYPE=image/jpeg:https://speakofthedevillorain.com/wp-content/uploads/2025/03/Inspirational-flyer.jpg
END:VEVENT
BEGIN:VEVENT
DTSTART;TZID=America/New_York:20250418T170000
DTEND;TZID=America/New_York:20250418T235900
DTSTAMP:20260420T213207
CREATED:20250405T203953Z
LAST-MODIFIED:20250405T203953Z
UID:2664-1744995600-1745020740@speakofthedevillorain.com
SUMMARY:ABRAHAM OVERHOLT BIRTHDAY PARTY
DESCRIPTION:Happy Birthday Abe! A night celebrating the man and the rye whiskey he created!
URL:https://speakofthedevillorain.com/event/abraham-overholt-birthday-party-3/
LOCATION:Speak of the Devil\, 201 W 5th St\, Lorain\, OH\, 44052\, United States
ATTACH;FMTTYPE=image/jpeg:https://speakofthedevillorain.com/wp-content/uploads/2025/04/New-Single-NEW-ALBUM-RELEASE-PRE-ORDER-NOW.jpg
END:VEVENT
BEGIN:VEVENT
DTSTART;TZID=America/New_York:20250417T183000
DTEND;TZID=America/New_York:20250417T200000
DTSTAMP:20260420T213207
CREATED:20250303T211424Z
LAST-MODIFIED:20250303T212241Z
UID:2643-1744914600-1744920000@speakofthedevillorain.com
SUMMARY:BOOKS & BREWS
DESCRIPTION:In conjunction with the Lorain Public Library\, welcome to Books & Brews! This month’s selection: Revenge of the Tipping Point: Overstories\, Superspreaders and the Rise of Social Engineering” by Malcolm Gladwell
URL:https://speakofthedevillorain.com/event/books-brews-20/
LOCATION:Speak of the Devil\, 201 W 5th St\, Lorain\, OH\, 44052\, United States
ATTACH;FMTTYPE=image/jpeg:https://speakofthedevillorain.com/wp-content/uploads/2024/03/429780136_912590617538637_6219091756627812402_n.jpg
END:VEVENT
BEGIN:VEVENT
DTSTART;TZID=America/New_York:20250416T190000
DTEND;TZID=America/New_York:20250416T210000
DTSTAMP:20260420T213207
CREATED:20250303T211222Z
LAST-MODIFIED:20250303T211259Z
UID:2640-1744830000-1744837200@speakofthedevillorain.com
SUMMARY:PAINT & SIP PARTY
DESCRIPTION:You are invited to a paint party! For a night of fun\, laughter and memories while creating artwork with family & friends! Our friend David Wrice will supply the materials with easy to follow lessons. $25 per person. T\nThe party is approximately 2 hours long.Contact David for your seat today at: cell: 440-787-4773 email: wricesplanted@gmail.com
URL:https://speakofthedevillorain.com/event/paint-sip-party/
LOCATION:Speak of the Devil\, 201 W 5th St\, Lorain\, OH\, 44052\, United States
ATTACH;FMTTYPE=image/jpeg:https://speakofthedevillorain.com/wp-content/uploads/2025/03/MARATHON-BANNER.jpg
END:VEVENT
BEGIN:VEVENT
DTSTART;TZID=America/New_York:20250415T170000
DTEND;TZID=America/New_York:20250415T220000
DTSTAMP:20260420T213207
CREATED:20250303T211116Z
LAST-MODIFIED:20250303T211116Z
UID:2638-1744736400-1744754400@speakofthedevillorain.com
SUMMARY:TURNTABLE TUESDAY
DESCRIPTION:All vinyl night with our friends from Ship to Shore. Turntable on the stage\, you bring your own vinyl to play a side or choose from our carefully curated crates. Ship to Shore will also have a pop up shop under the chandelier – buy books and/or music
URL:https://speakofthedevillorain.com/event/turntable-tuesday-15/
LOCATION:Speak of the Devil\, 201 W 5th St\, Lorain\, OH\, 44052\, United States
ATTACH;FMTTYPE=image/jpeg:https://speakofthedevillorain.com/wp-content/uploads/2025/02/MARATHON-BANNER.jpg
END:VEVENT
BEGIN:VEVENT
DTSTART;TZID=America/New_York:20250412T193000
DTEND;TZID=America/New_York:20250412T223000
DTSTAMP:20260420T213207
CREATED:20250303T211014Z
LAST-MODIFIED:20250303T211014Z
UID:2635-1744486200-1744497000@speakofthedevillorain.com
SUMMARY:KRISTINE JACKSON
DESCRIPTION:The one and only Kristine Jackson returns!
URL:https://speakofthedevillorain.com/event/kristine-jackson-7/
LOCATION:Speak of the Devil\, 201 W 5th St\, Lorain\, OH\, 44052\, United States
ATTACH;FMTTYPE=image/jpeg:https://speakofthedevillorain.com/wp-content/uploads/2025/03/MUSIC-BANNER.jpg
END:VEVENT
BEGIN:VEVENT
DTSTART;TZID=America/New_York:20250406T130000
DTEND;TZID=America/New_York:20250406T180000
DTSTAMP:20260420T213207
CREATED:20250303T210851Z
LAST-MODIFIED:20250303T210851Z
UID:2633-1743944400-1743962400@speakofthedevillorain.com
SUMMARY:BLACK VULTURE RAMEN BRUNCH
DESCRIPTION:Another brunch with the best noods in town!
URL:https://speakofthedevillorain.com/event/black-vulture-ramen-brunch-6/
LOCATION:Speak of the Devil\, 201 W 5th St\, Lorain\, OH\, 44052\, United States
ATTACH;FMTTYPE=image/jpeg:https://speakofthedevillorain.com/wp-content/uploads/2024/10/Ramen2.jpg
END:VEVENT
BEGIN:VEVENT
DTSTART;TZID=America/New_York:20250329T193000
DTEND;TZID=America/New_York:20250329T223000
DTSTAMP:20260420T213207
CREATED:20241216T125111Z
LAST-MODIFIED:20241216T125111Z
UID:2562-1743276600-1743287400@speakofthedevillorain.com
SUMMARY:ANTHONY SCROFANO
DESCRIPTION:An evening with our very own Anthony Scrofano.
URL:https://speakofthedevillorain.com/event/anthony-scrofano-13/
LOCATION:Speak of the Devil\, 201 W 5th St\, Lorain\, OH\, 44052\, United States
ATTACH;FMTTYPE=image/jpeg:https://speakofthedevillorain.com/wp-content/uploads/2024/12/Dylan.jpg
END:VEVENT
BEGIN:VEVENT
DTSTART;TZID=America/New_York:20250327T190000
DTEND;TZID=America/New_York:20250327T220000
DTSTAMP:20260420T213207
CREATED:20250212T140202Z
LAST-MODIFIED:20250212T140202Z
UID:2628-1743102000-1743112800@speakofthedevillorain.com
SUMMARY:COCKTAIL KARAOKE NIGHT: EMO MUSIC
DESCRIPTION:araoke Khrist returns! It’s cocktail karaoke EMO style!
URL:https://speakofthedevillorain.com/event/cocktail-karaoke-night-emo-music/
LOCATION:Speak of the Devil\, 201 W 5th St\, Lorain\, OH\, 44052\, United States
ATTACH;FMTTYPE=image/jpeg:https://speakofthedevillorain.com/wp-content/uploads/2025/02/KARAOKE-KHRISTMAS.jpg
END:VEVENT
BEGIN:VEVENT
DTSTART;TZID=America/New_York:20250322T193000
DTEND;TZID=America/New_York:20250322T223000
DTSTAMP:20260420T213207
CREATED:20241216T124810Z
LAST-MODIFIED:20241216T124810Z
UID:2559-1742671800-1742682600@speakofthedevillorain.com
SUMMARY:AUSTIN 'WALKIN' CANE
DESCRIPTION:Cleveland’s own rocking blues roller returns to SOTD!
URL:https://speakofthedevillorain.com/event/austin-walkin-cane-11/
LOCATION:Speak of the Devil\, 201 W 5th St\, Lorain\, OH\, 44052\, United States
ATTACH;FMTTYPE=image/jpeg:https://speakofthedevillorain.com/wp-content/uploads/2024/12/Copy-of-Live-music.jpg
END:VEVENT
BEGIN:VEVENT
DTSTART;TZID=America/New_York:20250320T190000
DTEND;TZID=America/New_York:20250320T220000
DTSTAMP:20260420T213207
CREATED:20250212T140031Z
LAST-MODIFIED:20250212T140031Z
UID:2626-1742497200-1742508000@speakofthedevillorain.com
SUMMARY:CHRIS HATTON
DESCRIPTION:If it’s the third Thursday\, it’s Chris Hatton!
URL:https://speakofthedevillorain.com/event/chris-hatton-7/
LOCATION:Speak of the Devil\, 201 W 5th St\, Lorain\, OH\, 44052\, United States
ATTACH;FMTTYPE=image/jpeg:https://speakofthedevillorain.com/wp-content/uploads/2024/12/MUSIC-EVENT-BANNER.jpg
END:VEVENT
BEGIN:VEVENT
DTSTART;TZID=America/New_York:20250319T190000
DTEND;TZID=America/New_York:20250319T220000
DTSTAMP:20260420T213207
CREATED:20250212T135929Z
LAST-MODIFIED:20250212T135929Z
UID:2623-1742410800-1742421600@speakofthedevillorain.com
SUMMARY:DJ SAM SINISTER'S PUNK ROCK JUKEBOX
DESCRIPTION:DJ Sam Sinister is the living punk rock jukebox! Spinning your requests all night long!
URL:https://speakofthedevillorain.com/event/dj-sam-sinisters-punk-rock-jukebox/
LOCATION:Speak of the Devil\, 201 W 5th St\, Lorain\, OH\, 44052\, United States
ATTACH;FMTTYPE=image/jpeg:https://speakofthedevillorain.com/wp-content/uploads/2025/02/MUSIC-EVENT-BANNER.jpg
END:VEVENT
END:VCALENDAR