BEGIN:VCALENDAR
VERSION:2.0
PRODID:-// - ECPv6.15.20//NONSGML v1.0//EN
CALSCALE:GREGORIAN
METHOD:PUBLISH
X-ORIGINAL-URL:https://speakofthedevillorain.com
X-WR-CALDESC:Events for 
REFRESH-INTERVAL;VALUE=DURATION:PT1H
X-Robots-Tag:noindex
X-PUBLISHED-TTL:PT1H
BEGIN:VTIMEZONE
TZID:America/New_York
BEGIN:DAYLIGHT
TZOFFSETFROM:-0500
TZOFFSETTO:-0400
TZNAME:EDT
DTSTART:20240310T070000
END:DAYLIGHT
BEGIN:STANDARD
TZOFFSETFROM:-0400
TZOFFSETTO:-0500
TZNAME:EST
DTSTART:20241103T060000
END:STANDARD
BEGIN:DAYLIGHT
TZOFFSETFROM:-0500
TZOFFSETTO:-0400
TZNAME:EDT
DTSTART:20250309T070000
END:DAYLIGHT
BEGIN:STANDARD
TZOFFSETFROM:-0400
TZOFFSETTO:-0500
TZNAME:EST
DTSTART:20251102T060000
END:STANDARD
BEGIN:DAYLIGHT
TZOFFSETFROM:-0500
TZOFFSETTO:-0400
TZNAME:EDT
DTSTART:20260308T070000
END:DAYLIGHT
BEGIN:STANDARD
TZOFFSETFROM:-0400
TZOFFSETTO:-0500
TZNAME:EST
DTSTART:20261101T060000
END:STANDARD
END:VTIMEZONE
BEGIN:VEVENT
DTSTART;TZID=America/New_York:20250424T200000
DTEND;TZID=America/New_York:20250424T220000
DTSTAMP:20260421T020816
CREATED:20250303T211806Z
LAST-MODIFIED:20250303T211806Z
UID:2648-1745524800-1745532000@speakofthedevillorain.com
SUMMARY:MOVIE NIGHTS OUT IN THE PATIO
DESCRIPTION:Another Lorain Cinematheque/Mark Fletcher Movie night!
URL:https://speakofthedevillorain.com/event/movie-nights-out-in-the-patio/
LOCATION:Speak of the Devil\, 201 W 5th St\, Lorain\, OH\, 44052\, United States
ATTACH;FMTTYPE=image/jpeg:https://speakofthedevillorain.com/wp-content/uploads/2025/03/Comedy-Comedian-Stand-up-Show-Night-Club-Ad.jpg
END:VEVENT
BEGIN:VEVENT
DTSTART;TZID=America/New_York:20250419T193000
DTEND;TZID=America/New_York:20250419T223000
DTSTAMP:20260421T020816
CREATED:20250303T211651Z
LAST-MODIFIED:20250303T211651Z
UID:2645-1745091000-1745101800@speakofthedevillorain.com
SUMMARY:AANYA SENGUPTA JAZZ DUO
DESCRIPTION:Please join us in welcoming the very talented jazz singer Aanya Sengupta to the SOTD stage for the very first time!
URL:https://speakofthedevillorain.com/event/aanya-sengupta-jazz-duo/
LOCATION:Speak of the Devil\, 201 W 5th St\, Lorain\, OH\, 44052\, United States
ATTACH;FMTTYPE=image/jpeg:https://speakofthedevillorain.com/wp-content/uploads/2025/03/Inspirational-flyer.jpg
END:VEVENT
BEGIN:VEVENT
DTSTART;TZID=America/New_York:20250418T170000
DTEND;TZID=America/New_York:20250418T235900
DTSTAMP:20260421T020816
CREATED:20250405T203953Z
LAST-MODIFIED:20250405T203953Z
UID:2664-1744995600-1745020740@speakofthedevillorain.com
SUMMARY:ABRAHAM OVERHOLT BIRTHDAY PARTY
DESCRIPTION:Happy Birthday Abe! A night celebrating the man and the rye whiskey he created!
URL:https://speakofthedevillorain.com/event/abraham-overholt-birthday-party-3/
LOCATION:Speak of the Devil\, 201 W 5th St\, Lorain\, OH\, 44052\, United States
ATTACH;FMTTYPE=image/jpeg:https://speakofthedevillorain.com/wp-content/uploads/2025/04/New-Single-NEW-ALBUM-RELEASE-PRE-ORDER-NOW.jpg
END:VEVENT
BEGIN:VEVENT
DTSTART;TZID=America/New_York:20250417T183000
DTEND;TZID=America/New_York:20250417T200000
DTSTAMP:20260421T020816
CREATED:20250303T211424Z
LAST-MODIFIED:20250303T212241Z
UID:2643-1744914600-1744920000@speakofthedevillorain.com
SUMMARY:BOOKS & BREWS
DESCRIPTION:In conjunction with the Lorain Public Library\, welcome to Books & Brews! This month’s selection: Revenge of the Tipping Point: Overstories\, Superspreaders and the Rise of Social Engineering” by Malcolm Gladwell
URL:https://speakofthedevillorain.com/event/books-brews-20/
LOCATION:Speak of the Devil\, 201 W 5th St\, Lorain\, OH\, 44052\, United States
ATTACH;FMTTYPE=image/jpeg:https://speakofthedevillorain.com/wp-content/uploads/2024/03/429780136_912590617538637_6219091756627812402_n.jpg
END:VEVENT
BEGIN:VEVENT
DTSTART;TZID=America/New_York:20250416T190000
DTEND;TZID=America/New_York:20250416T210000
DTSTAMP:20260421T020816
CREATED:20250303T211222Z
LAST-MODIFIED:20250303T211259Z
UID:2640-1744830000-1744837200@speakofthedevillorain.com
SUMMARY:PAINT & SIP PARTY
DESCRIPTION:You are invited to a paint party! For a night of fun\, laughter and memories while creating artwork with family & friends! Our friend David Wrice will supply the materials with easy to follow lessons. $25 per person. T\nThe party is approximately 2 hours long.Contact David for your seat today at: cell: 440-787-4773 email: wricesplanted@gmail.com
URL:https://speakofthedevillorain.com/event/paint-sip-party/
LOCATION:Speak of the Devil\, 201 W 5th St\, Lorain\, OH\, 44052\, United States
ATTACH;FMTTYPE=image/jpeg:https://speakofthedevillorain.com/wp-content/uploads/2025/03/MARATHON-BANNER.jpg
END:VEVENT
BEGIN:VEVENT
DTSTART;TZID=America/New_York:20250415T170000
DTEND;TZID=America/New_York:20250415T220000
DTSTAMP:20260421T020816
CREATED:20250303T211116Z
LAST-MODIFIED:20250303T211116Z
UID:2638-1744736400-1744754400@speakofthedevillorain.com
SUMMARY:TURNTABLE TUESDAY
DESCRIPTION:All vinyl night with our friends from Ship to Shore. Turntable on the stage\, you bring your own vinyl to play a side or choose from our carefully curated crates. Ship to Shore will also have a pop up shop under the chandelier – buy books and/or music
URL:https://speakofthedevillorain.com/event/turntable-tuesday-15/
LOCATION:Speak of the Devil\, 201 W 5th St\, Lorain\, OH\, 44052\, United States
ATTACH;FMTTYPE=image/jpeg:https://speakofthedevillorain.com/wp-content/uploads/2025/02/MARATHON-BANNER.jpg
END:VEVENT
BEGIN:VEVENT
DTSTART;TZID=America/New_York:20250412T193000
DTEND;TZID=America/New_York:20250412T223000
DTSTAMP:20260421T020816
CREATED:20250303T211014Z
LAST-MODIFIED:20250303T211014Z
UID:2635-1744486200-1744497000@speakofthedevillorain.com
SUMMARY:KRISTINE JACKSON
DESCRIPTION:The one and only Kristine Jackson returns!
URL:https://speakofthedevillorain.com/event/kristine-jackson-7/
LOCATION:Speak of the Devil\, 201 W 5th St\, Lorain\, OH\, 44052\, United States
ATTACH;FMTTYPE=image/jpeg:https://speakofthedevillorain.com/wp-content/uploads/2025/03/MUSIC-BANNER.jpg
END:VEVENT
BEGIN:VEVENT
DTSTART;TZID=America/New_York:20250406T130000
DTEND;TZID=America/New_York:20250406T180000
DTSTAMP:20260421T020816
CREATED:20250303T210851Z
LAST-MODIFIED:20250303T210851Z
UID:2633-1743944400-1743962400@speakofthedevillorain.com
SUMMARY:BLACK VULTURE RAMEN BRUNCH
DESCRIPTION:Another brunch with the best noods in town!
URL:https://speakofthedevillorain.com/event/black-vulture-ramen-brunch-6/
LOCATION:Speak of the Devil\, 201 W 5th St\, Lorain\, OH\, 44052\, United States
ATTACH;FMTTYPE=image/jpeg:https://speakofthedevillorain.com/wp-content/uploads/2024/10/Ramen2.jpg
END:VEVENT
BEGIN:VEVENT
DTSTART;TZID=America/New_York:20250329T193000
DTEND;TZID=America/New_York:20250329T223000
DTSTAMP:20260421T020816
CREATED:20241216T125111Z
LAST-MODIFIED:20241216T125111Z
UID:2562-1743276600-1743287400@speakofthedevillorain.com
SUMMARY:ANTHONY SCROFANO
DESCRIPTION:An evening with our very own Anthony Scrofano.
URL:https://speakofthedevillorain.com/event/anthony-scrofano-13/
LOCATION:Speak of the Devil\, 201 W 5th St\, Lorain\, OH\, 44052\, United States
ATTACH;FMTTYPE=image/jpeg:https://speakofthedevillorain.com/wp-content/uploads/2024/12/Dylan.jpg
END:VEVENT
BEGIN:VEVENT
DTSTART;TZID=America/New_York:20250327T190000
DTEND;TZID=America/New_York:20250327T220000
DTSTAMP:20260421T020816
CREATED:20250212T140202Z
LAST-MODIFIED:20250212T140202Z
UID:2628-1743102000-1743112800@speakofthedevillorain.com
SUMMARY:COCKTAIL KARAOKE NIGHT: EMO MUSIC
DESCRIPTION:araoke Khrist returns! It’s cocktail karaoke EMO style!
URL:https://speakofthedevillorain.com/event/cocktail-karaoke-night-emo-music/
LOCATION:Speak of the Devil\, 201 W 5th St\, Lorain\, OH\, 44052\, United States
ATTACH;FMTTYPE=image/jpeg:https://speakofthedevillorain.com/wp-content/uploads/2025/02/KARAOKE-KHRISTMAS.jpg
END:VEVENT
BEGIN:VEVENT
DTSTART;TZID=America/New_York:20250322T193000
DTEND;TZID=America/New_York:20250322T223000
DTSTAMP:20260421T020816
CREATED:20241216T124810Z
LAST-MODIFIED:20241216T124810Z
UID:2559-1742671800-1742682600@speakofthedevillorain.com
SUMMARY:AUSTIN 'WALKIN' CANE
DESCRIPTION:Cleveland’s own rocking blues roller returns to SOTD!
URL:https://speakofthedevillorain.com/event/austin-walkin-cane-11/
LOCATION:Speak of the Devil\, 201 W 5th St\, Lorain\, OH\, 44052\, United States
ATTACH;FMTTYPE=image/jpeg:https://speakofthedevillorain.com/wp-content/uploads/2024/12/Copy-of-Live-music.jpg
END:VEVENT
BEGIN:VEVENT
DTSTART;TZID=America/New_York:20250320T190000
DTEND;TZID=America/New_York:20250320T220000
DTSTAMP:20260421T020816
CREATED:20250212T140031Z
LAST-MODIFIED:20250212T140031Z
UID:2626-1742497200-1742508000@speakofthedevillorain.com
SUMMARY:CHRIS HATTON
DESCRIPTION:If it’s the third Thursday\, it’s Chris Hatton!
URL:https://speakofthedevillorain.com/event/chris-hatton-7/
LOCATION:Speak of the Devil\, 201 W 5th St\, Lorain\, OH\, 44052\, United States
ATTACH;FMTTYPE=image/jpeg:https://speakofthedevillorain.com/wp-content/uploads/2024/12/MUSIC-EVENT-BANNER.jpg
END:VEVENT
BEGIN:VEVENT
DTSTART;TZID=America/New_York:20250319T190000
DTEND;TZID=America/New_York:20250319T220000
DTSTAMP:20260421T020816
CREATED:20250212T135929Z
LAST-MODIFIED:20250212T135929Z
UID:2623-1742410800-1742421600@speakofthedevillorain.com
SUMMARY:DJ SAM SINISTER'S PUNK ROCK JUKEBOX
DESCRIPTION:DJ Sam Sinister is the living punk rock jukebox! Spinning your requests all night long!
URL:https://speakofthedevillorain.com/event/dj-sam-sinisters-punk-rock-jukebox/
LOCATION:Speak of the Devil\, 201 W 5th St\, Lorain\, OH\, 44052\, United States
ATTACH;FMTTYPE=image/jpeg:https://speakofthedevillorain.com/wp-content/uploads/2025/02/MUSIC-EVENT-BANNER.jpg
END:VEVENT
BEGIN:VEVENT
DTSTART;TZID=America/New_York:20250318T190000
DTEND;TZID=America/New_York:20250318T210000
DTSTAMP:20260421T020816
CREATED:20250212T135808Z
LAST-MODIFIED:20250212T135808Z
UID:2620-1742324400-1742331600@speakofthedevillorain.com
SUMMARY:OLD FORESTER BIRTHDAY BOURBON & KING OF KENTUCKY TASTING
DESCRIPTION:Two unicorns (plus a surprise bottle)\, a tasting event of the year! Apps\, welcome cocktail and delicious whiskey – $120/per – inbox us to RSVP your slot!
URL:https://speakofthedevillorain.com/event/old-forester-birthday-bourbon-king-of-kentucky-tasting/
LOCATION:Speak of the Devil\, 201 W 5th St\, Lorain\, OH\, 44052\, United States
ATTACH;FMTTYPE=image/jpeg:https://speakofthedevillorain.com/wp-content/uploads/2025/02/KoK-Birthday.jpg
END:VEVENT
BEGIN:VEVENT
DTSTART;TZID=America/New_York:20250313T183000
DTEND;TZID=America/New_York:20250313T200000
DTSTAMP:20260421T020816
CREATED:20250212T135625Z
LAST-MODIFIED:20250212T135625Z
UID:2618-1741890600-1741896000@speakofthedevillorain.com
SUMMARY:BOOKS & BREWS
DESCRIPTION:This months book discussion: “James” by Percival Everett. Grab a copy\, read it and drop in to share your thoughts!
URL:https://speakofthedevillorain.com/event/books-brews-19/
LOCATION:Speak of the Devil\, 201 W 5th St\, Lorain\, OH\, 44052\, United States
ATTACH;FMTTYPE=image/jpeg:https://speakofthedevillorain.com/wp-content/uploads/2024/03/429780136_912590617538637_6219091756627812402_n.jpg
END:VEVENT
BEGIN:VEVENT
DTSTART;TZID=America/New_York:20250312T180000
DTEND;TZID=America/New_York:20250312T210000
DTSTAMP:20260421T020816
CREATED:20250212T135433Z
LAST-MODIFIED:20250212T135500Z
UID:2615-1741802400-1741813200@speakofthedevillorain.com
SUMMARY:MAIN STREET LORAIN MEET & MINGLE
DESCRIPTION:Join Main Street Lorain for a night of networking & community! Grab a drink/snack and chat with other community members who love our city & downtown neighborhood.\nWe will be hosting these events EVERY MONTH in 2025. We hope you’ll join us for a fun night supporting our small business community!\nThis month our mix & mingle will be taking place in alongside the next Ohio Distiller’s Day Event at Speak of the Devil!
URL:https://speakofthedevillorain.com/event/main-street-lorain-meet-mingle/
LOCATION:Speak of the Devil\, 201 W 5th St\, Lorain\, OH\, 44052\, United States
ATTACH;FMTTYPE=image/jpeg:https://speakofthedevillorain.com/wp-content/uploads/2025/02/475795266_972683674856974_1606906040442676282_n.jpg
END:VEVENT
BEGIN:VEVENT
DTSTART;TZID=America/New_York:20250312T050000
DTEND;TZID=America/New_York:20250312T220000
DTSTAMP:20260421T020816
CREATED:20250212T135257Z
LAST-MODIFIED:20250212T135257Z
UID:2612-1741755600-1741816800@speakofthedevillorain.com
SUMMARY:OHIO DISTILLERS DAY: WATERSHED DISTILLERY
DESCRIPTION:Join us and Main Street Lorain in welcoming Columbus’ Watershed Distillery to Lorain!
URL:https://speakofthedevillorain.com/event/ohio-distillers-day-watershed-distillery/
LOCATION:Speak of the Devil\, 201 W 5th St\, Lorain\, OH\, 44052\, United States
ATTACH;FMTTYPE=image/jpeg:https://speakofthedevillorain.com/wp-content/uploads/2025/02/ChristmasChristmas-retailevent.jpg
END:VEVENT
BEGIN:VEVENT
DTSTART;TZID=America/New_York:20250311T170000
DTEND;TZID=America/New_York:20250311T220000
DTSTAMP:20260421T020816
CREATED:20250212T135137Z
LAST-MODIFIED:20250212T135137Z
UID:2609-1741712400-1741730400@speakofthedevillorain.com
SUMMARY:TURNTABLE TUESDAY
DESCRIPTION:Turntable Tuesday! Bring your own vinyl\, choose from our curated crates or buy from Ship to Shore’s Pop Up Shop under the chandelier!
URL:https://speakofthedevillorain.com/event/turntable-tuesday-14/
LOCATION:Speak of the Devil\, 201 W 5th St\, Lorain\, OH\, 44052\, United States
ATTACH;FMTTYPE=image/jpeg:https://speakofthedevillorain.com/wp-content/uploads/2025/02/MARATHON-BANNER.jpg
END:VEVENT
BEGIN:VEVENT
DTSTART;TZID=America/New_York:20250309T130000
DTEND;TZID=America/New_York:20250309T180000
DTSTAMP:20260421T020816
CREATED:20250212T134739Z
LAST-MODIFIED:20250212T134739Z
UID:2605-1741525200-1741543200@speakofthedevillorain.com
SUMMARY:BLACK VULTURE RAMEN BRUNCH
DESCRIPTION:Another amazing ramen brunch with our friends from Black Vulture Ramen
URL:https://speakofthedevillorain.com/event/black-vulture-ramen-brunch-5/
LOCATION:Speak of the Devil\, 201 W 5th St\, Lorain\, OH\, 44052\, United States
ATTACH;FMTTYPE=image/jpeg:https://speakofthedevillorain.com/wp-content/uploads/2024/10/Ramen2.jpg
END:VEVENT
BEGIN:VEVENT
DTSTART;TZID=America/New_York:20250228T170000
DTEND;TZID=America/New_York:20250301T235900
DTSTAMP:20260421T020816
CREATED:20250212T134642Z
LAST-MODIFIED:20250212T134642Z
UID:2602-1740762000-1740873540@speakofthedevillorain.com
SUMMARY:NOAH'S LAST WEEKEND
DESCRIPTION:What a ride it’s been\, but one of our stalwarts is moving on! Please stop in and wish Noah a very\, very fond farewell!
URL:https://speakofthedevillorain.com/event/noahs-last-weekend/
LOCATION:Speak of the Devil\, 201 W 5th St\, Lorain\, OH\, 44052\, United States
ATTACH;FMTTYPE=image/jpeg:https://speakofthedevillorain.com/wp-content/uploads/2025/02/Valentines-Day.jpg
END:VEVENT
BEGIN:VEVENT
DTSTART;TZID=America/New_York:20250226T170000
DTEND;TZID=America/New_York:20250226T220000
DTSTAMP:20260421T020816
CREATED:20250212T134518Z
LAST-MODIFIED:20250212T134518Z
UID:2599-1740589200-1740607200@speakofthedevillorain.com
SUMMARY:JACK'S WHISKEY WEDNESDAY: RIVER ROOTS
DESCRIPTION:Join us in welcoming Tim Harnett from River Roots Barrel Company as we taste River Roots whiskey’s and talk drams all night long. Single tastes and flights will be available!
URL:https://speakofthedevillorain.com/event/jacks-whiskey-wednesday-river-roots/
LOCATION:Speak of the Devil\, 201 W 5th St\, Lorain\, OH\, 44052\, United States
ATTACH;FMTTYPE=image/jpeg:https://speakofthedevillorain.com/wp-content/uploads/2025/02/Winter.jpg
END:VEVENT
BEGIN:VEVENT
DTSTART;TZID=America/New_York:20250222T193000
DTEND;TZID=America/New_York:20250222T223000
DTSTAMP:20260421T020816
CREATED:20241216T124417Z
LAST-MODIFIED:20241216T124417Z
UID:2556-1740252600-1740263400@speakofthedevillorain.com
SUMMARY:DJ TEDDY EISENBERG
DESCRIPTION:DJ Teddy Eisenberg is back melting more wax!
URL:https://speakofthedevillorain.com/event/dj-teddy-eisenberg-3/
LOCATION:Speak of the Devil\, 201 W 5th St\, Lorain\, OH\, 44052\, United States
ATTACH;FMTTYPE=image/jpeg:https://speakofthedevillorain.com/wp-content/uploads/2024/12/DJ-TEDDY.jpg
END:VEVENT
BEGIN:VEVENT
DTSTART;TZID=America/New_York:20250220T190000
DTEND;TZID=America/New_York:20250220T210000
DTSTAMP:20260421T020816
CREATED:20250124T144818Z
LAST-MODIFIED:20250212T140521Z
UID:2593-1740078000-1740085200@speakofthedevillorain.com
SUMMARY:PAINT & SIP PAINT PARTY
DESCRIPTION:You are invited to a paint party! For a night of fun\, laughter and memories while creating artwork with family & friends!  Our friend David Wrice will supply the materials with easy to follow lessons. $25 per person. The party is approximately 2 hours long. \nLast day to RSVP will be February 14.  Contact David for your seat today at: cell: 440-787-4773  email: wricesplanted@gmail.com
URL:https://speakofthedevillorain.com/event/paint-sip-paint-party/
LOCATION:Speak of the Devil\, 201 W 5th St\, Lorain\, OH\, 44052\, United States
ATTACH;FMTTYPE=image/jpeg:https://speakofthedevillorain.com/wp-content/uploads/2025/01/MARATHON-BANNER3.jpg
END:VEVENT
BEGIN:VEVENT
DTSTART;TZID=America/New_York:20250215T193000
DTEND;TZID=America/New_York:20250215T223000
DTSTAMP:20260421T020816
CREATED:20250114T141553Z
LAST-MODIFIED:20250114T141553Z
UID:2582-1739647800-1739658600@speakofthedevillorain.com
SUMMARY:CRAIG MARTINI
DESCRIPTION:The one and only Craig Martini! Bass player/singer/songwriter/solo artist Craig has played bass with – Paul Gilbert\, Phil Collen\, Colin Hay\, Joe Satriani\, Alan Parsons\, and many more. His funky and fun one man show drops in for a special night at Speak of the Devil!
URL:https://speakofthedevillorain.com/event/craig-martini/
LOCATION:Speak of the Devil\, 201 W 5th St\, Lorain\, OH\, 44052\, United States
ATTACH;FMTTYPE=image/jpeg:https://speakofthedevillorain.com/wp-content/uploads/2025/01/Copy-of-of-templates-flyer-poster-astrology-e.jpg
END:VEVENT
BEGIN:VEVENT
DTSTART;TZID=America/New_York:20250213T183000
DTEND;TZID=America/New_York:20250213T200000
DTSTAMP:20260421T020816
CREATED:20241215T145435Z
LAST-MODIFIED:20241215T145435Z
UID:2552-1739471400-1739476800@speakofthedevillorain.com
SUMMARY:BOOKS & BREWS
DESCRIPTION:This months book discussion: “If Beale Street Could Talk” by James Baldwin. Grab a copy\, read it and drop in to share your thoughts!
URL:https://speakofthedevillorain.com/event/books-brews-18/
LOCATION:Speak of the Devil\, 201 W 5th St\, Lorain\, OH\, 44052\, United States
ATTACH;FMTTYPE=image/jpeg:https://speakofthedevillorain.com/wp-content/uploads/2018/04/Books.jpg
END:VEVENT
BEGIN:VEVENT
DTSTART;TZID=America/New_York:20250211T170000
DTEND;TZID=America/New_York:20250211T220000
DTSTAMP:20260421T020816
CREATED:20241215T145936Z
LAST-MODIFIED:20241215T145936Z
UID:2554-1739293200-1739311200@speakofthedevillorain.com
SUMMARY:TURNTABLE TUESDAY
DESCRIPTION:Vinyl record night at SOTD! Choose from our carefully curated collection of LP’s or bring your own vinyl and play a side! Also\, Ship to Shore will have a crate of cool records available to purchase\, buy one and skip right to the head of the queue to play a side of your new platter!
URL:https://speakofthedevillorain.com/event/turntable-tuesday-13/
LOCATION:Speak of the Devil\, 201 W 5th St\, Lorain\, OH\, 44052\, United States
ATTACH;FMTTYPE=image/jpeg:https://speakofthedevillorain.com/wp-content/uploads/2024/03/Turntable-2.jpg
END:VEVENT
BEGIN:VEVENT
DTSTART;TZID=America/New_York:20250208T193000
DTEND;TZID=America/New_York:20250208T223000
DTSTAMP:20260421T020816
CREATED:20250114T141429Z
LAST-MODIFIED:20250114T141429Z
UID:2579-1739043000-1739053800@speakofthedevillorain.com
SUMMARY:DJ SILVERSKULL
DESCRIPTION:Close out Tiki Week with warm roots reggae music on vinyl with a dope\, dub set by DJ Silverskull!
URL:https://speakofthedevillorain.com/event/dj-silverskull-2/
LOCATION:Speak of the Devil\, 201 W 5th St\, Lorain\, OH\, 44052\, United States
ATTACH;FMTTYPE=image/jpeg:https://speakofthedevillorain.com/wp-content/uploads/2025/01/valentine.jpg
END:VEVENT
BEGIN:VEVENT
DTSTART;TZID=America/New_York:20250205T170000
DTEND;TZID=America/New_York:20250205T220000
DTSTAMP:20260421T020816
CREATED:20241223T210459Z
LAST-MODIFIED:20241223T210459Z
UID:2568-1738774800-1738792800@speakofthedevillorain.com
SUMMARY:TIKI TAKEOVER: HULI HULI TIKI LOUNGE
DESCRIPTION:🍹🌴 Tiki Week is here to chase away those winter blues! Join us as we transform the bar into a tropical paradise\, complete with fruity cocktails and sunny vibes. We’re thrilled to have the amazing crew from Huli Huli Lounge in Powell\, Ohio\, taking over to kick off this vibrant celebration! Let’s make some unforgettable memories! 🌺✨ #TikiWeek
URL:https://speakofthedevillorain.com/event/tiki-takeover-huli-huli-tiki-lounge/
LOCATION:Speak of the Devil\, 201 W 5th St\, Lorain\, OH\, 44052\, United States
ATTACH;FMTTYPE=image/jpeg:https://speakofthedevillorain.com/wp-content/uploads/2024/12/Merry-Christmas.jpg
END:VEVENT
BEGIN:VEVENT
DTSTART;TZID=America/New_York:20250201T193000
DTEND;TZID=America/New_York:20250201T223000
DTSTAMP:20260421T020816
CREATED:20241215T144913Z
LAST-MODIFIED:20241215T144913Z
UID:2549-1738438200-1738449000@speakofthedevillorain.com
SUMMARY:THE DIRTY LITTLE BLUES BAND
DESCRIPTION:They’re back! The rockin’ and rollin’-est band around. Classic rockabilly/jump blues/early rock’n’roll at its fiery best!
URL:https://speakofthedevillorain.com/event/the-dirty-little-blues-band-4/
LOCATION:Speak of the Devil\, 201 W 5th St\, Lorain\, OH\, 44052\, United States
ATTACH;FMTTYPE=image/jpeg:https://speakofthedevillorain.com/wp-content/uploads/2024/12/Black-Live-Music-Facebook-Shared-Image.jpg
END:VEVENT
BEGIN:VEVENT
DTSTART;TZID=America/New_York:20250129T190000
DTEND;TZID=America/New_York:20250129T220000
DTSTAMP:20260421T020816
CREATED:20241215T144503Z
LAST-MODIFIED:20241215T144503Z
UID:2546-1738177200-1738188000@speakofthedevillorain.com
SUMMARY:JAPANESE WHISKEY EDUCATION
DESCRIPTION:Join us as we discus the history of Japanese whiskey making\, it’s unique styles and processes. We will have a slate of varying Japanese whiskies available for tasting or flights. This is a FREE education with tastes or flights available for purchase! Seating is limited\, please inbox us or talk to you bartender or server to get on the list!
URL:https://speakofthedevillorain.com/event/japanese-whiskey-education/
LOCATION:Speak of the Devil\, 201 W 5th St\, Lorain\, OH\, 44052\, United States
ATTACH;FMTTYPE=image/jpeg:https://speakofthedevillorain.com/wp-content/uploads/2024/12/White-Joyful-Merry-Christmas-Facebook-Event-Cover2.jpg
END:VEVENT
END:VCALENDAR