BEGIN:VCALENDAR
VERSION:2.0
PRODID:-// - ECPv6.15.20//NONSGML v1.0//EN
CALSCALE:GREGORIAN
METHOD:PUBLISH
X-ORIGINAL-URL:https://speakofthedevillorain.com
X-WR-CALDESC:Events for 
REFRESH-INTERVAL;VALUE=DURATION:PT1H
X-Robots-Tag:noindex
X-PUBLISHED-TTL:PT1H
BEGIN:VTIMEZONE
TZID:America/New_York
BEGIN:DAYLIGHT
TZOFFSETFROM:-0500
TZOFFSETTO:-0400
TZNAME:EDT
DTSTART:20230312T070000
END:DAYLIGHT
BEGIN:STANDARD
TZOFFSETFROM:-0400
TZOFFSETTO:-0500
TZNAME:EST
DTSTART:20231105T060000
END:STANDARD
BEGIN:DAYLIGHT
TZOFFSETFROM:-0500
TZOFFSETTO:-0400
TZNAME:EDT
DTSTART:20240310T070000
END:DAYLIGHT
BEGIN:STANDARD
TZOFFSETFROM:-0400
TZOFFSETTO:-0500
TZNAME:EST
DTSTART:20241103T060000
END:STANDARD
BEGIN:DAYLIGHT
TZOFFSETFROM:-0500
TZOFFSETTO:-0400
TZNAME:EDT
DTSTART:20250309T070000
END:DAYLIGHT
BEGIN:STANDARD
TZOFFSETFROM:-0400
TZOFFSETTO:-0500
TZNAME:EST
DTSTART:20251102T060000
END:STANDARD
BEGIN:DAYLIGHT
TZOFFSETFROM:-0500
TZOFFSETTO:-0400
TZNAME:EDT
DTSTART:20260308T070000
END:DAYLIGHT
BEGIN:STANDARD
TZOFFSETFROM:-0400
TZOFFSETTO:-0500
TZNAME:EST
DTSTART:20261101T060000
END:STANDARD
END:VTIMEZONE
BEGIN:VEVENT
DTSTART;TZID=America/New_York:20250215T193000
DTEND;TZID=America/New_York:20250215T223000
DTSTAMP:20260421T020817
CREATED:20250114T141553Z
LAST-MODIFIED:20250114T141553Z
UID:2582-1739647800-1739658600@speakofthedevillorain.com
SUMMARY:CRAIG MARTINI
DESCRIPTION:The one and only Craig Martini! Bass player/singer/songwriter/solo artist Craig has played bass with – Paul Gilbert\, Phil Collen\, Colin Hay\, Joe Satriani\, Alan Parsons\, and many more. His funky and fun one man show drops in for a special night at Speak of the Devil!
URL:https://speakofthedevillorain.com/event/craig-martini/
LOCATION:Speak of the Devil\, 201 W 5th St\, Lorain\, OH\, 44052\, United States
ATTACH;FMTTYPE=image/jpeg:https://speakofthedevillorain.com/wp-content/uploads/2025/01/Copy-of-of-templates-flyer-poster-astrology-e.jpg
END:VEVENT
BEGIN:VEVENT
DTSTART;TZID=America/New_York:20250213T183000
DTEND;TZID=America/New_York:20250213T200000
DTSTAMP:20260421T020817
CREATED:20241215T145435Z
LAST-MODIFIED:20241215T145435Z
UID:2552-1739471400-1739476800@speakofthedevillorain.com
SUMMARY:BOOKS & BREWS
DESCRIPTION:This months book discussion: “If Beale Street Could Talk” by James Baldwin. Grab a copy\, read it and drop in to share your thoughts!
URL:https://speakofthedevillorain.com/event/books-brews-18/
LOCATION:Speak of the Devil\, 201 W 5th St\, Lorain\, OH\, 44052\, United States
ATTACH;FMTTYPE=image/jpeg:https://speakofthedevillorain.com/wp-content/uploads/2018/04/Books.jpg
END:VEVENT
BEGIN:VEVENT
DTSTART;TZID=America/New_York:20250211T170000
DTEND;TZID=America/New_York:20250211T220000
DTSTAMP:20260421T020817
CREATED:20241215T145936Z
LAST-MODIFIED:20241215T145936Z
UID:2554-1739293200-1739311200@speakofthedevillorain.com
SUMMARY:TURNTABLE TUESDAY
DESCRIPTION:Vinyl record night at SOTD! Choose from our carefully curated collection of LP’s or bring your own vinyl and play a side! Also\, Ship to Shore will have a crate of cool records available to purchase\, buy one and skip right to the head of the queue to play a side of your new platter!
URL:https://speakofthedevillorain.com/event/turntable-tuesday-13/
LOCATION:Speak of the Devil\, 201 W 5th St\, Lorain\, OH\, 44052\, United States
ATTACH;FMTTYPE=image/jpeg:https://speakofthedevillorain.com/wp-content/uploads/2024/03/Turntable-2.jpg
END:VEVENT
BEGIN:VEVENT
DTSTART;TZID=America/New_York:20250208T193000
DTEND;TZID=America/New_York:20250208T223000
DTSTAMP:20260421T020817
CREATED:20250114T141429Z
LAST-MODIFIED:20250114T141429Z
UID:2579-1739043000-1739053800@speakofthedevillorain.com
SUMMARY:DJ SILVERSKULL
DESCRIPTION:Close out Tiki Week with warm roots reggae music on vinyl with a dope\, dub set by DJ Silverskull!
URL:https://speakofthedevillorain.com/event/dj-silverskull-2/
LOCATION:Speak of the Devil\, 201 W 5th St\, Lorain\, OH\, 44052\, United States
ATTACH;FMTTYPE=image/jpeg:https://speakofthedevillorain.com/wp-content/uploads/2025/01/valentine.jpg
END:VEVENT
BEGIN:VEVENT
DTSTART;TZID=America/New_York:20250205T170000
DTEND;TZID=America/New_York:20250205T220000
DTSTAMP:20260421T020817
CREATED:20241223T210459Z
LAST-MODIFIED:20241223T210459Z
UID:2568-1738774800-1738792800@speakofthedevillorain.com
SUMMARY:TIKI TAKEOVER: HULI HULI TIKI LOUNGE
DESCRIPTION:🍹🌴 Tiki Week is here to chase away those winter blues! Join us as we transform the bar into a tropical paradise\, complete with fruity cocktails and sunny vibes. We’re thrilled to have the amazing crew from Huli Huli Lounge in Powell\, Ohio\, taking over to kick off this vibrant celebration! Let’s make some unforgettable memories! 🌺✨ #TikiWeek
URL:https://speakofthedevillorain.com/event/tiki-takeover-huli-huli-tiki-lounge/
LOCATION:Speak of the Devil\, 201 W 5th St\, Lorain\, OH\, 44052\, United States
ATTACH;FMTTYPE=image/jpeg:https://speakofthedevillorain.com/wp-content/uploads/2024/12/Merry-Christmas.jpg
END:VEVENT
BEGIN:VEVENT
DTSTART;TZID=America/New_York:20250201T193000
DTEND;TZID=America/New_York:20250201T223000
DTSTAMP:20260421T020817
CREATED:20241215T144913Z
LAST-MODIFIED:20241215T144913Z
UID:2549-1738438200-1738449000@speakofthedevillorain.com
SUMMARY:THE DIRTY LITTLE BLUES BAND
DESCRIPTION:They’re back! The rockin’ and rollin’-est band around. Classic rockabilly/jump blues/early rock’n’roll at its fiery best!
URL:https://speakofthedevillorain.com/event/the-dirty-little-blues-band-4/
LOCATION:Speak of the Devil\, 201 W 5th St\, Lorain\, OH\, 44052\, United States
ATTACH;FMTTYPE=image/jpeg:https://speakofthedevillorain.com/wp-content/uploads/2024/12/Black-Live-Music-Facebook-Shared-Image.jpg
END:VEVENT
BEGIN:VEVENT
DTSTART;TZID=America/New_York:20250129T190000
DTEND;TZID=America/New_York:20250129T220000
DTSTAMP:20260421T020817
CREATED:20241215T144503Z
LAST-MODIFIED:20241215T144503Z
UID:2546-1738177200-1738188000@speakofthedevillorain.com
SUMMARY:JAPANESE WHISKEY EDUCATION
DESCRIPTION:Join us as we discus the history of Japanese whiskey making\, it’s unique styles and processes. We will have a slate of varying Japanese whiskies available for tasting or flights. This is a FREE education with tastes or flights available for purchase! Seating is limited\, please inbox us or talk to you bartender or server to get on the list!
URL:https://speakofthedevillorain.com/event/japanese-whiskey-education/
LOCATION:Speak of the Devil\, 201 W 5th St\, Lorain\, OH\, 44052\, United States
ATTACH;FMTTYPE=image/jpeg:https://speakofthedevillorain.com/wp-content/uploads/2024/12/White-Joyful-Merry-Christmas-Facebook-Event-Cover2.jpg
END:VEVENT
BEGIN:VEVENT
DTSTART;TZID=America/New_York:20250125T193000
DTEND;TZID=America/New_York:20250125T223000
DTSTAMP:20260421T020817
CREATED:20241215T143007Z
LAST-MODIFIED:20241215T143007Z
UID:2543-1737833400-1737844200@speakofthedevillorain.com
SUMMARY:DJ HODGEPODGE LODGE: 80'S MIX TAPE (ON VINYL)
DESCRIPTION:It’s an all night 80’s vinyl party with DJ HodgePodge Lodge!
URL:https://speakofthedevillorain.com/event/dj-hodgepodge-lodge-80s-mix-tape-on-vinyl/
LOCATION:Speak of the Devil\, 201 W 5th St\, Lorain\, OH\, 44052\, United States
ATTACH;FMTTYPE=image/jpeg:https://speakofthedevillorain.com/wp-content/uploads/2024/12/White-Joyful-Merry-Christmas-Facebook-Event-Cover.jpg
END:VEVENT
BEGIN:VEVENT
DTSTART;TZID=America/New_York:20250122T170000
DTEND;TZID=America/New_York:20250122T220000
DTSTAMP:20260421T020817
CREATED:20241215T141602Z
LAST-MODIFIED:20241215T141602Z
UID:2540-1737565200-1737583200@speakofthedevillorain.com
SUMMARY:THE PEOPLE'S CHOICE
DESCRIPTION:3 bartenders\, 3 old fashioned variations\, ONE menu spot – you all choose! Taste three cocktails\, vote for your favorite to go onto our next menu!
URL:https://speakofthedevillorain.com/event/the-peoples-choice-2/
LOCATION:Speak of the Devil\, 201 W 5th St\, Lorain\, OH\, 44052\, United States
ATTACH;FMTTYPE=image/jpeg:https://speakofthedevillorain.com/wp-content/uploads/2024/12/PC.jpg
END:VEVENT
BEGIN:VEVENT
DTSTART;TZID=America/New_York:20250121T190000
DTEND;TZID=America/New_York:20250121T203000
DTSTAMP:20260421T020817
CREATED:20250103T183932Z
LAST-MODIFIED:20250103T183932Z
UID:2574-1737486000-1737491400@speakofthedevillorain.com
SUMMARY:RARE RUSSELL'S TASTING
DESCRIPTION:Two rare Russell’s – Russell’s 15 Year Old Bourbon (Fred Minnick’s 2024 Whiskey of the Year!)\, Russell’s Single Rickhouse Bourbon\, a surprise bottle\, welcome cocktail and appetizers by Chef Howie!\nLimited seating\, $120 per person. Inbox us on Facebook or email speakofthedevilcocktails@gmail.com with inquiries or reservations!!
URL:https://speakofthedevillorain.com/event/rare-russells-tasting/
LOCATION:Speak of the Devil\, 201 W 5th St\, Lorain\, OH\, 44052\, United States
ATTACH;FMTTYPE=image/jpeg:https://speakofthedevillorain.com/wp-content/uploads/2025/01/Merry-Christmas.jpg
END:VEVENT
BEGIN:VEVENT
DTSTART;TZID=America/New_York:20250116T190000
DTEND;TZID=America/New_York:20250116T220000
DTSTAMP:20260421T020817
CREATED:20241215T140955Z
LAST-MODIFIED:20241215T140955Z
UID:2537-1737054000-1737064800@speakofthedevillorain.com
SUMMARY:CHRIS HATTON
DESCRIPTION:Third Thursday’s with Chris Hatton. Always a great night filled with pop\, funk and soul.
URL:https://speakofthedevillorain.com/event/chris-hatton-6/
LOCATION:Speak of the Devil\, 201 W 5th St\, Lorain\, OH\, 44052\, United States
ATTACH;FMTTYPE=image/jpeg:https://speakofthedevillorain.com/wp-content/uploads/2024/12/MUSIC-EVENT-BANNER.jpg
END:VEVENT
BEGIN:VEVENT
DTSTART;TZID=America/New_York:20250115T170000
DTEND;TZID=America/New_York:20250115T220000
DTSTAMP:20260421T020817
CREATED:20241215T140558Z
LAST-MODIFIED:20241215T140913Z
UID:2534-1736960400-1736978400@speakofthedevillorain.com
SUMMARY:DISTILLER'S DAY: MEET OHIO'S DISTILLERS
DESCRIPTION:Meet the men and women who make Ohio’s spirits! This month join us and Main Street Lorain in welcoming Columbus’s High Bank Distillery to downtown Lorain!
URL:https://speakofthedevillorain.com/event/distillers-day-meet-ohios-distillers/
LOCATION:Speak of the Devil\, 201 W 5th St\, Lorain\, OH\, 44052\, United States
ATTACH;FMTTYPE=image/jpeg:https://speakofthedevillorain.com/wp-content/uploads/2024/12/ChristmasChristmas-retailevent1.jpg
END:VEVENT
BEGIN:VEVENT
DTSTART;TZID=America/New_York:20250114T170000
DTEND;TZID=America/New_York:20250114T220000
DTSTAMP:20260421T020817
CREATED:20241215T135145Z
LAST-MODIFIED:20241215T135145Z
UID:2532-1736874000-1736892000@speakofthedevillorain.com
SUMMARY:TURNTABLE TUESDAY
DESCRIPTION:Vinyl record night at SOTD! Choose from our carefully curated collection of LP’s or bring your own vinyl and play a side! Also\, Ship to Shore will have a crate of cool records available to purchase\, buy one and skip right to the head of the queue to play a side of your new platter!
URL:https://speakofthedevillorain.com/event/turntable-tuesday-12/
LOCATION:Speak of the Devil\, 201 W 5th St\, Lorain\, OH\, 44052\, United States
ATTACH;FMTTYPE=image/jpeg:https://speakofthedevillorain.com/wp-content/uploads/2024/03/Turntable-2.jpg
END:VEVENT
BEGIN:VEVENT
DTSTART;TZID=America/New_York:20250109T183000
DTEND;TZID=America/New_York:20250109T200000
DTSTAMP:20260421T020817
CREATED:20241215T134713Z
LAST-MODIFIED:20241215T134713Z
UID:2530-1736447400-1736452800@speakofthedevillorain.com
SUMMARY:BOOKS & BREWS
DESCRIPTION:This months book discussion: “A Thousand Ships” by Natalie Haynes. Grab a copy\, read it and join in on the conversation!
URL:https://speakofthedevillorain.com/event/books-brews-17/
LOCATION:Speak of the Devil\, 201 W 5th St\, Lorain\, OH\, 44052\, United States
ATTACH;FMTTYPE=image/jpeg:https://speakofthedevillorain.com/wp-content/uploads/2018/04/Books.jpg
END:VEVENT
BEGIN:VEVENT
DTSTART;TZID=America/New_York:20241221T193000
DTEND;TZID=America/New_York:20241221T223000
DTSTAMP:20260421T020817
CREATED:20241003T204722Z
LAST-MODIFIED:20241003T204722Z
UID:2505-1734809400-1734820200@speakofthedevillorain.com
SUMMARY:GABI ALLEMANA & TIM PICARD
DESCRIPTION:A night of holiday\, pop and jazz standards with the wonderful Gabi Allemana\, feat. Tim Picard on guitar
URL:https://speakofthedevillorain.com/event/gabi-allemana-tim-picard/
LOCATION:Speak of the Devil\, 201 W 5th St\, Lorain\, OH\, 44052\, United States
ATTACH;FMTTYPE=image/jpeg:https://speakofthedevillorain.com/wp-content/uploads/2024/10/Happy-National-Candy-Day-Free-Greeting-card.jpg
END:VEVENT
BEGIN:VEVENT
DTSTART;TZID=America/New_York:20241219T190000
DTEND;TZID=America/New_York:20241219T220000
DTSTAMP:20260421T020817
CREATED:20241003T204558Z
LAST-MODIFIED:20241003T204558Z
UID:2502-1734634800-1734645600@speakofthedevillorain.com
SUMMARY:CHRIS HATTON
DESCRIPTION:Third Thursday’s with Chris Hatton
URL:https://speakofthedevillorain.com/event/chris-hatton-5/
LOCATION:Speak of the Devil\, 201 W 5th St\, Lorain\, OH\, 44052\, United States
ATTACH;FMTTYPE=image/jpeg:https://speakofthedevillorain.com/wp-content/uploads/2024/10/MUSIC-EVENT-BANNER5.jpg
END:VEVENT
BEGIN:VEVENT
DTSTART;TZID=America/New_York:20241218T193000
DTEND;TZID=America/New_York:20241218T210000
DTSTAMP:20260421T020817
CREATED:20241203T174323Z
LAST-MODIFIED:20241203T174323Z
UID:2520-1734550200-1734555600@speakofthedevillorain.com
SUMMARY:OLD FASHIONED COMEDY NIGHT
DESCRIPTION:A special night of laughs for the holidays! Join us as we welcome headline Ryan Dalton\, Lorain natives Ramon Rivas and Stephanie Ginese and special guest Joe Howard to the SOTD stage. This is a great lineup and a FREE holiday show!
URL:https://speakofthedevillorain.com/event/old-fashioned-comedy-night-3/
LOCATION:Speak of the Devil\, 201 W 5th St\, Lorain\, OH\, 44052\, United States
ATTACH;FMTTYPE=image/jpeg:https://speakofthedevillorain.com/wp-content/uploads/2024/12/Stand-up-comedy-Event-Cover-Theatre-Show-Ad1.jpg
END:VEVENT
BEGIN:VEVENT
DTSTART;TZID=America/New_York:20241215T130000
DTEND;TZID=America/New_York:20241215T180000
DTSTAMP:20260421T020817
CREATED:20241119T164641Z
LAST-MODIFIED:20241119T164641Z
UID:2516-1734267600-1734285600@speakofthedevillorain.com
SUMMARY:BLACK VULTURE RAMEN BRUNCH
DESCRIPTION:Another delicious ramen brunch courtesy our dear friends at Black Vulture Ramen
URL:https://speakofthedevillorain.com/event/black-vulture-ramen-brunch-4/
LOCATION:Speak of the Devil\, 201 W 5th St\, Lorain\, OH\, 44052\, United States
ATTACH;FMTTYPE=image/jpeg:https://speakofthedevillorain.com/wp-content/uploads/2024/10/Ramen2.jpg
END:VEVENT
BEGIN:VEVENT
DTSTART;TZID=America/New_York:20241214T170000
DTEND;TZID=America/New_York:20241214T235900
DTSTAMP:20260421T020817
CREATED:20241003T204510Z
LAST-MODIFIED:20241003T204510Z
UID:2499-1734195600-1734220740@speakofthedevillorain.com
SUMMARY:SPEAK OF THE DEVIL 7TH ANNIVERSARY PARTY
DESCRIPTION:A 7th Anniversary bar party
URL:https://speakofthedevillorain.com/event/speak-of-the-devil-7th-anniversary-party/
LOCATION:Speak of the Devil\, 201 W 5th St\, Lorain\, OH\, 44052\, United States
ATTACH;FMTTYPE=image/jpeg:https://speakofthedevillorain.com/wp-content/uploads/2024/10/Music-Event-ADS.jpg
END:VEVENT
BEGIN:VEVENT
DTSTART;TZID=America/New_York:20241212T183000
DTEND;TZID=America/New_York:20241212T200000
DTSTAMP:20260421T020817
CREATED:20241003T204348Z
LAST-MODIFIED:20241003T204348Z
UID:2497-1734028200-1734033600@speakofthedevillorain.com
SUMMARY:BOOKS & BREWS:  "FUN HOME: AN AMERICAN TRAGICOMIC" - ALISON BECHDEL
DESCRIPTION:Books & Brews\, our reading group with the Lorain Public Library this month features Alison Bechdel’s “FUN HOME: AN AMERICAN TRAGICOMIC”
URL:https://speakofthedevillorain.com/event/books-brews-fun-home-an-american-tragicomic-alison-bechdel/
LOCATION:Speak of the Devil\, 201 W 5th St\, Lorain\, OH\, 44052\, United States
ATTACH;FMTTYPE=image/jpeg:https://speakofthedevillorain.com/wp-content/uploads/2024/03/429780136_912590617538637_6219091756627812402_n.jpg
END:VEVENT
BEGIN:VEVENT
DTSTART;TZID=America/New_York:20241211T190000
DTEND;TZID=America/New_York:20241211T210000
DTSTAMP:20260421T020817
CREATED:20241003T204152Z
LAST-MODIFIED:20241203T174922Z
UID:2494-1733943600-1733950800@speakofthedevillorain.com
SUMMARY:CHRISTMAS KARAOKE
DESCRIPTION:Tis the season to be the Christmas singing star that you ARE!
URL:https://speakofthedevillorain.com/event/speak-of-the-devil-bar-trivia/
LOCATION:Speak of the Devil\, 201 W 5th St\, Lorain\, OH\, 44052\, United States
ATTACH;FMTTYPE=image/jpeg:https://speakofthedevillorain.com/wp-content/uploads/2024/10/467038449_1100112488786448_365524031883546127_n.jpg
END:VEVENT
BEGIN:VEVENT
DTSTART;TZID=America/New_York:20241210T170000
DTEND;TZID=America/New_York:20241210T220000
DTSTAMP:20260421T020817
CREATED:20241003T204006Z
LAST-MODIFIED:20241203T174707Z
UID:2492-1733850000-1733868000@speakofthedevillorain.com
SUMMARY:TURNTABLE TUESDAY SPECIAL EVENT: INVISIBLE SOUL BOOK SIGNING
DESCRIPTION:We are thrilled to partner with Ship to Shore Books & Music and announce a very special Turntable Tuesday evening! Invisible Soul: Uncovering Cleveland’s Underground Soul Scene with author an Cleveland music journalism legend Carlo Wolff. We will be spinning old Cleveland soul vinyl all night and taking a break at 7pm to discuss Carlo’s book on the subject and hear selected tracks that appear in the book! Afterwards the music continues and copy’s of this terrific tome will be available to purchase and Carlo to sign! This is going to be a great evening of music and discussion.
URL:https://speakofthedevillorain.com/event/turntable-tuesday-11/
LOCATION:Speak of the Devil\, 201 W 5th St\, Lorain\, OH\, 44052\, United States
ATTACH;FMTTYPE=image/jpeg:https://speakofthedevillorain.com/wp-content/uploads/2024/10/465602183_1091501452980885_706883305191632442_n.jpg
END:VEVENT
BEGIN:VEVENT
DTSTART;TZID=America/New_York:20241207T193000
DTEND;TZID=America/New_York:20241207T223000
DTSTAMP:20260421T020817
CREATED:20241003T203806Z
LAST-MODIFIED:20241003T203840Z
UID:2489-1733599800-1733610600@speakofthedevillorain.com
SUMMARY:DJ KUNG FU BOB SPEHAR
DESCRIPTION:The one\, the only DJ Kung Fu Bob Spehar gives us his very own special night of weird and wild holiday music (and other surprises)
URL:https://speakofthedevillorain.com/event/dj-kung-fu-bob-spehar/
LOCATION:Speak of the Devil\, 201 W 5th St\, Lorain\, OH\, 44052\, United States
ATTACH;FMTTYPE=image/jpeg:https://speakofthedevillorain.com/wp-content/uploads/2024/10/Black-Maximalist-Juneteenth-Banner-Facebook2.jpg
END:VEVENT
BEGIN:VEVENT
DTSTART;TZID=America/New_York:20241205T170000
DTEND;TZID=America/New_York:20241205T230000
DTSTAMP:20260421T020817
CREATED:20241003T203731Z
LAST-MODIFIED:20241003T203731Z
UID:2486-1733418000-1733439600@speakofthedevillorain.com
SUMMARY:REPEAL DAY PARTY
DESCRIPTION:Celebrate the repeal of prohibition with us!
URL:https://speakofthedevillorain.com/event/repeal-day-party/
LOCATION:Speak of the Devil\, 201 W 5th St\, Lorain\, OH\, 44052\, United States
ATTACH;FMTTYPE=image/jpeg:https://speakofthedevillorain.com/wp-content/uploads/2024/10/Virtual-Trivia-Night-Facebook-Post-Template.jpg
END:VEVENT
BEGIN:VEVENT
DTSTART;TZID=America/New_York:20241204T170000
DTEND;TZID=America/New_York:20241204T220000
DTSTAMP:20260421T020817
CREATED:20241119T164516Z
LAST-MODIFIED:20241119T164712Z
UID:2513-1733331600-1733349600@speakofthedevillorain.com
SUMMARY:OYSTERS BY EDACIOUS
DESCRIPTION:Our good friends from the kitchen at Edacious Kitchen & Bar serve up savory oysters!
URL:https://speakofthedevillorain.com/event/oysters-by-edacious/
LOCATION:Speak of the Devil\, 201 W 5th St\, Lorain\, OH\, 44052\, United States
ATTACH;FMTTYPE=image/jpeg:https://speakofthedevillorain.com/wp-content/uploads/2024/11/Copy-of-of-templates-flyer-poster-astrology-e.jpg
END:VEVENT
BEGIN:VEVENT
DTSTART;TZID=America/New_York:20241130T193000
DTEND;TZID=America/New_York:20241130T223000
DTSTAMP:20260421T020817
CREATED:20241003T203529Z
LAST-MODIFIED:20241003T203529Z
UID:2483-1732995000-1733005800@speakofthedevillorain.com
SUMMARY:MIKE PETRONE
DESCRIPTION:Mike Petrone and his legendary Christmas singalong night!
URL:https://speakofthedevillorain.com/event/mike-petrone-6/
LOCATION:Speak of the Devil\, 201 W 5th St\, Lorain\, OH\, 44052\, United States
ATTACH;FMTTYPE=image/jpeg:https://speakofthedevillorain.com/wp-content/uploads/2024/10/JAZZ-BANNER.jpg
END:VEVENT
BEGIN:VEVENT
DTSTART;TZID=America/New_York:20241130T170000
DTEND;TZID=America/New_York:20241130T235900
DTSTAMP:20260421T020817
CREATED:20241003T203427Z
LAST-MODIFIED:20241003T203427Z
UID:2480-1732986000-1733011140@speakofthedevillorain.com
SUMMARY:NOG & GLOGG
DESCRIPTION:Our 11th Annual Nog & Glogg Weekend!
URL:https://speakofthedevillorain.com/event/nog-glogg-4/
LOCATION:Speak of the Devil\, 201 W 5th St\, Lorain\, OH\, 44052\, United States
ATTACH;FMTTYPE=image/jpeg:https://speakofthedevillorain.com/wp-content/uploads/2024/10/Business-Facebook-Cover-1.jpg
END:VEVENT
BEGIN:VEVENT
DTSTART;TZID=America/New_York:20241129T170000
DTEND;TZID=America/New_York:20241129T235900
DTSTAMP:20260421T020817
CREATED:20241003T203336Z
LAST-MODIFIED:20241003T203336Z
UID:2477-1732899600-1732924740@speakofthedevillorain.com
SUMMARY:NOG & GLOGG
DESCRIPTION:Our 11th Annual Nog & Glogg Weekend!
URL:https://speakofthedevillorain.com/event/nog-glogg-3/
LOCATION:Speak of the Devil\, 201 W 5th St\, Lorain\, OH\, 44052\, United States
ATTACH;FMTTYPE=image/jpeg:https://speakofthedevillorain.com/wp-content/uploads/2024/10/Business-Facebook-Cover.jpg
END:VEVENT
BEGIN:VEVENT
DTSTART;TZID=America/New_York:20241127T170000
DTEND;TZID=America/New_York:20241127T220000
DTSTAMP:20260421T020817
CREATED:20241003T203226Z
LAST-MODIFIED:20241003T203226Z
UID:2473-1732726800-1732744800@speakofthedevillorain.com
SUMMARY:TURKEY BEFORE THANKSGIVING
DESCRIPTION:Get your turkey early with us! Cocktails gone to the birds! Our annual Thanksgiving Eve
URL:https://speakofthedevillorain.com/event/turkey-before-thanksgiving/
LOCATION:Speak of the Devil\, 201 W 5th St\, Lorain\, OH\, 44052\, United States
ATTACH;FMTTYPE=image/jpeg:https://speakofthedevillorain.com/wp-content/uploads/2024/10/Forever-Thankful-Thanksgiving-template.jpg
END:VEVENT
BEGIN:VEVENT
DTSTART;TZID=America/New_York:20241123T193000
DTEND;TZID=America/New_York:20241123T223000
DTSTAMP:20260421T020817
CREATED:20241003T203056Z
LAST-MODIFIED:20241003T203056Z
UID:2470-1732390200-1732401000@speakofthedevillorain.com
SUMMARY:ALLEN STUART HELTZEL
DESCRIPTION:Pianist and all around renaissance man Allen Heltzel plays the SOTD stage!
URL:https://speakofthedevillorain.com/event/allen-stuart-heltzel/
LOCATION:Speak of the Devil\, 201 W 5th St\, Lorain\, OH\, 44052\, United States
ATTACH;FMTTYPE=image/jpeg:https://speakofthedevillorain.com/wp-content/uploads/2024/10/Online-Music-Show-Facebook-Shared-Image.jpg
END:VEVENT
END:VCALENDAR