BEGIN:VCALENDAR
VERSION:2.0
PRODID:-// - ECPv6.15.20//NONSGML v1.0//EN
CALSCALE:GREGORIAN
METHOD:PUBLISH
X-ORIGINAL-URL:https://speakofthedevillorain.com
X-WR-CALDESC:Events for 
REFRESH-INTERVAL;VALUE=DURATION:PT1H
X-Robots-Tag:noindex
X-PUBLISHED-TTL:PT1H
BEGIN:VTIMEZONE
TZID:America/New_York
BEGIN:DAYLIGHT
TZOFFSETFROM:-0500
TZOFFSETTO:-0400
TZNAME:EDT
DTSTART:20230312T070000
END:DAYLIGHT
BEGIN:STANDARD
TZOFFSETFROM:-0400
TZOFFSETTO:-0500
TZNAME:EST
DTSTART:20231105T060000
END:STANDARD
BEGIN:DAYLIGHT
TZOFFSETFROM:-0500
TZOFFSETTO:-0400
TZNAME:EDT
DTSTART:20240310T070000
END:DAYLIGHT
BEGIN:STANDARD
TZOFFSETFROM:-0400
TZOFFSETTO:-0500
TZNAME:EST
DTSTART:20241103T060000
END:STANDARD
BEGIN:DAYLIGHT
TZOFFSETFROM:-0500
TZOFFSETTO:-0400
TZNAME:EDT
DTSTART:20250309T070000
END:DAYLIGHT
BEGIN:STANDARD
TZOFFSETFROM:-0400
TZOFFSETTO:-0500
TZNAME:EST
DTSTART:20251102T060000
END:STANDARD
END:VTIMEZONE
BEGIN:VEVENT
DTSTART;TZID=America/New_York:20240926T050000
DTEND;TZID=America/New_York:20240926T223000
DTSTAMP:20260421T065356
CREATED:20240815T175924Z
LAST-MODIFIED:20240815T175924Z
UID:2424-1727326800-1727389800@speakofthedevillorain.com
SUMMARY:SUMMER SMOKE
DESCRIPTION:Our last summer cigar smoke of the year!
URL:https://speakofthedevillorain.com/event/summer-smoke-5/
LOCATION:Speak of the Devil\, 201 W 5th St\, Lorain\, OH\, 44052\, United States
ATTACH;FMTTYPE=image/jpeg:https://speakofthedevillorain.com/wp-content/uploads/2024/05/Cigar1.jpg
END:VEVENT
BEGIN:VEVENT
DTSTART;TZID=America/New_York:20240919T190000
DTEND;TZID=America/New_York:20240919T220000
DTSTAMP:20260421T065356
CREATED:20240815T174435Z
LAST-MODIFIED:20240815T175030Z
UID:2407-1726772400-1726783200@speakofthedevillorain.com
SUMMARY:CHRIS HATTON
DESCRIPTION:Third Thursday with Chris Hatton in Lorain – it’s a thing!
URL:https://speakofthedevillorain.com/event/chris-hatton-2/
LOCATION:Speak of the Devil\, 201 W 5th St\, Lorain\, OH\, 44052\, United States
ATTACH;FMTTYPE=image/jpeg:https://speakofthedevillorain.com/wp-content/uploads/2024/08/MUSIC-EVENT-BANNER2.jpg
END:VEVENT
BEGIN:VEVENT
DTSTART;TZID=America/New_York:20240918T050000
DTEND;TZID=America/New_York:20240918T200000
DTSTAMP:20260421T065356
CREATED:20240815T174327Z
LAST-MODIFIED:20240815T174327Z
UID:2404-1726635600-1726689600@speakofthedevillorain.com
SUMMARY:THE NAME GAME
DESCRIPTION:We have a new menu coming out. Each of our bartenders has a menu ready cocktail but none of them can come up with a name for their drink! We will be serving you a sample flight of the three cocktails and will be letting you name each one! At 8pm our guys will choose their favorite name and you will have named a drink (or\, if your good\, two or three!) on our next menu!
URL:https://speakofthedevillorain.com/event/the-name-game/
LOCATION:Speak of the Devil\, 201 W 5th St\, Lorain\, OH\, 44052\, United States
ATTACH;FMTTYPE=image/jpeg:https://speakofthedevillorain.com/wp-content/uploads/2024/08/Facebook-Event-Cover.jpg
END:VEVENT
BEGIN:VEVENT
DTSTART;TZID=America/New_York:20240915T130000
DTEND;TZID=America/New_York:20240915T180000
DTSTAMP:20260421T065356
CREATED:20240902T165510Z
LAST-MODIFIED:20240902T165653Z
UID:2440-1726405200-1726423200@speakofthedevillorain.com
SUMMARY:BLACK VULTURE RAMEN BRUNCH
DESCRIPTION:Black Vulture Ramen hosts another brunch pop up
URL:https://speakofthedevillorain.com/event/black-vulture-ramen-brunch-2/
LOCATION:Speak of the Devil\, 201 W 5th St\, Lorain\, OH\, 44052\, United States
ATTACH;FMTTYPE=image/jpeg:https://speakofthedevillorain.com/wp-content/uploads/2024/09/Ramen1.jpg
END:VEVENT
BEGIN:VEVENT
DTSTART;TZID=America/New_York:20240914T193000
DTEND;TZID=America/New_York:20240914T223000
DTSTAMP:20260421T065356
CREATED:20240815T174224Z
LAST-MODIFIED:20240815T174224Z
UID:2401-1726342200-1726353000@speakofthedevillorain.com
SUMMARY:ANTHONY SCROFANO
DESCRIPTION:Anthony Scrofano returns!
URL:https://speakofthedevillorain.com/event/anthony-scrofano-12/
LOCATION:Speak of the Devil\, 201 W 5th St\, Lorain\, OH\, 44052\, United States
ATTACH;FMTTYPE=image/jpeg:https://speakofthedevillorain.com/wp-content/uploads/2024/08/Dylan.jpg
END:VEVENT
BEGIN:VEVENT
DTSTART;TZID=America/New_York:20240912T183000
DTEND;TZID=America/New_York:20240912T200000
DTSTAMP:20260421T065356
CREATED:20240815T174022Z
LAST-MODIFIED:20240815T174022Z
UID:2399-1726165800-1726171200@speakofthedevillorain.com
SUMMARY:BOOKS & BREWS
DESCRIPTION:Drop in and hang out with the Lorain Public Library’s Books & Brews club! This month we discuss “Demon Copperhead” by Barbara Kingsolver
URL:https://speakofthedevillorain.com/event/books-brews-15/
LOCATION:Speak of the Devil\, 201 W 5th St\, Lorain\, OH\, 44052\, United States
ATTACH;FMTTYPE=image/jpeg:https://speakofthedevillorain.com/wp-content/uploads/2024/03/429780136_912590617538637_6219091756627812402_n.jpg
END:VEVENT
BEGIN:VEVENT
DTSTART;TZID=America/New_York:20240910T170000
DTEND;TZID=America/New_York:20240910T220000
DTSTAMP:20260421T065356
CREATED:20240815T173743Z
LAST-MODIFIED:20240815T173743Z
UID:2397-1725987600-1726005600@speakofthedevillorain.com
SUMMARY:TURNTABLE TUESDAY
DESCRIPTION:Join SOTD and Ship to Shore Books and Music as we spin vinyl all night! Bring your favorite record and we’ll spin it or choose from our curated collection of old LP’s!
URL:https://speakofthedevillorain.com/event/turntable-tuesday-8/
LOCATION:Speak of the Devil\, 201 W 5th St\, Lorain\, OH\, 44052\, United States
ATTACH;FMTTYPE=image/jpeg:https://speakofthedevillorain.com/wp-content/uploads/2024/03/Turntable-2.jpg
END:VEVENT
BEGIN:VEVENT
DTSTART;TZID=America/New_York:20240831T193000
DTEND;TZID=America/New_York:20240831T223000
DTSTAMP:20260421T065356
CREATED:20240730T175458Z
LAST-MODIFIED:20240730T175458Z
UID:2391-1725132600-1725143400@speakofthedevillorain.com
SUMMARY:DJ MAX PAYOLA
DESCRIPTION:DJ Max Payola returns to dig up deep vinyl grooves for the evening!
URL:https://speakofthedevillorain.com/event/dj-max-payola-2/
LOCATION:Speak of the Devil\, 201 W 5th St\, Lorain\, OH\, 44052\, United States
ATTACH;FMTTYPE=image/jpeg:https://speakofthedevillorain.com/wp-content/uploads/2024/07/558.jpg
END:VEVENT
BEGIN:VEVENT
DTSTART;TZID=America/New_York:20240829T170000
DTEND;TZID=America/New_York:20240829T230000
DTSTAMP:20260421T065356
CREATED:20240513T204903Z
LAST-MODIFIED:20240513T204926Z
UID:2331-1724950800-1724972400@speakofthedevillorain.com
SUMMARY:SUMMER SMOKE
DESCRIPTION:Crafted cocktails and hand rolled cigars on our patio.
URL:https://speakofthedevillorain.com/event/summer-smoke-4/
LOCATION:Speak of the Devil\, 201 W 5th St\, Lorain\, OH\, 44052\, United States
ATTACH;FMTTYPE=image/jpeg:https://speakofthedevillorain.com/wp-content/uploads/2024/05/Cigar1.jpg
END:VEVENT
BEGIN:VEVENT
DTSTART;TZID=America/New_York:20240827T190000
DTEND;TZID=America/New_York:20240827T210000
DTSTAMP:20260421T065356
CREATED:20240730T175342Z
LAST-MODIFIED:20240730T175342Z
UID:2388-1724785200-1724792400@speakofthedevillorain.com
SUMMARY:HEAVEN HILL RARITIES TASTING
DESCRIPTION:A grand slam of Heaven Hill had to gets: Parker’s Heritage 10 Year Rye Cask Strength\, Heaven Hill Distillery Select Stock\, Evan Williams 12 Year\, and a vintage Rittenhouse Bottled-in-Bond Rye. The evening includes a welcome cocktail\, light apps and tasting pours.
URL:https://speakofthedevillorain.com/event/heaven-hill-rarities-tasting/
LOCATION:Speak of the Devil\, 201 W 5th St\, Lorain\, OH\, 44052\, United States
ATTACH;FMTTYPE=image/jpeg:https://speakofthedevillorain.com/wp-content/uploads/2024/07/Black-History-Month-MLK-day-template-design.jpg
END:VEVENT
BEGIN:VEVENT
DTSTART;TZID=America/New_York:20240824T193000
DTEND;TZID=America/New_York:20240824T223000
DTSTAMP:20260421T065356
CREATED:20240707T153150Z
LAST-MODIFIED:20240707T153150Z
UID:2380-1724527800-1724538600@speakofthedevillorain.com
SUMMARY:DJ KUNG FU BOB
DESCRIPTION:DJ Kung Fu Bob Spehar rolls into Lorain to spin the sounds of the legendary Euclid Tavern
URL:https://speakofthedevillorain.com/event/dj-kung-fu-bob/
LOCATION:Speak of the Devil\, 201 W 5th St\, Lorain\, OH\, 44052\, United States
ATTACH;FMTTYPE=image/jpeg:https://speakofthedevillorain.com/wp-content/uploads/2024/07/Black-Maximalist-Juneteenth-Banner-Facebook1.jpg
END:VEVENT
BEGIN:VEVENT
DTSTART;TZID=America/New_York:20240818T140000
DTEND;TZID=America/New_York:20240818T190000
DTSTAMP:20260421T065356
CREATED:20240415T171331Z
LAST-MODIFIED:20240415T171517Z
UID:2298-1723989600-1724007600@speakofthedevillorain.com
SUMMARY:RAMEN BRUNCH WITH BLACK VULTURE RAMEN
DESCRIPTION:A late summer noodle brunch from Black Vulture Ramen
URL:https://speakofthedevillorain.com/event/ramen-brunch-with-black-vulture-ramen-9/
LOCATION:Speak of the Devil\, 201 W 5th St\, Lorain\, OH\, 44052\, United States
ATTACH;FMTTYPE=image/jpeg:https://speakofthedevillorain.com/wp-content/uploads/2024/04/Ramen.jpg
END:VEVENT
BEGIN:VEVENT
DTSTART;TZID=America/New_York:20240817T193000
DTEND;TZID=America/New_York:20240817T223000
DTSTAMP:20260421T065356
CREATED:20240707T153012Z
LAST-MODIFIED:20240707T153012Z
UID:2377-1723923000-1723933800@speakofthedevillorain.com
SUMMARY:JOE HALL
DESCRIPTION:Joe Hall returns!
URL:https://speakofthedevillorain.com/event/joe-hall-7/
LOCATION:Speak of the Devil\, 201 W 5th St\, Lorain\, OH\, 44052\, United States
ATTACH;FMTTYPE=image/jpeg:https://speakofthedevillorain.com/wp-content/uploads/2024/07/Guitar-Event-Facebook-Cover-Template.jpg
END:VEVENT
BEGIN:VEVENT
DTSTART;TZID=America/New_York:20240813T170000
DTEND;TZID=America/New_York:20240813T220000
DTSTAMP:20260421T065356
CREATED:20240513T205600Z
LAST-MODIFIED:20240513T205600Z
UID:2337-1723568400-1723586400@speakofthedevillorain.com
SUMMARY:TURNTABLE TUESDAY
DESCRIPTION:Analog nerds – bring your own side of vinyl or choose from our curated collection – its turntable Tuesday at SOTD!
URL:https://speakofthedevillorain.com/event/turntable-tuesday-7/
LOCATION:Speak of the Devil\, 201 W 5th St\, Lorain\, OH\, 44052\, United States
ATTACH;FMTTYPE=image/jpeg:https://speakofthedevillorain.com/wp-content/uploads/2024/03/Turntable-2.jpg
END:VEVENT
BEGIN:VEVENT
DTSTART;TZID=America/New_York:20240810T193000
DTEND;TZID=America/New_York:20240810T223000
DTSTAMP:20260421T065356
CREATED:20240707T152922Z
LAST-MODIFIED:20240707T152922Z
UID:2374-1723318200-1723329000@speakofthedevillorain.com
SUMMARY:HAPPY BIRTHDAY HIP HOP
DESCRIPTION:DJ D. Grind spins us through Hip Hop history as we celebrate this American art forms 51st birthday
URL:https://speakofthedevillorain.com/event/happy-birthday-hip-hop/
LOCATION:Speak of the Devil\, 201 W 5th St\, Lorain\, OH\, 44052\, United States
ATTACH;FMTTYPE=image/jpeg:https://speakofthedevillorain.com/wp-content/uploads/2024/07/save-the-date.jpg
END:VEVENT
BEGIN:VEVENT
DTSTART;TZID=America/New_York:20240808T183000
DTEND;TZID=America/New_York:20240808T200000
DTSTAMP:20260421T065356
CREATED:20240513T204755Z
LAST-MODIFIED:20240513T204755Z
UID:2329-1723141800-1723147200@speakofthedevillorain.com
SUMMARY:BOOKS & BREWS: A FEVER IN THE HEARTLAND
DESCRIPTION:This month – “A Fever in the Heartland: The Ku Klux Klan’s Plot to Take Over America\, and the Woman Who Stopped Them” by Timothy Egan
URL:https://speakofthedevillorain.com/event/books-brews-a-fever-in-the-heartland/
LOCATION:Speak of the Devil\, 201 W 5th St\, Lorain\, OH\, 44052\, United States
ATTACH;FMTTYPE=image/jpeg:https://speakofthedevillorain.com/wp-content/uploads/2024/03/429780136_912590617538637_6219091756627812402_n.jpg
END:VEVENT
BEGIN:VEVENT
DTSTART;TZID=America/New_York:20240805T170000
DTEND;TZID=America/New_York:20240805T210000
DTSTAMP:20260421T065356
CREATED:20240707T152738Z
LAST-MODIFIED:20240707T153435Z
UID:2370-1722877200-1722891600@speakofthedevillorain.com
SUMMARY:HIGHBALLS & HOT DOGS AT NEVER SAY DIVE
DESCRIPTION:We head east to takeover the bar at Never Say Dive for an evening of old school highballs and hot dogs by FrankieLynn!
URL:https://speakofthedevillorain.com/event/highballs-hot-dogs-at-never-say-dive/
LOCATION:Never Say Dive\, 4497 Broadview Rd\, Cleveland\, OH\, 44109\, United States
ATTACH;FMTTYPE=image/jpeg:https://speakofthedevillorain.com/wp-content/uploads/2024/07/hot-dog.jpg
END:VEVENT
BEGIN:VEVENT
DTSTART;TZID=America/New_York:20240801T193000
DTEND;TZID=America/New_York:20240801T223000
DTSTAMP:20260421T065356
CREATED:20240707T152410Z
LAST-MODIFIED:20240707T152410Z
UID:2367-1722540600-1722551400@speakofthedevillorain.com
SUMMARY:CHRIS HATTON
DESCRIPTION:Thursday’s in Lorain and Chris Hatton go together like peanut butter and jelly…it’s a thing
URL:https://speakofthedevillorain.com/event/chris-hatton/
LOCATION:Speak of the Devil\, 201 W 5th St\, Lorain\, OH\, 44052\, United States
ATTACH;FMTTYPE=image/jpeg:https://speakofthedevillorain.com/wp-content/uploads/2024/07/MUSIC-EVENT-BANNER1.jpg
END:VEVENT
BEGIN:VEVENT
DTSTART;TZID=America/New_York:20240728T140000
DTEND;TZID=America/New_York:20240728T190000
DTSTAMP:20260421T065356
CREATED:20240513T210700Z
LAST-MODIFIED:20240513T210700Z
UID:2341-1722175200-1722193200@speakofthedevillorain.com
SUMMARY:DUNGEONS & DRAGONS
DESCRIPTION:Game time at Speak of the Devil
URL:https://speakofthedevillorain.com/event/dungeons-dragons-7/
LOCATION:Speak of the Devil\, 201 W 5th St\, Lorain\, OH\, 44052\, United States
ATTACH;FMTTYPE=image/jpeg:https://speakofthedevillorain.com/wp-content/uploads/2024/04/CHURCH-LIVE-ONLINE-SERMON-TEMPLATE1.jpg
END:VEVENT
BEGIN:VEVENT
DTSTART;TZID=America/New_York:20240727T193000
DTEND;TZID=America/New_York:20240727T223000
DTSTAMP:20260421T065356
CREATED:20240707T152114Z
LAST-MODIFIED:20240707T152149Z
UID:2363-1722108600-1722119400@speakofthedevillorain.com
SUMMARY:GABI ALLEMANA & TIM PICARD
DESCRIPTION:A night of classic jazz singing and guitar with two up and coming talents!
URL:https://speakofthedevillorain.com/event/gabi-alemanna-tim-picard/
LOCATION:Speak of the Devil\, 201 W 5th St\, Lorain\, OH\, 44052\, United States
ATTACH;FMTTYPE=image/jpeg:https://speakofthedevillorain.com/wp-content/uploads/2024/07/Happy-National-Candy-Day-Free-Greeting-card.jpg
END:VEVENT
BEGIN:VEVENT
DTSTART;TZID=America/New_York:20240725T170000
DTEND;TZID=America/New_York:20240725T230000
DTSTAMP:20260421T065356
CREATED:20240513T204340Z
LAST-MODIFIED:20240513T204417Z
UID:2327-1721926800-1721948400@speakofthedevillorain.com
SUMMARY:SUMMER SMOKE
DESCRIPTION:Hand rolled cigars and crafted cocktails on our patio.
URL:https://speakofthedevillorain.com/event/summer-smoke-3/
LOCATION:Speak of the Devil\, 201 W 5th St\, Lorain\, OH\, 44052\, United States
ATTACH;FMTTYPE=image/jpeg:https://speakofthedevillorain.com/wp-content/uploads/2024/05/Cigar1.jpg
END:VEVENT
BEGIN:VEVENT
DTSTART;TZID=America/New_York:20240721T140000
DTEND;TZID=America/New_York:20240721T190000
DTSTAMP:20260421T065356
CREATED:20240513T210626Z
LAST-MODIFIED:20240513T210626Z
UID:2339-1721570400-1721588400@speakofthedevillorain.com
SUMMARY:DUNGEONS & DRAGONS
DESCRIPTION:Game time at Speak of the Devil
URL:https://speakofthedevillorain.com/event/dungeons-dragons-6/
LOCATION:Speak of the Devil\, 201 W 5th St\, Lorain\, OH\, 44052\, United States
ATTACH;FMTTYPE=image/jpeg:https://speakofthedevillorain.com/wp-content/uploads/2024/04/CHURCH-LIVE-ONLINE-SERMON-TEMPLATE1.jpg
END:VEVENT
BEGIN:VEVENT
DTSTART;TZID=America/New_York:20240719T180000
DTEND;TZID=America/New_York:20240719T235900
DTSTAMP:20260421T065356
CREATED:20240707T151904Z
LAST-MODIFIED:20240707T151904Z
UID:2360-1721412000-1721433540@speakofthedevillorain.com
SUMMARY:WASTED WORDS BOOK NOOK
DESCRIPTION:Wasted Words mobile Book Nook will be parked outside of SOTD for a night of cocktails and book browsing!
URL:https://speakofthedevillorain.com/event/wasted-words-book-nook/
LOCATION:Speak of the Devil\, 201 W 5th St\, Lorain\, OH\, 44052\, United States
ATTACH;FMTTYPE=image/jpeg:https://speakofthedevillorain.com/wp-content/uploads/2024/07/Black-Maximalist-Juneteenth-Banner-Facebook2.jpg
END:VEVENT
BEGIN:VEVENT
DTSTART;TZID=America/New_York:20240716T190000
DTEND;TZID=America/New_York:20240716T210000
DTSTAMP:20260421T065356
CREATED:20240707T151504Z
LAST-MODIFIED:20240707T151504Z
UID:2357-1721156400-1721163600@speakofthedevillorain.com
SUMMARY:MEZCAL TASTING & EDUCATION
DESCRIPTION:Join us as we explore the oft misunderstood world of Mezcal
URL:https://speakofthedevillorain.com/event/mezcal-tasting-education/
LOCATION:Speak of the Devil\, 201 W 5th St\, Lorain\, OH\, 44052\, United States
ATTACH;FMTTYPE=image/jpeg:https://speakofthedevillorain.com/wp-content/uploads/2024/07/4th-of-July-Banner1.jpg
END:VEVENT
BEGIN:VEVENT
DTSTART;TZID=America/New_York:20240714T140000
DTEND;TZID=America/New_York:20240714T190000
DTSTAMP:20260421T065356
CREATED:20240415T171233Z
LAST-MODIFIED:20240415T171233Z
UID:2296-1720965600-1720983600@speakofthedevillorain.com
SUMMARY:RAMEN BRUNCH WITH BLACK VULTURE RAMEN
DESCRIPTION:Summer noodlefest!
URL:https://speakofthedevillorain.com/event/ramen-brunch-with-black-vulture-ramen-8/
LOCATION:Speak of the Devil\, 201 W 5th St\, Lorain\, OH\, 44052\, United States
ATTACH;FMTTYPE=image/jpeg:https://speakofthedevillorain.com/wp-content/uploads/2024/04/Ramen.jpg
END:VEVENT
BEGIN:VEVENT
DTSTART;TZID=America/New_York:20240711T183000
DTEND;TZID=America/New_York:20240711T200000
DTSTAMP:20260421T065356
CREATED:20240513T204056Z
LAST-MODIFIED:20240513T204056Z
UID:2325-1720722600-1720728000@speakofthedevillorain.com
SUMMARY:BOOKS & BREWS: DEVIL IN A BLUE DRESS
DESCRIPTION:Our library book discussion group meet to talk about “Devil in a Blue Dress” by Walter Mosley
URL:https://speakofthedevillorain.com/event/books-brews-devil-in-a-blue-dress/
LOCATION:Speak of the Devil\, 201 W 5th St\, Lorain\, OH\, 44052\, United States
ATTACH;FMTTYPE=image/jpeg:https://speakofthedevillorain.com/wp-content/uploads/2024/03/429780136_912590617538637_6219091756627812402_n.jpg
END:VEVENT
BEGIN:VEVENT
DTSTART;TZID=America/New_York:20240709T170000
DTEND;TZID=America/New_York:20240709T220000
DTSTAMP:20260421T065356
CREATED:20240513T205430Z
LAST-MODIFIED:20240513T205528Z
UID:2335-1720544400-1720562400@speakofthedevillorain.com
SUMMARY:TURNTABLE TUESDAY
DESCRIPTION:Analog nerds – bring your own side of vinyl or choose from our curated collection – its turntable Tuesday at SOTD!
URL:https://speakofthedevillorain.com/event/turntable-tuesday-6/
LOCATION:Speak of the Devil\, 201 W 5th St\, Lorain\, OH\, 44052\, United States
ATTACH;FMTTYPE=image/jpeg:https://speakofthedevillorain.com/wp-content/uploads/2024/03/Turntable-2.jpg
END:VEVENT
BEGIN:VEVENT
DTSTART;TZID=America/New_York:20240630T140000
DTEND;TZID=America/New_York:20240630T190000
DTSTAMP:20260421T065356
CREATED:20240307T203419Z
LAST-MODIFIED:20240307T203419Z
UID:2263-1719756000-1719774000@speakofthedevillorain.com
SUMMARY:ICE CREAM COCKTAIL SOCIAL
DESCRIPTION:Our first ever ice cream cocktail social featuring 5 delightful ice cream cocktails: Pink Squirrel\, Grasshopper\, Rum Alexander\, Orange Julius and Pina Colada
URL:https://speakofthedevillorain.com/event/ice-cream-cocktail-social/
LOCATION:Speak of the Devil\, 201 W 5th St\, Lorain\, OH\, 44052\, United States
ATTACH;FMTTYPE=image/jpeg:https://speakofthedevillorain.com/wp-content/uploads/2024/03/ICE-CREAM-PARTY-BANNER.jpg
END:VEVENT
BEGIN:VEVENT
DTSTART;TZID=America/New_York:20240627T170000
DTEND;TZID=America/New_York:20240627T230000
DTSTAMP:20260421T065356
CREATED:20240513T203731Z
LAST-MODIFIED:20240513T203851Z
UID:2322-1719507600-1719529200@speakofthedevillorain.com
SUMMARY:SUMMER SMOKE
DESCRIPTION:Hand rolled cigars and crafted cocktails on the patio.
URL:https://speakofthedevillorain.com/event/summer-smoke-2/
LOCATION:Speak of the Devil\, 201 W 5th St\, Lorain\, OH\, 44052\, United States
ATTACH;FMTTYPE=image/jpeg:https://speakofthedevillorain.com/wp-content/uploads/2024/05/Cigar1.jpg
END:VEVENT
BEGIN:VEVENT
DTSTART;TZID=America/New_York:20240623T140000
DTEND;TZID=America/New_York:20240623T190000
DTSTAMP:20260421T065356
CREATED:20240513T203637Z
LAST-MODIFIED:20240513T203637Z
UID:2320-1719151200-1719169200@speakofthedevillorain.com
SUMMARY:DUNGEONS & DRAGONS
DESCRIPTION:Game day at Speak of the Devil
URL:https://speakofthedevillorain.com/event/dungeons-dragons-5/
LOCATION:Speak of the Devil\, 201 W 5th St\, Lorain\, OH\, 44052\, United States
ATTACH;FMTTYPE=image/jpeg:https://speakofthedevillorain.com/wp-content/uploads/2024/04/CHURCH-LIVE-ONLINE-SERMON-TEMPLATE1.jpg
END:VEVENT
END:VCALENDAR