BEGIN:VCALENDAR
VERSION:2.0
PRODID:-// - ECPv6.15.20//NONSGML v1.0//EN
CALSCALE:GREGORIAN
METHOD:PUBLISH
X-ORIGINAL-URL:https://speakofthedevillorain.com
X-WR-CALDESC:Events for 
REFRESH-INTERVAL;VALUE=DURATION:PT1H
X-Robots-Tag:noindex
X-PUBLISHED-TTL:PT1H
BEGIN:VTIMEZONE
TZID:America/New_York
BEGIN:DAYLIGHT
TZOFFSETFROM:-0500
TZOFFSETTO:-0400
TZNAME:EDT
DTSTART:20240310T070000
END:DAYLIGHT
BEGIN:STANDARD
TZOFFSETFROM:-0400
TZOFFSETTO:-0500
TZNAME:EST
DTSTART:20241103T060000
END:STANDARD
BEGIN:DAYLIGHT
TZOFFSETFROM:-0500
TZOFFSETTO:-0400
TZNAME:EDT
DTSTART:20250309T070000
END:DAYLIGHT
BEGIN:STANDARD
TZOFFSETFROM:-0400
TZOFFSETTO:-0500
TZNAME:EST
DTSTART:20251102T060000
END:STANDARD
BEGIN:DAYLIGHT
TZOFFSETFROM:-0500
TZOFFSETTO:-0400
TZNAME:EDT
DTSTART:20260308T070000
END:DAYLIGHT
BEGIN:STANDARD
TZOFFSETFROM:-0400
TZOFFSETTO:-0500
TZNAME:EST
DTSTART:20261101T060000
END:STANDARD
END:VTIMEZONE
BEGIN:VEVENT
DTSTART;TZID=America/New_York:20250715T170000
DTEND;TZID=America/New_York:20250715T220000
DTSTAMP:20260420T223557
CREATED:20250702T134032Z
LAST-MODIFIED:20250702T134032Z
UID:2735-1752598800-1752616800@speakofthedevillorain.com
SUMMARY:TURNTABLE TUESDAY
DESCRIPTION:Another vinyl nerd night! Join us and our friends from Ship to Shore Books & Music as we set up the turntable and let you pick or play the platters of your choosing! Also\, S2S has a pop up shop under the chandelier for you to peruse and purchase books and music!
URL:https://speakofthedevillorain.com/event/turntable-tuesday-18/
LOCATION:Speak of the Devil\, 201 W 5th St\, Lorain\, OH\, 44052\, United States
ATTACH;FMTTYPE=image/jpeg:https://speakofthedevillorain.com/wp-content/uploads/2025/02/MARATHON-BANNER.jpg
END:VEVENT
BEGIN:VEVENT
DTSTART;TZID=America/New_York:20250717T183000
DTEND;TZID=America/New_York:20250717T200000
DTSTAMP:20260420T223557
CREATED:20250702T134146Z
LAST-MODIFIED:20250702T134146Z
UID:2737-1752777000-1752782400@speakofthedevillorain.com
SUMMARY:BOOKS & BREWS
DESCRIPTION:Join us and the Lorain Public Library for Books & Brews! This months discussion: “The Great Gatsby” by F. Scott Fitzgerald!
URL:https://speakofthedevillorain.com/event/books-brews-23/
LOCATION:Speak of the Devil\, 201 W 5th St\, Lorain\, OH\, 44052\, United States
ATTACH;FMTTYPE=image/jpeg:https://speakofthedevillorain.com/wp-content/uploads/2024/03/429780136_912590617538637_6219091756627812402_n.jpg
END:VEVENT
BEGIN:VEVENT
DTSTART;TZID=America/New_York:20250724T170000
DTEND;TZID=America/New_York:20250724T230000
DTSTAMP:20260420T223557
CREATED:20250702T134242Z
LAST-MODIFIED:20250702T134242Z
UID:2739-1753376400-1753398000@speakofthedevillorain.com
SUMMARY:SUMMER SMOKE
DESCRIPTION:Hand rolled cigars and summer vibes on our patio all night!
URL:https://speakofthedevillorain.com/event/summer-smoke-8/
LOCATION:Speak of the Devil\, 201 W 5th St\, Lorain\, OH\, 44052\, United States
ATTACH;FMTTYPE=image/jpeg:https://speakofthedevillorain.com/wp-content/uploads/2025/04/Cigar.jpg
END:VEVENT
BEGIN:VEVENT
DTSTART;TZID=America/New_York:20250730T050000
DTEND;TZID=America/New_York:20250730T210000
DTSTAMP:20260420T223557
CREATED:20250702T134358Z
LAST-MODIFIED:20250702T134358Z
UID:2741-1753851600-1753909200@speakofthedevillorain.com
SUMMARY:LOBSTER ROLLS BY EDACIOUS
DESCRIPTION:Our friends from Edacious will be back in our kitchen rolling out absolutely amazing hot and cold lobster rolls (as well as another surprise menu item TBD)! Drop you reservation on us at the bar or via social media inbox or email us speakofthedevilcocktails@gmail.com
URL:https://speakofthedevillorain.com/event/lobster-rolls-by-edacious/
LOCATION:Speak of the Devil\, 201 W 5th St\, Lorain\, OH\, 44052\, United States
ATTACH;FMTTYPE=image/jpeg:https://speakofthedevillorain.com/wp-content/uploads/2025/07/CHURCH-ANNIVERSARY-BIRTHDAY-DESIGN-Template.jpg
END:VEVENT
END:VCALENDAR