BEGIN:VCALENDAR
VERSION:2.0
PRODID:-// - ECPv6.15.20//NONSGML v1.0//EN
CALSCALE:GREGORIAN
METHOD:PUBLISH
X-ORIGINAL-URL:https://speakofthedevillorain.com
X-WR-CALDESC:Events for 
REFRESH-INTERVAL;VALUE=DURATION:PT1H
X-Robots-Tag:noindex
X-PUBLISHED-TTL:PT1H
BEGIN:VTIMEZONE
TZID:America/New_York
BEGIN:DAYLIGHT
TZOFFSETFROM:-0500
TZOFFSETTO:-0400
TZNAME:EDT
DTSTART:20240310T070000
END:DAYLIGHT
BEGIN:STANDARD
TZOFFSETFROM:-0400
TZOFFSETTO:-0500
TZNAME:EST
DTSTART:20241103T060000
END:STANDARD
BEGIN:DAYLIGHT
TZOFFSETFROM:-0500
TZOFFSETTO:-0400
TZNAME:EDT
DTSTART:20250309T070000
END:DAYLIGHT
BEGIN:STANDARD
TZOFFSETFROM:-0400
TZOFFSETTO:-0500
TZNAME:EST
DTSTART:20251102T060000
END:STANDARD
BEGIN:DAYLIGHT
TZOFFSETFROM:-0500
TZOFFSETTO:-0400
TZNAME:EDT
DTSTART:20260308T070000
END:DAYLIGHT
BEGIN:STANDARD
TZOFFSETFROM:-0400
TZOFFSETTO:-0500
TZNAME:EST
DTSTART:20261101T060000
END:STANDARD
END:VTIMEZONE
BEGIN:VEVENT
DTSTART;TZID=America/New_York:20250806T190000
DTEND;TZID=America/New_York:20250806T200000
DTSTAMP:20260420T210916
CREATED:20250702T134518Z
LAST-MODIFIED:20250702T134518Z
UID:2744-1754506800-1754510400@speakofthedevillorain.com
SUMMARY:GIN SCHOOL
DESCRIPTION:Think you know or understand gin? Think again! Gin School will educate you on not only the styles and flavor profile’s of gin\, but also its evolution and history. We will take you through a tasting journey of the 4 styles of the spirit that evolved into the gin that we know today. $20 gets you the flight\, a gin welcome cocktail and the education! RSVP by inboxing us on Facebook\, emailing speakofthedevilcocktails@gmail.com\, or tell your bartender or server that you would like to attend this cool and fun evening with the booze nerds!
URL:https://speakofthedevillorain.com/event/gin-school/
LOCATION:Speak of the Devil\, 201 W 5th St\, Lorain\, OH\, 44052\, United States
ATTACH;FMTTYPE=image/jpeg:https://speakofthedevillorain.com/wp-content/uploads/2025/07/Happy-Fathers-Day1.jpg
END:VEVENT
BEGIN:VEVENT
DTSTART;TZID=America/New_York:20250812T050000
DTEND;TZID=America/New_York:20250812T220000
DTSTAMP:20260420T210916
CREATED:20250702T134721Z
LAST-MODIFIED:20250702T134721Z
UID:2749-1754974800-1755036000@speakofthedevillorain.com
SUMMARY:HIGHBALLS & HOT DOGS 2
DESCRIPTION:Join us in welcoming Cleveland’s Never Say Dive to Lorain as they are taking over our bar for Highball’s & Hot Dogs 2. Last year our crew went east to hoist some highball cocktails\, this year Dive comes west to serve up their brand of cocktail deliciousness AND their famous Dive Dogs! This is one for the ages!
URL:https://speakofthedevillorain.com/event/highballs-hot-dogs-2/
LOCATION:Speak of the Devil\, 201 W 5th St\, Lorain\, OH\, 44052\, United States
ATTACH;FMTTYPE=image/jpeg:https://speakofthedevillorain.com/wp-content/uploads/2025/07/hot-dog.jpg
END:VEVENT
BEGIN:VEVENT
DTSTART;TZID=America/New_York:20250812T170000
DTEND;TZID=America/New_York:20250812T220000
DTSTAMP:20260420T210916
CREATED:20250702T134613Z
LAST-MODIFIED:20250702T134613Z
UID:2747-1755018000-1755036000@speakofthedevillorain.com
SUMMARY:TURNTABLE TUESDAY
DESCRIPTION:Another vinyl nerd night! Join us and our friends from Ship to Shore Books & Music as we set up the turntable and let you pick or play the platters of your choosing! Also\, S2S has a pop up shop under the chandelier for you to peruse and purchase books and music
URL:https://speakofthedevillorain.com/event/turntable-tuesday-19/
LOCATION:Speak of the Devil\, 201 W 5th St\, Lorain\, OH\, 44052\, United States
ATTACH;FMTTYPE=image/jpeg:https://speakofthedevillorain.com/wp-content/uploads/2025/02/MARATHON-BANNER.jpg
END:VEVENT
BEGIN:VEVENT
DTSTART;TZID=America/New_York:20250821T183000
DTEND;TZID=America/New_York:20250821T200000
DTSTAMP:20260420T210916
CREATED:20250702T134836Z
LAST-MODIFIED:20250702T134836Z
UID:2752-1755801000-1755806400@speakofthedevillorain.com
SUMMARY:BOOKS & BREWS
DESCRIPTION:Join us and the Lorain Public Library for Books & Brews! This months discussion: “Year of Wonders: A Novel of the Plague” by Geraldine Brooks
URL:https://speakofthedevillorain.com/event/books-brews-24/
LOCATION:Speak of the Devil\, 201 W 5th St\, Lorain\, OH\, 44052\, United States
ATTACH;FMTTYPE=image/jpeg:https://speakofthedevillorain.com/wp-content/uploads/2024/03/429780136_912590617538637_6219091756627812402_n.jpg
END:VEVENT
BEGIN:VEVENT
DTSTART;TZID=America/New_York:20250823T193000
DTEND;TZID=America/New_York:20250823T223000
DTSTAMP:20260420T210916
CREATED:20250702T134951Z
LAST-MODIFIED:20250702T134951Z
UID:2754-1755977400-1755988200@speakofthedevillorain.com
SUMMARY:ANTHONY SCROFANO
DESCRIPTION:The one and only Anthony Scrofano returns to SOTD!
URL:https://speakofthedevillorain.com/event/anthony-scrofano-14/
LOCATION:Speak of the Devil\, 201 W 5th St\, Lorain\, OH\, 44052\, United States
ATTACH;FMTTYPE=image/jpeg:https://speakofthedevillorain.com/wp-content/uploads/2025/07/Dylan-2.jpg
END:VEVENT
BEGIN:VEVENT
DTSTART;TZID=America/New_York:20250827T170000
DTEND;TZID=America/New_York:20250827T220000
DTSTAMP:20260420T210916
CREATED:20250702T135119Z
LAST-MODIFIED:20250702T135119Z
UID:2757-1756314000-1756332000@speakofthedevillorain.com
SUMMARY:MAI TAI MADNESS: 2ND ANNUAL MAI TAI GLASS RELEASE
DESCRIPTION:We are thrilled to be collaborating once again with our friends at Tiki Underground for our second annual custom and collectible Mai Tai glass (designed once again by Pete Klockau of The Black Lagoon Room) release to kick of Mai Tai Week at Speak of the Devil!
URL:https://speakofthedevillorain.com/event/mai-tai-madness-2nd-annual-mai-tai-glass-release/
LOCATION:Speak of the Devil\, 201 W 5th St\, Lorain\, OH\, 44052\, United States
ATTACH;FMTTYPE=image/jpeg:https://speakofthedevillorain.com/wp-content/uploads/2025/07/Bachelor-party-facebook-image.jpg
END:VEVENT
BEGIN:VEVENT
DTSTART;TZID=America/New_York:20250828T170000
DTEND;TZID=America/New_York:20250828T220000
DTSTAMP:20260420T210916
CREATED:20250702T135202Z
LAST-MODIFIED:20250702T135202Z
UID:2760-1756400400-1756418400@speakofthedevillorain.com
SUMMARY:SUMMER SMOKE
DESCRIPTION:Sticks and stones! Cigars and big rocks all night out on the patio!
URL:https://speakofthedevillorain.com/event/summer-smoke-9/
LOCATION:Speak of the Devil\, 201 W 5th St\, Lorain\, OH\, 44052\, United States
ATTACH;FMTTYPE=image/jpeg:https://speakofthedevillorain.com/wp-content/uploads/2025/04/Cigar.jpg
END:VEVENT
END:VCALENDAR