BEGIN:VCALENDAR
VERSION:2.0
PRODID:-// - ECPv6.15.20//NONSGML v1.0//EN
CALSCALE:GREGORIAN
METHOD:PUBLISH
X-ORIGINAL-URL:https://speakofthedevillorain.com
X-WR-CALDESC:Events for 
REFRESH-INTERVAL;VALUE=DURATION:PT1H
X-Robots-Tag:noindex
X-PUBLISHED-TTL:PT1H
BEGIN:VTIMEZONE
TZID:America/New_York
BEGIN:DAYLIGHT
TZOFFSETFROM:-0500
TZOFFSETTO:-0400
TZNAME:EDT
DTSTART:20240310T070000
END:DAYLIGHT
BEGIN:STANDARD
TZOFFSETFROM:-0400
TZOFFSETTO:-0500
TZNAME:EST
DTSTART:20241103T060000
END:STANDARD
BEGIN:DAYLIGHT
TZOFFSETFROM:-0500
TZOFFSETTO:-0400
TZNAME:EDT
DTSTART:20250309T070000
END:DAYLIGHT
BEGIN:STANDARD
TZOFFSETFROM:-0400
TZOFFSETTO:-0500
TZNAME:EST
DTSTART:20251102T060000
END:STANDARD
BEGIN:DAYLIGHT
TZOFFSETFROM:-0500
TZOFFSETTO:-0400
TZNAME:EDT
DTSTART:20260308T070000
END:DAYLIGHT
BEGIN:STANDARD
TZOFFSETFROM:-0400
TZOFFSETTO:-0500
TZNAME:EST
DTSTART:20261101T060000
END:STANDARD
END:VTIMEZONE
BEGIN:VEVENT
DTSTART;TZID=America/New_York:20250904T170000
DTEND;TZID=America/New_York:20250904T230000
DTSTAMP:20260420T194401
CREATED:20250811T195059Z
LAST-MODIFIED:20250811T195059Z
UID:2768-1757005200-1757026800@speakofthedevillorain.com
SUMMARY:BOURBON HERITAGE WEEK WITH JIM BEAM
DESCRIPTION:Kick off National Bourbon Heritage Month with SOTD and our friends from the James B. Beam Distilling Company. A weekend of Beam cocktails from our celebrated team\, swag from Beam and other fun trinkets and tidbits!
URL:https://speakofthedevillorain.com/event/bourbon-heritage-week-with-jim-beam/
LOCATION:Speak of the Devil\, 201 W 5th St\, Lorain\, OH\, 44052\, United States
ATTACH;FMTTYPE=image/jpeg:https://speakofthedevillorain.com/wp-content/uploads/2025/08/Copy-of-of-templates-flyer-poster-astrology-e-11.jpg
END:VEVENT
BEGIN:VEVENT
DTSTART;TZID=America/New_York:20250905T170000
DTEND;TZID=America/New_York:20250905T235900
DTSTAMP:20260420T194401
CREATED:20250811T195144Z
LAST-MODIFIED:20250811T195144Z
UID:2771-1757091600-1757116740@speakofthedevillorain.com
SUMMARY:BOURBON HERITAGE WEEK WITH JIM BEAM
DESCRIPTION:Kick off National Bourbon Heritage Month with SOTD and our friends from the James B. Beam Distilling Company. A weekend of Beam cocktails from our celebrated team\, swag from Beam and other fun trinkets and tidbits!
URL:https://speakofthedevillorain.com/event/bourbon-heritage-week-with-jim-beam-2/
LOCATION:Speak of the Devil\, 201 W 5th St\, Lorain\, OH\, 44052\, United States
ATTACH;FMTTYPE=image/jpeg:https://speakofthedevillorain.com/wp-content/uploads/2025/08/Copy-of-of-templates-flyer-poster-astrology-e-11.jpg
END:VEVENT
BEGIN:VEVENT
DTSTART;TZID=America/New_York:20250906T190000
DTEND;TZID=America/New_York:20250906T235900
DTSTAMP:20260420T194401
CREATED:20250811T195229Z
LAST-MODIFIED:20250811T195229Z
UID:2773-1757185200-1757203140@speakofthedevillorain.com
SUMMARY:BOURBON HERITAGE WEEK WITH JIM BEAM
DESCRIPTION:Kick off National Bourbon Heritage Month with SOTD and our friends from the James B. Beam Distilling Company. A weekend of Beam cocktails from our celebrated team\, swag from Beam and other fun trinkets and tidbits!
URL:https://speakofthedevillorain.com/event/bourbon-heritage-week-with-jim-beam-3/
LOCATION:Speak of the Devil\, 201 W 5th St\, Lorain\, OH\, 44052\, United States
ATTACH;FMTTYPE=image/jpeg:https://speakofthedevillorain.com/wp-content/uploads/2025/08/Copy-of-of-templates-flyer-poster-astrology-e-11.jpg
END:VEVENT
BEGIN:VEVENT
DTSTART;TZID=America/New_York:20250909T170000
DTEND;TZID=America/New_York:20250909T220000
DTSTAMP:20260420T194401
CREATED:20250811T195351Z
LAST-MODIFIED:20250811T195351Z
UID:2775-1757437200-1757455200@speakofthedevillorain.com
SUMMARY:TURNTABLE TUESDAY
DESCRIPTION:Another night of wax on wax off! Join us and our friends from Ship to Shore Books & Music for a night of analog music! Bring your own vinyl or choose from our carefully curated crates! Buy a new platter from Ship to Shore’s pop up shop under the chandelier!
URL:https://speakofthedevillorain.com/event/turntable-tuesday-20/
LOCATION:Speak of the Devil\, 201 W 5th St\, Lorain\, OH\, 44052\, United States
ATTACH;FMTTYPE=image/jpeg:https://speakofthedevillorain.com/wp-content/uploads/2025/02/MARATHON-BANNER.jpg
END:VEVENT
BEGIN:VEVENT
DTSTART;TZID=America/New_York:20250910T170000
DTEND;TZID=America/New_York:20250910T210000
DTSTAMP:20260420T194401
CREATED:20250903T184041Z
LAST-MODIFIED:20250903T184041Z
UID:2835-1757523600-1757538000@speakofthedevillorain.com
SUMMARY:LOBSTER FEST
DESCRIPTION:Our last hurrah of the summer – LOBSTERFEST 2025! Our dear friends at Edacious are back for one more go around! Lobster rolls\, hot or cold\, and whatever else Chef Gorski comes up with to do with this savory crustacean! We are doing 150 rolls – RESERVATIONS ARE HIGHLY RECOMMENDED!!
URL:https://speakofthedevillorain.com/event/lobster-fest/
LOCATION:Speak of the Devil\, 201 W 5th St\, Lorain\, OH\, 44052\, United States
ATTACH;FMTTYPE=image/jpeg:https://speakofthedevillorain.com/wp-content/uploads/2025/09/CHURCH-ANNIVERSARY-BIRTHDAY-DESIGN-Template.jpg
END:VEVENT
BEGIN:VEVENT
DTSTART;TZID=America/New_York:20250911T183000
DTEND;TZID=America/New_York:20250911T200000
DTSTAMP:20260420T194401
CREATED:20250811T195538Z
LAST-MODIFIED:20250811T195538Z
UID:2777-1757615400-1757620800@speakofthedevillorain.com
SUMMARY:BOOKS & BREWS: THE ONLY PLANE IN THE SKY - AN ORAL HISTORY OF 9/11
DESCRIPTION:Join the best book club around for a 9/11 discussion of Garrett M. Graff’s “The Only Plane in the Sky: An Oral History of 9/11”
URL:https://speakofthedevillorain.com/event/books-brews-the-only-plane-in-the-sky-an-oral-history-of-9-11/
LOCATION:Speak of the Devil\, 201 W 5th St\, Lorain\, OH\, 44052\, United States
ATTACH;FMTTYPE=image/jpeg:https://speakofthedevillorain.com/wp-content/uploads/2024/03/429780136_912590617538637_6219091756627812402_n.jpg
END:VEVENT
BEGIN:VEVENT
DTSTART;TZID=America/New_York:20250913T193000
DTEND;TZID=America/New_York:20250913T223000
DTSTAMP:20260420T194401
CREATED:20250811T195651Z
LAST-MODIFIED:20250902T150746Z
UID:2779-1757791800-1757802600@speakofthedevillorain.com
SUMMARY:DJ WHATEVER
DESCRIPTION:Help us welcome DJ Whatever to SOTD for a night of all vinyl jazzy\, funk\, new soul\, and classic groove!!
URL:https://speakofthedevillorain.com/event/dj-whatever/
LOCATION:Speak of the Devil\, 201 W 5th St\, Lorain\, OH\, 44052\, United States
ATTACH;FMTTYPE=image/jpeg:https://speakofthedevillorain.com/wp-content/uploads/2025/08/Black-Modern-Welcome-to-The-Graduation-Party2.jpg
END:VEVENT
BEGIN:VEVENT
DTSTART;TZID=America/New_York:20250917T190000
DTEND;TZID=America/New_York:20250917T210000
DTSTAMP:20260420T194401
CREATED:20250903T184150Z
LAST-MODIFIED:20250903T184150Z
UID:2838-1758135600-1758142800@speakofthedevillorain.com
SUMMARY:WESTSIDE LO VINYL DROP
DESCRIPTION:It’s the deluxe version vinyl drop for Westside Lo’s “Alignment” album. We will spin the record and you have the opportunity to purchase this very limited release on vinyl!
URL:https://speakofthedevillorain.com/event/westside-lo-vinyl-drop/
LOCATION:Speak of the Devil\, 201 W 5th St\, Lorain\, OH\, 44052\, United States
ATTACH;FMTTYPE=image/jpeg:https://speakofthedevillorain.com/wp-content/uploads/2025/09/Happy-Fathers-Day.jpg
END:VEVENT
BEGIN:VEVENT
DTSTART;TZID=America/New_York:20250918T190000
DTEND;TZID=America/New_York:20250918T220000
DTSTAMP:20260420T194401
CREATED:20250811T195806Z
LAST-MODIFIED:20250811T195806Z
UID:2782-1758222000-1758232800@speakofthedevillorain.com
SUMMARY:COCKTAIL KARAOKE: MOVIE MADNESS (SONGS FROM YOUR FAVORITE MOVIES)
DESCRIPTION:COCKTAIL KARAOKE RETURNS!! Movie Madness – sing your favorite songs from movies!
URL:https://speakofthedevillorain.com/event/cocktail-karaoke-movie-madness-songs-from-your-favorite-movies/
LOCATION:Speak of the Devil\, 201 W 5th St\, Lorain\, OH\, 44052\, United States
ATTACH;FMTTYPE=image/jpeg:https://speakofthedevillorain.com/wp-content/uploads/2025/02/KARAOKE-KHRISTMAS.jpg
END:VEVENT
BEGIN:VEVENT
DTSTART;TZID=America/New_York:20250925T170000
DTEND;TZID=America/New_York:20250925T223000
DTSTAMP:20260420T194401
CREATED:20250811T195916Z
LAST-MODIFIED:20250811T195916Z
UID:2784-1758819600-1758839400@speakofthedevillorain.com
SUMMARY:SUMMER SMOKE
DESCRIPTION:Our last Summer Smoke of the season!! Grab a dream dram from our award winning whiskey list and a hand rolled stick for the final time this year!
URL:https://speakofthedevillorain.com/event/summer-smoke-10/
LOCATION:Speak of the Devil\, 201 W 5th St\, Lorain\, OH\, 44052\, United States
ATTACH;FMTTYPE=image/jpeg:https://speakofthedevillorain.com/wp-content/uploads/2025/04/Cigar.jpg
END:VEVENT
BEGIN:VEVENT
DTSTART;TZID=America/New_York:20250927T193000
DTEND;TZID=America/New_York:20250927T223000
DTSTAMP:20260420T194401
CREATED:20250811T200027Z
LAST-MODIFIED:20250811T200027Z
UID:2786-1759001400-1759012200@speakofthedevillorain.com
SUMMARY:GHANI HARRIS
DESCRIPTION:Ghani Harris returns to Speak of the Devil! Always an amazing night of great music and musicianship!
URL:https://speakofthedevillorain.com/event/ghani-harris-6/
LOCATION:Speak of the Devil\, 201 W 5th St\, Lorain\, OH\, 44052\, United States
ATTACH;FMTTYPE=image/jpeg:https://speakofthedevillorain.com/wp-content/uploads/2025/08/Copy-of-Football-event.jpg
END:VEVENT
END:VCALENDAR