BEGIN:VCALENDAR
VERSION:2.0
PRODID:-// - ECPv6.15.20//NONSGML v1.0//EN
CALSCALE:GREGORIAN
METHOD:PUBLISH
X-ORIGINAL-URL:https://speakofthedevillorain.com
X-WR-CALDESC:Events for 
REFRESH-INTERVAL;VALUE=DURATION:PT1H
X-Robots-Tag:noindex
X-PUBLISHED-TTL:PT1H
BEGIN:VTIMEZONE
TZID:America/New_York
BEGIN:DAYLIGHT
TZOFFSETFROM:-0500
TZOFFSETTO:-0400
TZNAME:EDT
DTSTART:20250309T070000
END:DAYLIGHT
BEGIN:STANDARD
TZOFFSETFROM:-0400
TZOFFSETTO:-0500
TZNAME:EST
DTSTART:20251102T060000
END:STANDARD
BEGIN:DAYLIGHT
TZOFFSETFROM:-0500
TZOFFSETTO:-0400
TZNAME:EDT
DTSTART:20260308T070000
END:DAYLIGHT
BEGIN:STANDARD
TZOFFSETFROM:-0400
TZOFFSETTO:-0500
TZNAME:EST
DTSTART:20261101T060000
END:STANDARD
BEGIN:DAYLIGHT
TZOFFSETFROM:-0500
TZOFFSETTO:-0400
TZNAME:EDT
DTSTART:20270314T070000
END:DAYLIGHT
BEGIN:STANDARD
TZOFFSETFROM:-0400
TZOFFSETTO:-0500
TZNAME:EST
DTSTART:20271107T060000
END:STANDARD
END:VTIMEZONE
BEGIN:VEVENT
DTSTART;TZID=America/New_York:20260307T193000
DTEND;TZID=America/New_York:20260307T223000
DTSTAMP:20260420T115131
CREATED:20260217T172838Z
LAST-MODIFIED:20260217T172838Z
UID:2994-1772911800-1772922600@speakofthedevillorain.com
SUMMARY:DJ TEDDY EISENBERG: GHOST FREQUENCIES
DESCRIPTION:DJ Teddy Eisenberg returns to the stage for an all vinyl set!\nPsych melts into soul.House slides under hip-hop.Jazz ghosts drift through garage rhythms.Something from halfway across the planet lands between two records you have never heard but you now love.\nAll vinyl. All instinct. No algorithms. No safety net.\nIf you were here for Mood Pills\, you already know: this isn’t a playlist — it’s a guided trip.
URL:https://speakofthedevillorain.com/event/dj-teddy-eisenberg-ghost-frequencies/
LOCATION:Speak of the Devil\, 201 W 5th St\, Lorain\, OH\, 44052\, United States
ATTACH;FMTTYPE=image/jpeg:https://speakofthedevillorain.com/wp-content/uploads/2026/02/Virtual-Trivia-Night-Facebook-Post-Template.jpg
END:VEVENT
BEGIN:VEVENT
DTSTART;TZID=America/New_York:20260310T170000
DTEND;TZID=America/New_York:20260310T220000
DTSTAMP:20260420T115131
CREATED:20251231T141343Z
LAST-MODIFIED:20251231T141343Z
UID:2964-1773162000-1773180000@speakofthedevillorain.com
SUMMARY:TURNTABLE TUESDAY
DESCRIPTION:Turntable Tuesday\, when Speak of the Devil and Ship to Shore Books & Music let the records do the talking. Turntable Tuesday is our monthly vinyl night — an easygoing evening built around great music\, good drinks\, and the simple joy of hearing records the way they were meant to be played.\nChoose from our carefully curated crates or BRING YOUR OWN VINYL – we will spin a side! No DJs\, no laptops — just turntables\, needle drops\, and conversation.\nPair the music with our Tuesday Night Cocktail Club offerings and settle in for one of our favorite nights of month
URL:https://speakofthedevillorain.com/event/turntable-tuesday-26/
LOCATION:Speak of the Devil\, 201 W 5th St\, Lorain\, OH\, 44052\, United States
ATTACH;FMTTYPE=image/jpeg:https://speakofthedevillorain.com/wp-content/uploads/2025/09/513972862_1287978036666558_9066481153760055704_n.jpg
END:VEVENT
BEGIN:VEVENT
DTSTART;TZID=America/New_York:20260312T183000
DTEND;TZID=America/New_York:20260312T200000
DTSTAMP:20260420T115131
CREATED:20251231T141503Z
LAST-MODIFIED:20251231T141503Z
UID:2966-1773340200-1773345600@speakofthedevillorain.com
SUMMARY:BOOKS & BREWS: "AMERICAN WOLF" - NATE BLAKESLEE
DESCRIPTION:Join us for our next Books & Brews gathering as we dive into American Wolf\, Nate Blakeslee’s gripping and beautifully reported true story about the return of wolves to Yellowstone National Park—and the cultural\, political\, and emotional battle that followed.\nPart natural history\, part investigative journalism\, American Wolf explores big ideas: conservation\, community\, power\, and what happens when wildness pushes back against modern life. It’s a book that sparks conversation\, differing perspectives\, and thoughtful debate—perfect for a night of good drinks and even better discussion.\nCome read\, sip\, and talk it out with us
URL:https://speakofthedevillorain.com/event/books-brews-american-wolf-nate-blakeslee/
LOCATION:Speak of the Devil\, 201 W 5th St\, Lorain\, OH\, 44052\, United States
ATTACH;FMTTYPE=image/jpeg:https://speakofthedevillorain.com/wp-content/uploads/2024/02/book-club1.jpg
END:VEVENT
BEGIN:VEVENT
DTSTART;TZID=America/New_York:20260313T193000
DTEND;TZID=America/New_York:20260313T223000
DTSTAMP:20260420T115131
CREATED:20251231T141615Z
LAST-MODIFIED:20260216T154121Z
UID:2968-1773430200-1773441000@speakofthedevillorain.com
SUMMARY:JAZZ CABBAGE
DESCRIPTION:Strap in for a night of greasy grooves\, dirty blues\, and beautifully unhinged rhythm as Jazz Cabbage takes over Speak of the Devil.\nRockabilly meets psycho jazz.Swing collides with surf\, stomp\, and snarl.This is music that creeps\, crawls\, shouts\, and shimmies—equal parts back-alley boogie\, midnight lounge\, and downtown fever dream.\nIf you like your jazz twisted\, your rockabilly loud\, and your nights a little dangerous\, this one’s for you. Expect big energy\, wild tempos\, and a room that feels like it might just shake loose from its foundations.\n\nCome early\, grab a drink\, and let Jazz Cabbage take you somewhere strange.
URL:https://speakofthedevillorain.com/event/jazz-cabbage-3/
LOCATION:Speak of the Devil\, 201 W 5th St\, Lorain\, OH\, 44052\, United States
ATTACH;FMTTYPE=image/jpeg:https://speakofthedevillorain.com/wp-content/uploads/2025/12/CHURCH-LIVE-ONLINE-SERMON-TEMPLATE.jpg
END:VEVENT
BEGIN:VEVENT
DTSTART;TZID=America/New_York:20260321T193000
DTEND;TZID=America/New_York:20260321T223000
DTSTAMP:20260420T115131
CREATED:20251231T141719Z
LAST-MODIFIED:20251231T141719Z
UID:2971-1774121400-1774132200@speakofthedevillorain.com
SUMMARY:RAY FLANAGAN
DESCRIPTION:We’re thrilled to welcome back Ray Flanagan to Speak of the Devil.\nLast year marked Ray’s very first appearance at our bar—and wow. With his soulful voice\, honest songwriting\, and deep folk/roots/Americana sensibility\, he didn’t just play a set… he completely won over the room.\nRay’s music lives in that sweet spot between front-porch storytelling and road-worn reflection—songs that feel personal\, timeless\, and quietly powerful. We’re honored to have him back and can’t wait to share another intimate night of music with him and all of you.\nJoin us for an evening of songs\, stories\, and the kind of performance that reminds you why live music matters.
URL:https://speakofthedevillorain.com/event/ray-flanagan-2/
LOCATION:Speak of the Devil\, 201 W 5th St\, Lorain\, OH\, 44052\, United States
ATTACH;FMTTYPE=image/jpeg:https://speakofthedevillorain.com/wp-content/uploads/2025/12/Church-Sunday-Service-Ad.jpg
END:VEVENT
BEGIN:VEVENT
DTSTART;TZID=America/New_York:20260326T190000
DTEND;TZID=America/New_York:20260326T220000
DTSTAMP:20260420T115131
CREATED:20251231T134504Z
LAST-MODIFIED:20251231T134504Z
UID:2962-1774551600-1774562400@speakofthedevillorain.com
SUMMARY:COCKTAIL KARAOKE: SMASH HITS
DESCRIPTION:It’s all killers\, no fillers at Speak of the Devil.\nThis is Smash Hits Karaoke—the biggest\, most well-known songs ever made. The anthems everyone knows by heart\, the choruses the whole room sings back\, the tracks that turn a night out into a full-on moment.\nPop\, rock\, hip-hop\, throwbacks\, modern chart-toppers—if it ruled the radio\, the dance floor\, or your car speakers\, it belongs on this list.\nMassive sing-along favoritesConfidence by cocktailZero deep cuts\, all crowd-pleasers\nGrab the mic\, hit the chorus\, and let the room do the rest
URL:https://speakofthedevillorain.com/event/cocktail-karaoke-smash-hits/
LOCATION:Speak of the Devil\, 201 W 5th St\, Lorain\, OH\, 44052\, United States
ATTACH;FMTTYPE=image/jpeg:https://speakofthedevillorain.com/wp-content/uploads/2025/02/KARAOKE-KHRISTMAS.jpg
END:VEVENT
END:VCALENDAR