BEGIN:VCALENDAR
VERSION:2.0
PRODID:-// - ECPv6.15.20//NONSGML v1.0//EN
CALSCALE:GREGORIAN
METHOD:PUBLISH
X-ORIGINAL-URL:https://speakofthedevillorain.com
X-WR-CALDESC:Events for 
REFRESH-INTERVAL;VALUE=DURATION:PT1H
X-Robots-Tag:noindex
X-PUBLISHED-TTL:PT1H
BEGIN:VTIMEZONE
TZID:America/New_York
BEGIN:DAYLIGHT
TZOFFSETFROM:-0500
TZOFFSETTO:-0400
TZNAME:EDT
DTSTART:20250309T070000
END:DAYLIGHT
BEGIN:STANDARD
TZOFFSETFROM:-0400
TZOFFSETTO:-0500
TZNAME:EST
DTSTART:20251102T060000
END:STANDARD
BEGIN:DAYLIGHT
TZOFFSETFROM:-0500
TZOFFSETTO:-0400
TZNAME:EDT
DTSTART:20260308T070000
END:DAYLIGHT
BEGIN:STANDARD
TZOFFSETFROM:-0400
TZOFFSETTO:-0500
TZNAME:EST
DTSTART:20261101T060000
END:STANDARD
BEGIN:DAYLIGHT
TZOFFSETFROM:-0500
TZOFFSETTO:-0400
TZNAME:EDT
DTSTART:20270314T070000
END:DAYLIGHT
BEGIN:STANDARD
TZOFFSETFROM:-0400
TZOFFSETTO:-0500
TZNAME:EST
DTSTART:20271107T060000
END:STANDARD
END:VTIMEZONE
BEGIN:VEVENT
DTSTART;TZID=America/New_York:20260502T193000
DTEND;TZID=America/New_York:20260502T223000
DTSTAMP:20260420T115151
CREATED:20260417T135226Z
LAST-MODIFIED:20260417T135226Z
UID:3033-1777750200-1777761000@speakofthedevillorain.com
SUMMARY:THE MARTIN KENT JAZZ TRIO
DESCRIPTION:There are few things that fit Speak of the Devil better than a jazz trio on a night out in downtown Lorain.\n\nThe Martin Kent Jazz Trio brings exactly the kind of mood we love around here: cool\, sharp\, timeless jazz that makes the room buzz. It is the sound of good cocktails\, low lights\, conversations at the bar.\n\nWhether you are a serious jazz fan or just looking for a great night out\, Martin Kent and company always deliver one of those nights that feels just a little special.\n\nMusic starts at 7:30pm. Come early\, grab a good seat and settle in.
URL:https://speakofthedevillorain.com/event/the-martin-kent-jazz-trio-3/
LOCATION:Speak of the Devil\, 201 W 5th St\, Lorain\, OH\, 44052\, United States
ATTACH;FMTTYPE=image/jpeg:https://speakofthedevillorain.com/wp-content/uploads/2026/04/a7ed8.jpg
END:VEVENT
BEGIN:VEVENT
DTSTART;TZID=America/New_York:20260506T190000
DTEND;TZID=America/New_York:20260506T200000
DTSTAMP:20260420T115151
CREATED:20260316T205233Z
LAST-MODIFIED:20260316T205233Z
UID:3020-1778094000-1778097600@speakofthedevillorain.com
SUMMARY:BARREL SCHOOL WITH RIVER ROOTS BARREL COMPANY
DESCRIPTION:Join us Wednesday\, May 6 at 7pm at Speak of the Devil for Barrel School with Tim Harnett of River Roots Barrel Company.\n\nRiver Roots is a Cleveland-based boutique spirits company focused on sourcing\, curating\, and bottling premium single-barrel bourbons\, ryes\, and whiskies. Their work lives at the intersection of craft and obsession—finding exceptional barrels\, blending them thoughtfully\, and sometimes giving them new life through secondary finishing.\n\nTim will take us inside the barrel selection process\, sharing how River Roots identifies standout whiskey\, what they look for when choosing barrels\, and how blending and finishing can transform a great spirit into something truly special.\n\nYour $25 ticket gets you settled in with a welcome cocktail\, ½ oz pours of River Roots’ house bourbon and rye\, and a ½ oz pour of a super-premium River Roots selection of your choice to finish things off.\n\nWhether you’re a serious whiskey nerd or just curious how the magic happens between barrel and bottle\, this is a rare chance to hear directly from someone doing the work.\n\nSeats are limited\, RSVP with us via DM on social media\, email speakofthedevilcocktails@gmail.com\, or tell your bartender/server!
URL:https://speakofthedevillorain.com/event/barrel-school-with-river-roots-barrel-company/
LOCATION:Speak of the Devil\, 201 W 5th St\, Lorain\, OH\, 44052\, United States
ATTACH;FMTTYPE=image/png:https://speakofthedevillorain.com/wp-content/uploads/2026/03/Gemini_Generated_Image_veesh7veesh7vees.png
END:VEVENT
BEGIN:VEVENT
DTSTART;TZID=America/New_York:20260509T193000
DTEND;TZID=America/New_York:20260509T223000
DTSTAMP:20260420T115151
CREATED:20260312T213014Z
LAST-MODIFIED:20260312T213014Z
UID:3001-1778355000-1778365800@speakofthedevillorain.com
SUMMARY:MEZZ RECIPE
DESCRIPTION:We’re excited to welcome Ohio musician Mezz Recipe to Speak of the Devil.\nMezz is a one-man groove machine\, building layered soundscapes live using nothing but guitar and a loop pedal. His indie-folk meets lo-fi soul\, with oh so moody blues guitar and atmospheric looping generates an evening of music that drifts between groove\, improvisation\, and late-night mood.
URL:https://speakofthedevillorain.com/event/mezz-recipe/
LOCATION:Speak of the Devil\, 201 W 5th St\, Lorain\, OH\, 44052\, United States
ATTACH;FMTTYPE=image/png:https://speakofthedevillorain.com/wp-content/uploads/2026/03/Gemini_Generated_Image_z1seosz1seosz1se.png
END:VEVENT
BEGIN:VEVENT
DTSTART;TZID=America/New_York:20260512T170000
DTEND;TZID=America/New_York:20260512T220000
DTSTAMP:20260420T115151
CREATED:20260312T213129Z
LAST-MODIFIED:20260312T213129Z
UID:3004-1778605200-1778623200@speakofthedevillorain.com
SUMMARY:TURNTABLE TUESDAY
DESCRIPTION:Turntable Tuesday – we and our friends from Ship to Shore Books & Music let the records do the talking. Turntable Tuesday is our monthly vinyl night — an easygoing evening built around great music\, good drinks\, and the simple joy of hearing records the way they were meant to be played. \nExpect a thoughtfully curated crate of vinyl for you to choose from – or – bring your own vinyl and we will keep things spinning all night. No DJs\, no laptops — just turntables\, needle drops\, and conversation. \nPair the music with our Tuesday Night Cocktail Club offerings and settle in for one of our favorite nights of the month!
URL:https://speakofthedevillorain.com/event/turntable-tuesday-28/
LOCATION:Speak of the Devil\, 201 W 5th St\, Lorain\, OH\, 44052\, United States
ATTACH;FMTTYPE=image/jpeg:https://speakofthedevillorain.com/wp-content/uploads/2025/09/513972862_1287978036666558_9066481153760055704_n.jpg
END:VEVENT
BEGIN:VEVENT
DTSTART;TZID=America/New_York:20260513T170000
DTEND;TZID=America/New_York:20260513T210000
DTSTAMP:20260420T115151
CREATED:20260312T213531Z
LAST-MODIFIED:20260312T213531Z
UID:3006-1778691600-1778706000@speakofthedevillorain.com
SUMMARY:ROSÉ ALL DAY
DESCRIPTION:Join us at Speak of the Devil for Rosé All Day\, an easygoing wine tasting that leans right into the feeling of summer on the horizon. For the evening\, we’ll be pouring a guided flight of four rosé wines from around the world—one each from Oregon\, California\, Portugal\, and South Africa—each offering its own take on what makes this style of wine so refreshing\, versatile\, and beloved.\n\nOur friend Derek Jones from Vintage Wines will be with us to walk everyone through the tasting\, sharing a bit about the regions\, the producers\, and what makes each of these wines unique. Derek always has a great way of making wine approachable and interesting\, whether you’re a longtime rosé fan or just starting to explore it.\n\nThink bright\, lively wines\, good conversation\, and a relaxed evening at the bar as we toast the season that’s just around the corner. If you’ve been craving a little hint of summer\, this might be exactly the way to find it.
URL:https://speakofthedevillorain.com/event/rose-all-day/
LOCATION:Speak of the Devil\, 201 W 5th St\, Lorain\, OH\, 44052\, United States
ATTACH;FMTTYPE=image/jpeg:https://speakofthedevillorain.com/wp-content/uploads/2026/03/image5.jpg
END:VEVENT
BEGIN:VEVENT
DTSTART;TZID=America/New_York:20260514T183000
DTEND;TZID=America/New_York:20260514T200000
DTSTAMP:20260420T115151
CREATED:20260312T213716Z
LAST-MODIFIED:20260312T213716Z
UID:3009-1778783400-1778788800@speakofthedevillorain.com
SUMMARY:BOOKS & BREWS: "KENT STATE" BY JOHN BACKDERF
DESCRIPTION:Join us for the next gathering of Books & Brews\, our laid-back neighborhood book club where good conversation meets a good drink.\n\nThis month we’ll be discussing Kent State — the powerful and deeply researched graphic novel that revisits the tragic events of May 4\, 1970\, when the Ohio National Guard opened fire on students protesting the Vietnam War at Kent State University. Backderf\, an Ohio native and award-winning cartoonist\, brings the story to life with remarkable care\, capturing the tension\, confusion\, and humanity of the moment from multiple perspectives.\nBooks & Brews is always a welcoming\, low-pressure conversation—no lectures\, no homework vibes\, just thoughtful discussion around the table with a room full of curious people.\n\nAnd if books aren’t your thing\, that’s alright too. The bar will be open and doing its usual Thursday night thing\, so you can still swing by for a cocktail and the company.\n\nCome grab a drink\, pull up a chair\, and join the conversation.
URL:https://speakofthedevillorain.com/event/books-brews-kent-state-by-john-backderf/
LOCATION:Speak of the Devil\, 201 W 5th St\, Lorain\, OH\, 44052\, United States
ATTACH;FMTTYPE=image/jpeg:https://speakofthedevillorain.com/wp-content/uploads/2024/03/429780136_912590617538637_6219091756627812402_n.jpg
END:VEVENT
BEGIN:VEVENT
DTSTART;TZID=America/New_York:20260516T193000
DTEND;TZID=America/New_York:20260516T223000
DTSTAMP:20260420T115151
CREATED:20260312T213836Z
LAST-MODIFIED:20260312T213836Z
UID:3011-1778959800-1778970600@speakofthedevillorain.com
SUMMARY:BEN GAGE
DESCRIPTION:Join us for an evening with Ben Gage\, live at Speak of the Devil.\nBen Gage is a songwriter out of Akron\, Ohio\, blending folk guitar and blues harmonica into a warm\, easygoing Americana sound. A few years ago he traded a corporate career for the road\, and since 2021 he’s been touring across the U.S.\, Canada\, and Europe\, building a life around music\, travel\, and a lot more fresh air.\n\nHis songs pull from the places he’s wandered and the people he’s met along the way—road-earned stories delivered with a sense of humor and a love for the simple things.\n\nOn stage\, Ben has a way of making the room feel smaller in the best possible way. He invites everyone to settle in like neighbors\, listen together\, and maybe remember not to take life quite so seriously for a little while.\n\nIt should be a perfect night of music for the room. Come early\, grab a drink\, and stay awhile.
URL:https://speakofthedevillorain.com/event/ben-gage/
LOCATION:Speak of the Devil\, 201 W 5th St\, Lorain\, OH\, 44052\, United States
ATTACH;FMTTYPE=image/png:https://speakofthedevillorain.com/wp-content/uploads/2026/03/Gemini_Generated_Image_wwpfpowwpfpowwpf.png
END:VEVENT
BEGIN:VEVENT
DTSTART;TZID=America/New_York:20260523T193000
DTEND;TZID=America/New_York:20260523T223000
DTSTAMP:20260420T115151
CREATED:20260312T214005Z
LAST-MODIFIED:20260312T214005Z
UID:3014-1779564600-1779575400@speakofthedevillorain.com
SUMMARY:JOE HALL
DESCRIPTION:We’re excited to welcome Joe Hall back to Speak of the Devil for another night of his one-man\, high-energy show.\n\nJoe’s solo set is a 100% live performance\, building songs in real time by looping and layering guitar\, vocals\, and rhythm into mashups that keep the room moving. It’s a creative\, spontaneous style where familiar songs take on new life as they stack and evolve right in front of you.\n\nExpect a heavy dose of ’90s rock and alternative\, mixed with top hits\, a few classics\, and some modern favorites thrown in for good measure.\n\nIt’s the kind of show that feels perfect for the room—good music\, good drinks\, and a Saturday night crowd singing along when the mood strikes.\n\nCome early\, grab a seat at the bar\, and welcome Joe back to West Fifth
URL:https://speakofthedevillorain.com/event/joe-hall-8/
LOCATION:Speak of the Devil\, 201 W 5th St\, Lorain\, OH\, 44052\, United States
ATTACH;FMTTYPE=image/png:https://speakofthedevillorain.com/wp-content/uploads/2026/03/Gemini_Generated_Image_2252392252392252.png
END:VEVENT
BEGIN:VEVENT
DTSTART;TZID=America/New_York:20260528T170000
DTEND;TZID=America/New_York:20260528T220000
DTSTAMP:20260420T115151
CREATED:20260417T135757Z
LAST-MODIFIED:20260417T135757Z
UID:3037-1779987600-1780005600@speakofthedevillorain.com
SUMMARY:SUMMER SMOKE
DESCRIPTION:Summer Smoke is back.\n\nA few nights this summer\, the patio turns into something a little different. Cigars\, cocktails\, good conversation and that perfect kind of warm evening where nobody is in much of a hurry to leave.\n\nWhether you are a serious cigar person or just someone who enjoys a good smoke now and then\, Summer Smoke is all about slowing down for a minute. Grab a drink\, find a seat outside\, light one up and spend a little time with us under the string lights.\n\nWe will have our own cigar selections available along with cocktail pairings and plenty of good company.\n\nSummer nights in Lorain do not last forever. Might as well enjoy them while we can
URL:https://speakofthedevillorain.com/event/summer-smoke-11/
LOCATION:Speak of the Devil\, 201 W 5th St\, Lorain\, OH\, 44052\, United States
ATTACH;FMTTYPE=image/jpeg:https://speakofthedevillorain.com/wp-content/uploads/2025/04/Cigar.jpg
END:VEVENT
END:VCALENDAR