BEGIN:VCALENDAR
VERSION:2.0
PRODID:-// - ECPv6.15.20//NONSGML v1.0//EN
CALSCALE:GREGORIAN
METHOD:PUBLISH
X-ORIGINAL-URL:https://speakofthedevillorain.com
X-WR-CALDESC:Events for 
REFRESH-INTERVAL;VALUE=DURATION:PT1H
X-Robots-Tag:noindex
X-PUBLISHED-TTL:PT1H
BEGIN:VTIMEZONE
TZID:America/New_York
BEGIN:DAYLIGHT
TZOFFSETFROM:-0500
TZOFFSETTO:-0400
TZNAME:EDT
DTSTART:20250309T070000
END:DAYLIGHT
BEGIN:STANDARD
TZOFFSETFROM:-0400
TZOFFSETTO:-0500
TZNAME:EST
DTSTART:20251102T060000
END:STANDARD
BEGIN:DAYLIGHT
TZOFFSETFROM:-0500
TZOFFSETTO:-0400
TZNAME:EDT
DTSTART:20260308T070000
END:DAYLIGHT
BEGIN:STANDARD
TZOFFSETFROM:-0400
TZOFFSETTO:-0500
TZNAME:EST
DTSTART:20261101T060000
END:STANDARD
BEGIN:DAYLIGHT
TZOFFSETFROM:-0500
TZOFFSETTO:-0400
TZNAME:EDT
DTSTART:20270314T070000
END:DAYLIGHT
BEGIN:STANDARD
TZOFFSETFROM:-0400
TZOFFSETTO:-0500
TZNAME:EST
DTSTART:20271107T060000
END:STANDARD
END:VTIMEZONE
BEGIN:VEVENT
DTSTART;TZID=America/New_York:20260422T190000
DTEND;TZID=America/New_York:20260422T200000
DTSTAMP:20260420T102903
CREATED:20260312T212904Z
LAST-MODIFIED:20260312T212904Z
UID:2998-1776884400-1776888000@speakofthedevillorain.com
SUMMARY:FLAVOR SCHOOL
DESCRIPTION:Ever wonder where all that flavor in your cocktail actually comes from?\nNot the booze part — the other stuff.\nThe bitters. The cordials. The syrups. The strange and wonderful liqueurs that turn a good drink into a great one.\n\nThat’s what Flavor School is all about.\n\nWe’re opening the bottle on the ingredients that give cocktails their personality. We’ll taste\, talk\, and explore the bitters\, cordials\, syrups\, and liqueurs that bartenders lean on to build layers of flavor behind the bar.\nIt’s casual\, curious\, and built for anyone who’s ever taken a sip and thought\, “Wait…what is that?”\n\n$20 saves your spot and gets you started with a welcome cocktail to kick things off\n\nGood drinks\, good conversation\, and a little flavor education along the way.\nClass is in session
URL:https://speakofthedevillorain.com/event/flavor-school/
LOCATION:Speak of the Devil\, 201 W 5th St\, Lorain\, OH\, 44052\, United States
ATTACH;FMTTYPE=image/jpeg:https://speakofthedevillorain.com/wp-content/uploads/2026/03/651188027_1516172350513791_8833503778224464934_n.jpg
END:VEVENT
BEGIN:VEVENT
DTSTART;TZID=America/New_York:20260423T190000
DTEND;TZID=America/New_York:20260423T220000
DTSTAMP:20260420T102903
CREATED:20260417T134616Z
LAST-MODIFIED:20260417T135523Z
UID:3026-1776970800-1776981600@speakofthedevillorain.com
SUMMARY:COCKTAIL KARAOKE: GET EMO!
DESCRIPTION:It’s time to get dramatic\, overly sincere\, and maybe scream-sing along to songs that got us all through one heartbreak or another. \nCocktail Karaoke: GET EMO!! lands at Speak of the Devil this week and we are fully leaning into the side parts\, hoodies in July\, and feelings bigger than life itself. \nExpect a night full of pop punk\, emo\, mall goth anthems\, early 2000s heartbreak classics\, and the kind of songs that make you throw one hand in the air and clutch your drink with the other. \nWhether you were team Taking Back Sunday\, My Chemical Romance\, Paramore\, Fall Out Boy\, Dashboard Confessional\, AFI\, Panic!\, or just someone who spent a lot of time dramatically staring out of car windows while listening to sad songs\, this one is for you. \nKaraoke kicks off Thursday night. Bring your friends\, your old band t-shirts\, your unresolved feelings and your best rendition of “I’m Not Okay.” Or\, some other classic stuff you wanna sing! \nBecause around here\, misery loves cocktails.
URL:https://speakofthedevillorain.com/event/cocktail-karaoke-get-emo/
LOCATION:Speak of the Devil\, 201 W 5th St\, Lorain\, OH\, 44052\, United States
ATTACH;FMTTYPE=image/jpeg:https://speakofthedevillorain.com/wp-content/uploads/2025/02/KARAOKE-KHRISTMAS.jpg
END:VEVENT
BEGIN:VEVENT
DTSTART;TZID=America/New_York:20260425T193000
DTEND;TZID=America/New_York:20260425T223000
DTSTAMP:20260420T102903
CREATED:20260213T151850Z
LAST-MODIFIED:20260213T151850Z
UID:2989-1777145400-1777156200@speakofthedevillorain.com
SUMMARY:THE EVAN MICHAEL PALERMO JAZZ TRIO
DESCRIPTION:The EMP Trio (Evan Michael Palermo\, Luca Albano\, and Thomas Johnston) is an award-winning\, Cleveland-based jazz fusion group recognized as the “Best Jazz” artist at the 2025 Cleveland Music Awards. Originating from Bowling Green State University\, they blend jazz\, funk\, hip-hop\, and metal\, performing original compositions and modern takes on standards
URL:https://speakofthedevillorain.com/event/the-evan-michael-palermo-jazz-trio/
LOCATION:Speak of the Devil\, 201 W 5th St\, Lorain\, OH\, 44052\, United States
ATTACH;FMTTYPE=image/jpeg:https://speakofthedevillorain.com/wp-content/uploads/2026/02/Online-Music-Show-Facebook-Shared-Image.jpg
END:VEVENT
BEGIN:VEVENT
DTSTART;TZID=America/New_York:20260429T170000
DTEND;TZID=America/New_York:20260429T220000
DTSTAMP:20260420T102903
CREATED:20260417T134951Z
LAST-MODIFIED:20260417T134951Z
UID:3030-1777482000-1777500000@speakofthedevillorain.com
SUMMARY:THE DEVIL YOU KNOW- A: NOAH RETURNS!
DESCRIPTION:For one night only\, Noah is back behind the stick at Speak of the Devil. \nIf you spent any time at the bar during Noah’s run here\, you already know what kind of night this is going to be: great cocktails\, familiar faces\, a little craziness\, a lot of laughs\, and some of that strange SOTD magic! \nWe are very excited to welcome Noah back home to the old neighborhood bar for a guest shift full of dope drinks and even better conversation. Come grab a seat\, say hello\, let Noah make you something delicious\, and help us make this one feel like a proper reunion. \nThe Devil You Know: Noah Returns.
URL:https://speakofthedevillorain.com/event/the-devil-you-know-a-noah-returns/
LOCATION:Speak of the Devil\, 201 W 5th St\, Lorain\, OH\, 44052\, United States
ATTACH;FMTTYPE=image/jpeg:https://speakofthedevillorain.com/wp-content/uploads/2026/04/6c7tc.jpg
END:VEVENT
END:VCALENDAR